Workbook
Name Z_A6AA0E88_0E45_4814_B902_F1105CB400F0_.wvu.Cols: Bilanz_pro_h_pro_m²!$S:$S
Name Z_A6AA0E88_0E45_4814_B902_F1105CB400F0_.wvu.Cols: Planungsübersicht!$A:$A
Name Z_A6AA0E88_0E45_4814_B902_F1105CB400F0_.wvu.FilterData: 'Chronologische Liste'!$B$5:$H$95
Name Z_A6AA0E88_0E45_4814_B902_F1105CB400F0_.wvu.PrintArea: 'CO2-Schulbilanz'!$B$2:$R$26
Name Z_A6AA0E88_0E45_4814_B902_F1105CB400F0_.wvu.PrintArea: Energieverbräuche!$B$2:$Q$22
Name Z_A6AA0E88_0E45_4814_B902_F1105CB400F0_.wvu.PrintArea: Planungsübersicht!$B$2:$K$277
Name Z_A6AA0E88_0E45_4814_B902_F1105CB400F0_.wvu.Rows: Bilanz_pro_h_pro_m²!$30:$31,Bilanz_pro_h_pro_m²!$33:$43,Bilanz_pro_h_pro_m²!$45:$47,Bilanz_pro_h_pro_m²!$49:$49
Name Z_A6AA0E88_0E45_4814_B902_F1105CB400F0_.wvu.Rows: 'CO2-Schulbilanz'!$15:$15

Sheet Planungsübersicht
H1: zukünftiger Termin | I1: umgesetzt | J1: wird laufend umgesetzt | K1: in Umsetzung (Anfang) | L1: in Umsetzung (Mitte) | M1: in Umsetzung (Ende) | N1: bisher nicht umgesetzt | O1: Umsetzung nicht möglich
D3: Planungsübersicht | E3: 2026
D4: Schule Müssenredder | F4: Stand: | G4: 46276
D6: Pädagogische Ziele:
D7: Unser pädagogisches Ziel ist der Erwerb von Handlungskompetenzen zum Thema Klimaschutz in der gesamten Schulgemeinschaft. | I7: =IF(I$8="kurzfristig",IF(H7="","Übersicht CO2-Reduktionen",""),"") | J7: =IF(J$8="kurzfristig",IF(I7="","Übersicht CO2-Reduktionen",""),"") | K7: =IF(K$8="kurzfristig",IF(J7="","Übersicht CO2-Reduktionen",""),"") | L7: =IF(L$8="kurzfristig",IF(K7="","Übersicht CO2-Reduktionen",""),"") | M7: =IF(M$8="kurzfristig",IF(L7="","Übersicht CO2-Reduktionen",""),"") | N7: =IF(N$8="kurzfristig",IF(M7="","Übersicht CO2-Reduktionen",""),"") | O7: =IF(O$8="kurzfristig",IF(N7="","Übersicht CO2-Reduktionen",""),"") -> Übersicht CO2-Reduktionen | P7: =IF(P$8="kurzfristig",IF(O7="","Übersicht CO2-Reduktionen",""),"") | ... Y7: =IF(Y$8="kurzfristig",IF(X7="","Übersicht CO2-Reduktionen",""),"") | Z7: =IF(Z8="kurzfristig","Übersicht CO2-Reduktionen","")
I8: =IF((I9-$E$3-2)<-1,"Vergangenheit",IF((I9-$E$3-2)<1,"kurzfristig",IF((I9-$E$3-2)<3,"mittelfristig","langfristig"))) -> Vergangenheit | J8: =IF((J9-$E$3-2)<-1,"Vergangenheit",IF((J9-$E$3-2)<1,"kurzfristig",IF((J9-$E$3-2)<3,"mittelfristig","langfristig"))) -> Vergangenheit | K8: =IF((K9-$E$3-2)<-1,"Vergangenheit",IF((K9-$E$3-2)<1,"kurzfristig",IF((K9-$E$3-2)<3,"mittelfristig","langfristig"))) -> Vergangenheit | L8: =IF((L9-$E$3-2)<-1,"Vergangenheit",IF((L9-$E$3-2)<1,"kurzfristig",IF((L9-$E$3-2)<3,"mittelfristig","langfristig"))) -> Vergangenheit | M8: =IF((M9-$E$3-2)<-1,"Vergangenheit",IF((M9-$E$3-2)<1,"kurzfristig",IF((M9-$E$3-2)<3,"mittelfristig","langfristig"))) -> Vergangenheit | N8: =IF((N9-$E$3-2)<-1,"Vergangenheit",IF((N9-$E$3-2)<1,"kurzfristig",IF((N9-$E$3-2)<3,"mittelfristig","langfristig"))) -> Vergangenheit | O8: =IF((O9-$E$3-2)<-1,"Vergangenheit",IF((O9-$E$3-2)<1,"kurzfristig",IF((O9-$E$3-2)<3,"mittelfristig","langfristig"))) -> kurzfristig | P8: =IF((P9-$E$3-2)<0,"Vergangenheit",IF((P9-$E$3-2)<1,"kurzfristig",IF((P9-$E$3-2)<3,"mittelfristig","langfristig"))) -> mittelfristig | Q8: =IF((Q9-$E$3-2)<0,"Vergangenheit",IF((Q9-$E$3-2)<1,"kurzfristig",IF((Q9-$E$3-2)<3,"mittelfristig","langfristig"))) -> langfristig | R8: =IF((R9-$E$3-2)<0,"Vergangenheit",IF((R9-$E$3-2)<1,"kurzfristig",IF((R9-$E$3-2)<3,"mittelfristig","langfristig"))) -> langfristig | S8: =IF((S9-$E$3-2)<0,"Vergangenheit",IF((S9-$E$3-2)<1,"kurzfristig",IF((S9-$E$3-2)<3,"mittelfristig","langfristig"))) -> langfristig | T8: =IF((T9-$E$3-2)<0,"Vergangenheit",IF((T9-$E$3-2)<1,"kurzfristig",IF((T9-$E$3-2)<3,"mittelfristig","langfristig"))) -> langfristig | U8: =IF((U9-$E$3-2)<0,"Vergangenheit",IF((U9-$E$3-2)<1,"kurzfristig",IF((U9-$E$3-2)<3,"mittelfristig","langfristig"))) -> langfristig | V8: =IF((V9-$E$3-2)<0,"Vergangenheit",IF((V9-$E$3-2)<1,"kurzfristig",IF((V9-$E$3-2)<3,"mittelfristig","langfristig"))) -> langfristig | W8: =IF((W9-$E$3-2)<0,"Vergangenheit",IF((W9-$E$3-2)<1,"kurzfristig",IF((W9-$E$3-2)<3,"mittelfristig","langfristig"))) -> langfristig | ... Z8: =IF((Z9-$E$3-2)<0,"Vergangenheit",IF((Z9-$E$3-2)<1,"kurzfristig",IF((Z9-$E$3-2)<3,"mittelfristig","langfristig"))) -> langfristig
H9: Handlungsfeld | I9: 2011 | J9: =I9+3 -> 2014 | K9: 2020 | L9: =ODD(K9)+1 -> 2022 | M9: =L9+2 -> 2024 | N9: =M9+2 -> 2026 | O9: =N9+2 -> 2028 | P9: =O9+2 -> 2030 | Q9: =P9+2 -> 2032 | R9: =Q9+2 -> 2034 | S9: =R9+2 -> 2036 | T9: =S9+2 -> 2038 | ... Z9: =Y9+2 -> 2050
D10: Planungsziele: | H10: übergreifend | I10: =IF(I27=0,"",I27) | J10: =IF(J27=0,"",J27) | K10: =IF(K27=0,"",K27) | L10: =IF(L27=0,"",L27) | M10: =IF(M27=0,"",M27) | N10: =IF(N27=0,"",N27) | O10: =IF(O27=0,"",O27) | P10: =IF(P27=0,"",P27) | ... Z10: =IF(Z27=0,"",Z27)
D11: Wir senken unsere CO2-Emissionen bis 2030 um | G11: 0.37894955 | H11: Wärme | I11: =IF(I69=0,"",I69) -> 29300 | J11: =IF(J69=0,"",J69) -> 36800 | K11: =IF(K69=0,"",K69) -> 38300 | L11: =IF(L69=0,"",L69) -> 38300 | M11: =IF(M69=0,"",M69) -> 38300 | N11: =IF(N69=0,"",N69) -> 38300 | O11: =IF(O69=0,"",O69) -> 38300 | P11: =IF(P69=0,"",P69) -> 27000 | ... Z11: =IF(Z69=0,"",Z69) -> 27000
D12: Wir senken unsere CO2-Emissionen bis 2050 um | G12: 0.58642281 | H12: Strom | I12: =IF(I119=0,"",I119) -> 8800 | J12: =IF(J119=0,"",J119) -> 9800 | K12: =IF(K119=0,"",K119) -> 9800 | L12: =IF(L119=0,"",L119) -> 9800 | M12: =IF(M119=0,"",M119) -> 9800 | N12: =IF(N119=0,"",N119) -> 9800 | O12: =IF(O119=0,"",O119) -> 9800 | P12: =IF(P119=0,"",P119) -> 9800 | ... Z12: =IF(Z119=0,"",Z119) -> 9800
D13: Das Ausgangsjahr für die Berechnung ist: | G13: 2007 | H13: Abfall | I13: =IF(I155=0,"",I155) | J13: =IF(J155=0,"",J155) -> 6200 | K13: =IF(K155=0,"",K155) -> 6200 | L13: =IF(L155=0,"",L155) -> 6200 | M13: =IF(M155=0,"",M155) -> 6200 | N13: =IF(N155=0,"",N155) -> 6200 | O13: =IF(O155=0,"",O155) -> 6200 | P13: =IF(P155=0,"",P155) -> 6200 | ... Z13: =IF(Z155=0,"",Z155) -> 6200
D14: Ausgangslage: | H14: Beschaffung | I14: =IF(I195=0,"",I195) -> 50 | J14: =IF(J195=0,"",J195) -> 50 | K14: =IF(K195=0,"",K195) -> 50 | L14: =IF(L195=0,"",L195) -> 50 | M14: =IF(M195=0,"",M195) -> 50 | N14: =IF(N195=0,"",N195) -> 50 | O14: =IF(O195=0,"",O195) -> 50 | P14: =IF(P195=0,"",P195) -> 50 | ... Z14: =IF(Z195=0,"",Z195) -> 50
D15: ='CO2-Schulbilanz'!A27 -> CO2-Emissionen für Strom, Heizenergie, | G15: ='CO2-Schulbilanz'!E8 -> 142523.2 | H15: Ernährung | I15: =IF(I231=0,"",I231) -> 1250 | J15: =IF(J231=0,"",J231) -> 1250 | K15: =IF(K231=0,"",K231) -> 6800 | L15: =IF(L231=0,"",L231) -> 6800 | M15: =IF(M231=0,"",M231) -> 6800 | N15: =IF(N231=0,"",N231) -> 6800 | O15: =IF(O231=0,"",O231) -> 6800 | P15: =IF(P231=0,"",P231) -> 6800 | ... Z15: =IF(Z231=0,"",Z231) -> 6800
D16: im Jahr: | G16: =G13 -> 2007 | H16: Mobilität | I16: =IF(I267=0,"",I267) | J16: =IF(J267=0,"",J267) | K16: =IF(K267=0,"",K267) | L16: =IF(L267=0,"",L267) | M16: =IF(M267=0,"",M267) | N16: =IF(N267=0,"",N267) | O16: =IF(O267=0,"",O267) | P16: =IF(P267=0,"",P267) | ... Z16: =IF(Z267=0,"",Z267)
D17: Planungsübersicht | H17: Prognose nach Planung | I17: =-SUM(I10:I16) -> -39400 | J17: =-SUM(J10:J16) -> -54100 | K17: =-SUM(K10:K16) -> -61150 | L17: =-SUM(L10:L16) -> -61150 | M17: =-SUM(M10:M16) -> -61150 | N17: =-SUM(N10:N16) -> -61150 | O17: =-SUM(O10:O16) -> -61150 | P17: =-SUM(P10:P16) -> -49850 | ... Z17: =-SUM(Z10:Z16) -> -49850
D18: In der nachfolgenden Übersicht werden für jedes Handlungsfeld die geplanten Maßnahmen mit den jeweiligen Zeitrahmen und Verantwortlichkeiten aufgeführt. | I18: =I17/$G$15 -> -0.27644622 | J18: =J17/$G$15 -> -0.37958733 | K18: =K17/$G$15 -> -0.42905296 | L18: =L17/$G$15 -> -0.42905296 | M18: =M17/$G$15 -> -0.42905296 | N18: =N17/$G$15 -> -0.42905296 | O18: =O17/$G$15 -> -0.42905296 | P18: =P17/$G$15 -> -0.34976762 | ... Z18: =Z17/$G$15 -> -0.34976762
H19: Soll nach Reduktionspfad | I19: =HLOOKUP(I9,'CO2-Schulbilanz'!$F$6:$AV$13,7,0) -> -11331.116 | J19: =HLOOKUP(J9,'CO2-Schulbilanz'!$F$6:$AV$13,7,0) -> -19234.242 | K19: =HLOOKUP(K9,'CO2-Schulbilanz'!$F$6:$AV$13,7,0) -> -33640.901 | L19: =HLOOKUP(L9,'CO2-Schulbilanz'!$F$6:$AV$13,7,0) -> -38058.8 | M19: =HLOOKUP(M9,'CO2-Schulbilanz'!$F$6:$AV$13,7,0) -> -42297.442 | N19: =HLOOKUP(N9,'CO2-Schulbilanz'!$F$6:$AV$13,7,0) -> -46364.102 | O19: =HLOOKUP(O9,'CO2-Schulbilanz'!$F$6:$AV$13,7,0) -> -50265.756 | P19: =HLOOKUP(P9,'CO2-Schulbilanz'!$F$6:$AV$13,7,0) -> -54009.102 | ... Z19: =HLOOKUP(Z9,'CO2-Schulbilanz'!$F$6:$AV$13,7,0) -> -83578.854
I20: =I19/$G$15 -> -0.079503659 | J20: =J19/$G$15 -> -0.13495517 | K20: =K19/$G$15 -> -0.23603807 | L20: =L19/$G$15 -> -0.26703582 | M20: =M19/$G$15 -> -0.29677584 | N20: =N19/$G$15 -> -0.32530916 | O20: =O19/$G$15 -> -0.35268473 | P20: =P19/$G$15 -> -0.37894955 | ... Z20: =Z19/$G$15 -> -0.58642281
D23: Handlungsfeldübergreifender Bereich
D24: Unsere Ziele in diesem Bereich sind …
C25: Nr. | D25: Maßnahme | E25: Termin (Beginn der Umsetzung) | F25: Status der Umsetzung | G25: verantwortlich | H25: Akteure für die Umsetzung | I25: =IF(I$8="kurzfristig","Ziele CO2 & Kompetenzen","") | J25: =IF(J$8="kurzfristig","Ziele CO2 & Kompetenzen","") | K25: =IF(K$8="kurzfristig","Ziele CO2 & Kompetenzen","") | L25: =IF(L$8="kurzfristig","Ziele CO2 & Kompetenzen","") | M25: =IF(M$8="kurzfristig","Ziele CO2 & Kompetenzen","") | N25: =IF(N$8="kurzfristig","Ziele CO2 & Kompetenzen","") | O25: =IF(O$8="kurzfristig","Ziele CO2 & Kompetenzen","") -> Ziele CO2 & Kompetenzen | P25: =IF(P$8="kurzfristig","Ziele CO2 & Kompetenzen","") | ... Z25: =IF(Z$8="kurzfristig","Ziele CO2 & Kompetenzen","")
I26: =$I$9 -> 2011 | J26: =J$9 -> 2014 | K26: =K$9 -> 2020 | L26: =L$9 -> 2022 | M26: =L26+2 -> 2024 | N26: =M26+2 -> 2026 | O26: =N26+2 -> 2028 | P26: =O26+2 -> 2030 | Q26: =P26+2 -> 2032 | R26: =Q26+2 -> 2034 | S26: =R26+2 -> 2036 | T26: =S26+2 -> 2038 | ... Z26: =Y26+2 -> 2050
H27: Summen: | I27: =SUM(I28:I57) -> 0 | J27: =SUM(J28:J57) -> 0 | K27: =SUM(K28:K57) -> 0 | L27: =SUM(L28:L57) -> 0 | M27: =SUM(M28:M57) -> 0 | N27: =SUM(N28:N57) -> 0 | O27: =SUM(O28:O57) -> 0 | P27: =SUM(P28:P57) -> 0 | ... Z27: =SUM(Z28:Z57) -> 0
C28: Ü1 | D28: jährlicher Klimaschutztag mit Themenschwerpunkten | E28: 2012 | F28: wird laufend umgesetzt | G28: Frau Schmalenbach | H28: Klimagruppe, Kollegium, Eltern, außerschulische Einrichtungen | J28: =I28 -> 0 | K28: =J28 -> 0 | L28: =K28 -> 0 | M28: =L28 -> 0 | N28: =M28 -> 0 | O28: =N28 -> 0 | P28: =O28 -> 0 | Q28: =P28 -> 0 | ... Z28: =Y28 -> 0
I29: 80% der Schulgemeinschaft ist sensibilisiert | J29: =I29 -> 80% der Schulgemeinschaft ist sensibilisiert | K29: =J29 -> 80% der Schulgemeinschaft ist sensibilisiert | L29: =K29 -> 80% der Schulgemeinschaft ist sensibilisiert | M29: =L29 -> 80% der Schulgemeinschaft ist sensibilisiert | N29: =M29 -> 80% der Schulgemeinschaft ist sensibilisiert | O29: =N29 -> 80% der Schulgemeinschaft ist sensibilisiert | P29: =O29 -> 80% der Schulgemeinschaft ist sensibilisiert | Q29: =P29 -> 80% der Schulgemeinschaft ist sensibilisiert | ... Z29: =Y29 -> 80% der Schulgemeinschaft ist sensibilisiert
C30: Ü2 | D30: Umgang mit der Klimakiste | E30: 2010 | F30: wird laufend umgesetzt | G30: Frau Twesten | H30: Klasse 3/4 | I30: 0 | J30: =I30 -> 0 | L30: =K30 -> 0 | M30: =L30 -> 0 | N30: =M30 -> 0 | O30: =N30 -> 0 | P30: =O30 -> 0 | Q30: =P30 -> 0 | R30: =Q30 -> 0 | S30: =R30 -> 0 | ... Z30: =Y30 -> 0
I31: die SU-Lehrerinnen haben erste Unterrichtserfahrungen mit der Kiste gesammelt | J31: einige Klassen und der WPK "Klimaforscher" haben mit der Klimakiste gearbeitet | K31: alle Klassen haben mit der Klimakiste gearbeitet | L31: =K31 -> alle Klassen haben mit der Klimakiste gearbeitet | M31: =L31 -> alle Klassen haben mit der Klimakiste gearbeitet | N31: =M31 -> alle Klassen haben mit der Klimakiste gearbeitet | O31: =N31 -> alle Klassen haben mit der Klimakiste gearbeitet | P31: =O31 -> alle Klassen haben mit der Klimakiste gearbeitet | Q31: =P31 -> alle Klassen haben mit der Klimakiste gearbeitet | R31: =Q31 -> alle Klassen haben mit der Klimakiste gearbeitet | S31: =R31 -> alle Klassen haben mit der Klimakiste gearbeitet | ... Z31: =Y31 -> alle Klassen haben mit der Klimakiste gearbeitet
C32: Ü3 | D32: Durchführung der Energie- und Klima- Unterrichtseinheit in Kl. 4, neu seit 2 Jahren durch Klimabotschafter des HHG, Lesekiste und andere Medien zum Thema in der Schülerbücherei, Klimakiste, Besuch von Experten in der Schule Kl. 3/4 | E32: 2010 | F32: wird laufend umgesetzt | G32: Frau Twesten | H32: Klasse 3/4 und am Klimatag/Umwelttag alle Stufen | I32: 0 | J32: =I32 -> 0 | K32: =J32 -> 0 | L32: =K32 -> 0 | M32: =L32 -> 0 | N32: =M32 -> 0 | O32: =N32 -> 0 | P32: =O32 -> 0 | Q32: =P32 -> 0 | ... Z32: =Y32 -> 0
J33: =I33 | K33: =J33 | L33: =K33 | M33: =L33 | N33: =M33 | O33: =N33 | P33: =O33 | Q33: =P33 | ... Z33: =Y33
C34: Ü4 | D34: Einweihung der Photovoltaikanlage | E34: 2010 | F34: umgesetzt | G34: Klimagruppe | H34: Klimabotschafter und Viertklässler aus WP | I34: 0 | J34: =I34 -> 0 | K34: =J34 -> 0 | L34: =K34 -> 0 | M34: =L34 -> 0 | N34: =M34 -> 0 | O34: =N34 -> 0 | P34: =O34 -> 0 | Q34: =P34 -> 0 | ... Z34: =Y34 -> 0
J35: =I35 | K35: =J35 | L35: =K35 | M35: =L35 | N35: =M35 | O35: =N35 | P35: =O35 | Q35: =P35 | ... Z35: =Y35
C36: Ü5 | D36: Installation und Nutzung einer kindgerechten Visualisierungstafel für die Photovoltaik-Anlage im Unterricht | E36: 2011 | F36: umgesetzt | G36: Frau Boltz | H36: Frau Boltz, Schülerexperten und Klimaforscher sowie Klassen- und Fachlehrerinnen als Multiplikatoren | I36: 0 | J36: =I36 -> 0 | K36: =J36 -> 0 | L36: =K36 -> 0 | M36: =L36 -> 0 | N36: =M36 -> 0 | O36: =N36 -> 0 | P36: =O36 -> 0 | Q36: =P36 -> 0 | ... Z36: =Y36 -> 0
J37: 80% der SchülerInnen kennen die Tafel | K37: =J37 -> 80% der SchülerInnen kennen die Tafel | L37: =K37 -> 80% der SchülerInnen kennen die Tafel | M37: =L37 -> 80% der SchülerInnen kennen die Tafel | N37: =M37 -> 80% der SchülerInnen kennen die Tafel | O37: =N37 -> 80% der SchülerInnen kennen die Tafel | P37: =O37 -> 80% der SchülerInnen kennen die Tafel | Q37: =P37 -> 80% der SchülerInnen kennen die Tafel | R37: =Q37 -> 80% der SchülerInnen kennen die Tafel | ... Z37: =Y37 -> 80% der SchülerInnen kennen die Tafel
C38: Ü6 | D38: Einbindung der TSG Bergedorf bei der Umsetzung des Klimaplans | E38: 2012 | F38: in Umsetzung (Mitte) | G38: Frau Bodo (GBS-Koordinatorin) | H38: SL?, Frau Bodo, GBS-Leitung | I38: 0 | J38: =I38 -> 0 | K38: =J38 -> 0 | L38: =K38 -> 0 | M38: =L38 -> 0 | N38: =M38 -> 0 | O38: =N38 -> 0 | P38: =O38 -> 0 | Q38: =P38 -> 0 | ... Z38: =Y38 -> 0
J39: =I39 | K39: =J39 | L39: =K39 | M39: =L39 | N39: =M39 | O39: =N39 | P39: =O39 | Q39: =P39 | ... Z39: =Y39
C40: Ü7 | D40: neu 2014: Gemeinsame Umsetzung (Hort und Schule) des Regelwerks zum Klimaschutz | E40: 2014 | F40: in Umsetzung (Mitte) | G40: Frau Bodo (GBS-Koordinatorin) | H40: Klassenlehrerinnen und Hortmitarbeiter, Schüler | I40: 0 | J40: =I40 -> 0 | K40: =J40 -> 0 | L40: =K40 -> 0 | M40: =L40 -> 0 | N40: =M40 -> 0 | O40: =N40 -> 0 | P40: =O40 -> 0 | Q40: =P40 -> 0 | ... Z40: =Y40 -> 0
J41: =I41 | K41: =J41 | L41: =K41 | M41: =L41 | N41: =M41 | O41: =N41 | P41: =O41 | Q41: =P41 | ... Z41: =Y41
C42: Ü8 | D42: neu 2014: Klimacoach unterstützt den Hm im Bereich Wärme | E42: 2014 | F42: in Umsetzung (Mitte) | G42: Schulleitung, Herr Jobst | H42: Herr Jobst, Herr Scherer (SBH) | I42: 0 | J42: =I42 -> 0 | K42: =J42 -> 0 | L42: =K42 -> 0 | M42: =L42 -> 0 | N42: =M42 -> 0 | O42: =N42 -> 0 | P42: =O42 -> 0 | Q42: =P42 -> 0 | ... Z42: =Y42 -> 0
I43: die Ventile sind anhand der Werte des hydr.Abgleichs eingestellt | J43: Nach Tabellenkorrektur sind alle Ventile überprüft und neu eingestellt | K43: =J43 -> Nach Tabellenkorrektur sind alle Ventile überprüft und neu eingestellt | L43: =K43 -> Nach Tabellenkorrektur sind alle Ventile überprüft und neu eingestellt | M43: =L43 -> Nach Tabellenkorrektur sind alle Ventile überprüft und neu eingestellt | N43: =M43 -> Nach Tabellenkorrektur sind alle Ventile überprüft und neu eingestellt | O43: =N43 -> Nach Tabellenkorrektur sind alle Ventile überprüft und neu eingestellt | P43: =O43 -> Nach Tabellenkorrektur sind alle Ventile überprüft und neu eingestellt | Q43: =P43 -> Nach Tabellenkorrektur sind alle Ventile überprüft und neu eingestellt | R43: =Q43 -> Nach Tabellenkorrektur sind alle Ventile überprüft und neu eingestellt | ... Z43: =Y43 -> Nach Tabellenkorrektur sind alle Ventile überprüft und neu eingestellt
C44: Ü9 | D44: Treffen mit CvO | E44: 2011 | F44: in Umsetzung (Ende) | G44: Frau Twesten | H44: Klimabeauftragte beider Schulen (CvO, MüRe) und Hausmeister Herr Herzog und Herr Jobst sowie 1 Person von 50/50 bzw. LI/ Herr von Kleist | I44: 0 | J44: =I44 -> 0 | K44: =J44 -> 0 | L44: =K44 -> 0 | M44: =L44 -> 0 | N44: =M44 -> 0 | O44: =N44 -> 0 | P44: =O44 -> 0 | Q44: =P44 -> 0 | ... Z44: =Y44 -> 0
J45: =I45 | K45: =J45 | L45: =K45 | M45: =L45 | N45: =M45 | O45: =N45 | P45: =O45 | Q45: =P45 | ... Z45: =Y45
C46: Ü10 | D46: Pflanzen von Klimabäumen | E46: 2016 | F46: wird laufend umgesetzt | G46: Frau Schmalenbach | H46: Schulgemeinschaft | I46: 0 | J46: =I46 -> 0 | K46: =J46 -> 0 | L46: =K46 -> 0 | M46: =L46 -> 0 | N46: =M46 -> 0 | O46: =N46 -> 0 | P46: =O46 -> 0 | Q46: =P46 -> 0 | ... Z46: =Y46 -> 0
J47: =I47 | K47: =J47 | L47: =K47 | M47: =L47 | N47: =M47 | O47: =N47 | P47: =O47 | Q47: =P47 | ... Z47: =Y47
C48: Ü11 | D48: Förderung der Biodiversität | E48: 2017 | F48: wird laufend umgesetzt | G48: Frau Petersen | H48: Frau Twesten, Frau Schmalenbach, Frau Petersen, Frau Wagner (Imkerin) | I48: 0 | J48: =I48 -> 0 | K48: =J48 -> 0 | L48: =K48 -> 0 | M48: =L48 -> 0 | N48: =M48 -> 0 | O48: =N48 -> 0 | P48: =O48 -> 0 | Q48: =P48 -> 0 | ... Z48: =Y48 -> 0
J49: =I49 | K49: =J49 | L49: =K49 | M49: =L49 | N49: =M49 | O49: =N49 | P49: =O49 | Q49: =P49 | ... Z49: =Y49
C50: Ü12 | I50: 0 | J50: =I50 -> 0 | K50: =J50 -> 0 | L50: =K50 -> 0 | M50: =L50 -> 0 | N50: =M50 -> 0 | O50: =N50 -> 0 | P50: =O50 -> 0 | Q50: =P50 -> 0 | ... Z50: =Y50 -> 0
J51: =I51 | K51: =J51 | L51: =K51 | M51: =L51 | N51: =M51 | O51: =N51 | P51: =O51 | Q51: =P51 | ... Z51: =Y51
C52: Ü13 | I52: 0 | J52: =I52 -> 0 | K52: =J52 -> 0 | L52: =K52 -> 0 | M52: =L52 -> 0 | N52: =M52 -> 0 | O52: =N52 -> 0 | P52: =O52 -> 0 | Q52: =P52 -> 0 | ... Z52: =Y52 -> 0
J53: =I53 | K53: =J53 | L53: =K53 | M53: =L53 | N53: =M53 | O53: =N53 | P53: =O53 | Q53: =P53 | ... Z53: =Y53
C54: Ü14 | I54: 0 | J54: =I54 -> 0 | K54: =J54 -> 0 | L54: =K54 -> 0 | M54: =L54 -> 0 | N54: =M54 -> 0 | O54: =N54 -> 0 | P54: =O54 -> 0 | Q54: =P54 -> 0 | ... Z54: =Y54 -> 0
J55: =I55 | K55: =J55 | L55: =K55 | M55: =L55 | N55: =M55 | O55: =N55 | P55: =O55 | Q55: =P55 | ... Z55: =Y55
C56: Ü15 | I56: 0 | J56: =I56 -> 0 | K56: =J56 -> 0 | L56: =K56 -> 0 | M56: =L56 -> 0 | N56: =M56 -> 0 | O56: =N56 -> 0 | P56: =O56 -> 0 | Q56: =P56 -> 0 | ... Z56: =Y56 -> 0
J57: =I57 | K57: =J57 | L57: =K57 | M57: =L57 | N57: =M57 | O57: =N57 | P57: =O57 | Q57: =P57 | ... Z57: =Y57
C58: Ü16 | I58: 0 | J58: =I58 -> 0 | K58: =J58 -> 0 | L58: =K58 -> 0 | M58: =L58 -> 0 | N58: =M58 -> 0 | O58: =N58 -> 0 | P58: =O58 -> 0 | Q58: =P58 -> 0 | ... Z58: =Y58 -> 0
J59: =I59 | K59: =J59 | L59: =K59 | M59: =L59 | N59: =M59 | O59: =N59 | P59: =O59 | Q59: =P59 | ... Z59: =Y59
C60: Ü17 | I60: 0 | J60: =I60 -> 0 | K60: =J60 -> 0 | L60: =K60 -> 0 | M60: =L60 -> 0 | N60: =M60 -> 0 | O60: =N60 -> 0 | P60: =O60 -> 0 | Q60: =P60 -> 0 | ... Z60: =Y60 -> 0
J61: =I61 | K61: =J61 | L61: =K61 | M61: =L61 | N61: =M61 | O61: =N61 | P61: =O61 | Q61: =P61 | ... Z61: =Y61
C62: Ü18 | I62: 0 | J62: =I62 -> 0 | K62: =J62 -> 0 | L62: =K62 -> 0 | M62: =L62 -> 0 | N62: =M62 -> 0 | O62: =N62 -> 0 | P62: =O62 -> 0 | Q62: =P62 -> 0 | ... Z62: =Y62 -> 0
J63: =I63 | K63: =J63 | L63: =K63 | M63: =L63 | N63: =M63 | O63: =N63 | P63: =O63 | Q63: =P63 | ... Z63: =Y63
D65: Handlungsfeld Wärme
D66: Unsere Ziele im Bereich Wärme sind …
C67: Nr. | D67: Maßnahme | E67: Termin (Beginn der Umsetzung) | F67: =F$25 -> Status der Umsetzung | G67: verantwortlich | H67: Akteure für die Umsetzung | I67: =I25 | J67: =J25 | K67: =K25 | L67: =L25 | M67: =M25 | N67: =N25 | O67: =O25 -> Ziele CO2 & Kompetenzen | P67: =P25 | ... Z67: =Z25
I68: =$I$9 -> 2011 | J68: =J$9 -> 2014 | K68: =K$9 -> 2020 | L68: =L$9 -> 2022 | M68: =L68+2 -> 2024 | N68: =M68+2 -> 2026 | O68: =N68+2 -> 2028 | P68: =O68+2 -> 2030 | Q68: =P68+2 -> 2032 | R68: =Q68+2 -> 2034 | S68: =R68+2 -> 2036 | T68: =S68+2 -> 2038 | ... Z68: =Y68+2 -> 2050
H69: Summen: | I69: =SUM(I70:I113) -> 29300 | J69: =SUM(J70:J113) -> 36800 | K69: =SUM(K70:K113) -> 38300 | L69: =SUM(L70:L113) -> 38300 | M69: =SUM(M70:M113) -> 38300 | N69: =SUM(N70:N113) -> 38300 | O69: =SUM(O70:O113) -> 38300 | P69: =SUM(P70:P113) -> 27000 | ... Z69: =SUM(Z70:Z113) -> 27000
C70: W1 | D70: effektive Aufheizung durch zentrale Gebäudeleittechnik | E70: 2010 | F70: umgesetzt | G70: Herr Jobst | H70: Herr Jobst | I70: 0 | J70: =I70 -> 0 | K70: =J70 -> 0 | L70: =K70 -> 0 | M70: =L70 -> 0 | N70: =M70 -> 0 | O70: =N70 -> 0 | P70: =O70 -> 0 | Q70: =P70 -> 0 | ... Z70: =Y70 -> 0
J71: =I71 | K71: =J71 | L71: =K71 | M71: =L71 | N71: =M71 | O71: =N71 | P71: =O71 | Q71: =P71 | ... Z71: =Y71
C72: W2 | D72: energiesparende Regelung der Heizung durch Installation einer neuen Regeleinheit mit Bedienfunktion , Prüfung und Optimierung von Nacht- und Wochenendabsenkung | E72: 2010 | F72: umgesetzt | G72: Herr Jobst | H72: Herr Jobst | I72: 10500 | J72: =I72 -> 10500 | K72: =J72 -> 10500 | L72: =K72 -> 10500 | M72: =L72 -> 10500 | N72: =M72 -> 10500 | O72: =N72 -> 10500 | P72: =O72 -> 10500 | Q72: =P72 -> 10500 | ... Z72: =Y72 -> 10500
J73: =I73 | K73: =J73 | L73: =K73 | M73: =L73 | N73: =M73 | O73: =N73 | P73: =O73 | Q73: =P73 | ... Z73: =Y73
C74: W3 | D74: Regelmäßige Wartung bzw. Ersatz der Thermostatventilköpfe | E74: 2009 | F74: in Umsetzung (Mitte) | G74: Herr Jobst | H74: Herr Jobst | I74: 4500 | J74: =I74 -> 4500 | K74: =J74 -> 4500 | L74: =K74 -> 4500 | M74: =L74 -> 4500 | N74: =M74 -> 4500 | O74: =N74 -> 4500 | P74: =O74 -> 4500 | Q74: =P74 -> 4500 | ... Z74: =Y74 -> 4500
J75: =I75 | K75: =J75 | L75: =K75 | M75: =L75 | N75: =M75 | O75: =N75 | P75: =O75 | Q75: =P75 | ... Z75: =Y75
C76: W4 | D76: Regelung der Durchflussmenge durch Voreinstellung der Thermostatventile | E76: 2014 | F76: in Umsetzung (Ende) | G76: Herr Jobst | H76: Herr Jobst | I76: 2000 | J76: 4500 | K76: =J76 -> 4500 | L76: =K76 -> 4500 | M76: =L76 -> 4500 | N76: =M76 -> 4500 | O76: =N76 -> 4500 | P76: =O76 -> 4500 | Q76: =P76 -> 4500 | R76: =Q76 -> 4500 | ... Z76: =Y76 -> 4500
J77: =I77 | K77: =J77 | L77: =K77 | M77: =L77 | N77: =M77 | O77: =N77 | P77: =O77 | Q77: =P77 | ... Z77: =Y77
C78: W5 | D78: Berechnung der Durchflussmenge bei den Heizkörpern im Klassengebäude | E78: 2013 | F78: umgesetzt | G78: Herr Jobst und Herr Scherer (Schulbau HH), Herr von Kleist | H78: Herr Jobst und Schulbau HH | I78: 0 | J78: =I78 -> 0 | K78: =J78 -> 0 | L78: =K78 -> 0 | M78: =L78 -> 0 | N78: =M78 -> 0 | O78: =N78 -> 0 | P78: =O78 -> 0 | Q78: =P78 -> 0 | ... Z78: =Y78 -> 0
J79: =I79 | K79: =J79 | L79: =K79 | M79: =L79 | N79: =M79 | O79: =N79 | P79: =O79 | Q79: =P79 | ... Z79: =Y79
C80: W6 | D80: Einbau eines Wärmemengenzählers | E80: 2010 | F80: umgesetzt | G80: Herr Jobst | H80: Herr Jobst | I80: 0 | J80: =I80 -> 0 | K80: =J80 -> 0 | L80: =K80 -> 0 | M80: =L80 -> 0 | N80: =M80 -> 0 | O80: =N80 -> 0 | P80: =O80 -> 0 | Q80: =P80 -> 0 | ... Z80: =Y80 -> 0
J81: =I81 | K81: =J81 | L81: =K81 | M81: =L81 | N81: =M81 | O81: =N81 | P81: =O81 | Q81: =P81 | ... Z81: =Y81
C82: W7 | D82: Verbesserung der Außenisolierung durch Dämmung von außen (diffundierende mineralische Platten) | E82: 2017 | F82: zukünftiger Termin | H82: SBH | I82: 0 | J82: =I82 -> 0 | K82: =J82 -> 0 | L82: =K82 -> 0 | M82: =L82 -> 0 | N82: =M82 -> 0 | O82: =N82 -> 0 | P82: =O82 -> 0 | Q82: =P82 -> 0 | ... Z82: =Y82 -> 0
J83: =I83 | K83: =J83 | L83: =K83 | M83: =L83 | N83: =M83 | O83: =N83 | P83: =O83 | Q83: =P83 | ... Z83: =Y83
C84: W8 | D84: Fenstersanierung im H-Gebäude/ Austausch der Fenster | E84: 2009 | F84: umgesetzt | G84: Herr Brüning, Herr Jobst | I84: 1500 | J84: =I84 -> 1500 | K84: =J84 -> 1500 | L84: =K84 -> 1500 | M84: =L84 -> 1500 | N84: =M84 -> 1500 | O84: =N84 -> 1500 | P84: =O84 -> 1500 | Q84: =P84 -> 1500 | ... Z84: =Y84 -> 1500
J85: =I85 | K85: =J85 | L85: =K85 | M85: =L85 | N85: =M85 | O85: =N85 | P85: =O85 | Q85: =P85 | ... Z85: =Y85
C86: W9 | D86: Fensterteilsanierung/ Austausch im Verwaltungsgebäude | E86: 2021 | F86: zukünftiger Termin | G86: SBH | H86: SBH | I86: 0 | J86: =I86 -> 0 | K86: 1500 | L86: =K86 -> 1500 | M86: =L86 -> 1500 | N86: =M86 -> 1500 | O86: =N86 -> 1500 | P86: =O86 -> 1500 | Q86: =P86 -> 1500 | R86: =Q86 -> 1500 | S86: =R86 -> 1500 | ... Z86: =Y86 -> 1500
J87: =I87 | K87: =J87 | L87: =K87 | M87: =L87 | N87: =M87 | O87: =N87 | P87: =O87 | Q87: =P87 | ... Z87: =Y87
C88: W10a | D88: Effektive Heizung (Heizkörper reinigen und entlüften und für ungehinderte Wärmeabgabe sorgen, neue Ventile) | E88: 2010 | F88: in Umsetzung (Mitte) | G88: Herr Jobst | I88: 1500 | J88: =I88 -> 1500 | K88: =J88 -> 1500 | L88: =K88 -> 1500 | M88: =L88 -> 1500 | N88: =M88 -> 1500 | O88: =N88 -> 1500 | P88: =O88 -> 1500 | Q88: =P88 -> 1500 | ... Z88: =Y88 -> 1500
J89: =I89 | K89: =J89 | L89: =K89 | M89: =L89 | N89: =M89 | O89: =N89 | P89: =O89 | Q89: =P89 | ... Z89: =Y89
C90: W10b | D90: Effektive Heizung (Wartung der Heizungsanlage) | E90: 2010 | F90: wird laufend umgesetzt | G90: Herr Jobst | I90: 3000 | J90: =I90 -> 3000 | K90: =J90 -> 3000 | L90: =K90 -> 3000 | M90: =L90 -> 3000 | N90: =M90 -> 3000 | O90: =N90 -> 3000 | P90: =O90 -> 3000 | Q90: =P90 -> 3000 | ... Z90: =Y90 -> 3000
J91: =I91 | K91: =J91 | L91: =K91 | M91: =L91 | N91: =M91 | O91: =N91 | P91: =O91 | Q91: =P91 | ... Z91: =Y91
C92: W10c | D92: Effektive Heizung (Dämmung der Heizungsverteilstränge im unbeheizten Bereich) | E92: 2010 | F92: in Umsetzung (Mitte) | G92: Frau Petersen, Herr Jobst | I92: 1800 | J92: 3800 | K92: =J92 -> 3800 | L92: =K92 -> 3800 | M92: =L92 -> 3800 | N92: =M92 -> 3800 | O92: =N92 -> 3800
J93: =I93 | K93: =J93 | L93: =K93 | M93: =L93 | N93: =M93 | O93: =N93
C94: W10d | D94: Effektive Heizung (Eigene Heizkreise für Zonen unterschiedlichen Wärmebedarfs einprogrammieren) | E94: 2010 | F94: umgesetzt | G94: Herr Jobst | H94: Herr Jobst + Herr Wernstedt + Herr Sprick | I94: 3000 | J94: =I94 -> 3000 | K94: =J94 -> 3000 | L94: =K94 -> 3000 | M94: =L94 -> 3000 | N94: =M94 -> 3000 | O94: =N94 -> 3000
J95: =I95 | K95: =J95 | L95: =K95 | M95: =L95 | N95: =M95 | O95: =N95
C96: W10e | D96: Effektive Heizung (Heizkreis reparieren Klassengebäude West, Ost) | E96: 2018 | F96: in Umsetzung (Anfang) | I96: 0 | J96: =I96 -> 0 | K96: =J96 -> 0 | L96: =K96 -> 0 | M96: =L96 -> 0 | N96: =M96 -> 0 | O96: =N96 -> 0
J97: =I97 | K97: =J97 | L97: =K97 | M97: =L97 | N97: =M97 | O97: =N97
C98: W10f | D98: Effektive Heizung (Türschließer zu allen therm. untersch. konditionierten Bereichen installieren) | E98: 2010 | F98: umgesetzt | I98: 1500 | J98: =I98 -> 1500 | K98: =J98 -> 1500 | L98: =K98 -> 1500 | M98: =L98 -> 1500 | N98: =M98 -> 1500 | O98: =N98 -> 1500
J99: =I99 | K99: =J99 | L99: =K99 | M99: =L99 | N99: =M99 | O99: =N99
C100: W10g | D100: Effektive Heizung (SchülerInnen wissen, wie "sinnvoll" geheizt und gelüftet wird und wenden dies an) | E100: 2010 | F100: umgesetzt | G100: Frau Twesten | H100: Frau Twesten, Klassenlehrerinnen, SchülerInnen | I100: 0 | J100: =I100 -> 0 | K100: =J100 -> 0 | L100: =K100 -> 0 | M100: =L100 -> 0 | N100: =M100 -> 0 | O100: =N100 -> 0 | P100: =O100 -> 0 | Q100: =P100 -> 0 | ... Z100: =Y100 -> 0
J101: =I101 | K101: =J101 | L101: =K101 | M101: =L101 | N101: =M101 | O101: =N101 | P101: =O101 | Q101: =P101 | ... Z101: =Y101
C102: W11 | D102: Kennenlernen des schulischen Heizungssystems | E102: 2010 | F102: in Umsetzung (Ende) | G102: Frau Twesten | H102: Klassen- und Fachlehrerinnen | I102: 0 | J102: =I102 -> 0 | K102: =J102 -> 0 | L102: =K102 -> 0 | M102: =L102 -> 0 | N102: =M102 -> 0 | O102: =N102 -> 0 | P102: =O102 -> 0 | Q102: =P102 -> 0 | ... Z102: =Y102 -> 0
J103: =I103 | K103: =J103 | L103: =K103 | M103: =L103 | N103: =M103 | O103: =N103 | P103: =O103 | Q103: =P103 | ... Z103: =Y103
C104: W12 | D104: jährliche Schulung von neuen Schülern | E104: 2010 | F104: umgesetzt | G104: Frau Twesten | I104: 0 | J104: =I104 -> 0 | K104: =J104 -> 0 | L104: =K104 -> 0 | M104: =L104 -> 0 | N104: =M104 -> 0 | O104: =N104 -> 0 | P104: =O104 -> 0 | Q104: =P104 -> 0 | ... Z104: =Y104 -> 0
J105: =I105 | K105: =J105 | L105: =K105 | M105: =L105 | N105: =M105 | O105: =N105 | P105: =O105 | Q105: =P105 | ... Z105: =Y105
...

Sheet Chronologische Liste
C2: Chronologische Maßnahmen-Liste | G2: Stand: | H2: =Planungsübersicht!G4 -> 46276
C3: Alle Handlungsfelder
C4: Hinweis: Nach Änderungen an der Planungsübersicht bitte die Tasten Strg+Alt+L drücken (Ansicht aktualisieren)
B5: =Planungsübersicht!C25 -> Nr. | C5: =Planungsübersicht!D25 -> Maßnahme | D5: =Planungsübersicht!E25 -> Termin (Beginn der Umsetzung) | E5: =Planungsübersicht!F25 -> Status der Umsetzung | F5: =Planungsübersicht!G25 -> verantwortlich | G5: =Planungsübersicht!H25 -> Akteure für die Umsetzung | H5: Ziele CO2
B6: =IF(AND(Planungsübersicht!$E84>1990,TYPE(Planungsübersicht!$E84)=1,NOT(Planungsübersicht!$F84="Umsetzung nicht möglich")), Planungsübersicht!C84," ") -> W8 | C6: =IF(AND(Planungsübersicht!$E84>1990,TYPE(Planungsübersicht!$E84)=1,NOT(Planungsübersicht!$F84="Umsetzung nicht möglich")), Planungsübersicht!D84," ") -> Fenstersanierung im H-Gebäude/ Austausch der Fenster | D6: =IF(AND(Planungsübersicht!$E84>1990,TYPE(Planungsübersicht!$E84)=1,NOT(Planungsübersicht!$F84="Umsetzung nicht möglich")), Planungsübersicht!E84," ") -> 2009 | E6: =IF(AND(Planungsübersicht!$E84>1990,TYPE(Planungsübersicht!$E84)=1,NOT(Planungsübersicht!$F84="Umsetzung nicht möglich")), Planungsübersicht!F84," ") -> umgesetzt | F6: =IF(AND(Planungsübersicht!$E84>1990,TYPE(Planungsübersicht!$E84)=1,NOT(Planungsübersicht!$F84="Umsetzung nicht möglich")), Planungsübersicht!G84," ") -> Herr Brüning, Herr Jobst | G6: =IF(AND(Planungsübersicht!$E84>1990,TYPE(Planungsübersicht!$E84)=1,NOT(Planungsübersicht!$F84="Umsetzung nicht möglich")), Planungsübersicht!H84," ") -> 0 | H6: =IF(AND(Planungsübersicht!$E84>1990,TYPE(Planungsübersicht!$E84)=1,NOT(Planungsübersicht!$F84="Umsetzung nicht möglich")), MAX(Planungsübersicht!I84:Z84)," ") -> 1500
B7: =IF(AND(Planungsübersicht!$E128>1990,TYPE(Planungsübersicht!$E128)=1,NOT(Planungsübersicht!$F128="Umsetzung nicht möglich")), Planungsübersicht!C128," ") -> S5 | C7: =IF(AND(Planungsübersicht!$E128>1990,TYPE(Planungsübersicht!$E128)=1,NOT(Planungsübersicht!$F128="Umsetzung nicht möglich")), Planungsübersicht!D128," ") -> Nutzung erneuerbarer Energien | D7: =IF(AND(Planungsübersicht!$E128>1990,TYPE(Planungsübersicht!$E128)=1,NOT(Planungsübersicht!$F128="Umsetzung nicht möglich")), Planungsübersicht!E128," ") -> 2009 | E7: =IF(AND(Planungsübersicht!$E128>1990,TYPE(Planungsübersicht!$E128)=1,NOT(Planungsübersicht!$F128="Umsetzung nicht möglich")), Planungsübersicht!F128," ") -> umgesetzt | F7: =IF(AND(Planungsübersicht!$E128>1990,TYPE(Planungsübersicht!$E128)=1,NOT(Planungsübersicht!$F128="Umsetzung nicht möglich")), Planungsübersicht!G128," ") -> SL/HSM | G7: =IF(AND(Planungsübersicht!$E128>1990,TYPE(Planungsübersicht!$E128)=1,NOT(Planungsübersicht!$F128="Umsetzung nicht möglich")), Planungsübersicht!H128," ") -> SL/HSM | H7: =IF(AND(Planungsübersicht!$E128>1990,TYPE(Planungsübersicht!$E128)=1,NOT(Planungsübersicht!$F128="Umsetzung nicht möglich")), MAX(Planungsübersicht!I128:Z128)," ") -> 1500
B8: =IF(AND(Planungsübersicht!$E130>1990,TYPE(Planungsübersicht!$E130)=1,NOT(Planungsübersicht!$F130="Umsetzung nicht möglich")), Planungsübersicht!C130," ") -> S6 | C8: =IF(AND(Planungsübersicht!$E130>1990,TYPE(Planungsübersicht!$E130)=1,NOT(Planungsübersicht!$F130="Umsetzung nicht möglich")), Planungsübersicht!D130," ") -> überflüssige Raumbeleuchtung vermeiden | D8: =IF(AND(Planungsübersicht!$E130>1990,TYPE(Planungsübersicht!$E130)=1,NOT(Planungsübersicht!$F130="Umsetzung nicht möglich")), Planungsübersicht!E130," ") -> 2009 | E8: =IF(AND(Planungsübersicht!$E130>1990,TYPE(Planungsübersicht!$E130)=1,NOT(Planungsübersicht!$F130="Umsetzung nicht möglich")), Planungsübersicht!F130," ") -> wird laufend umgesetzt | F8: =IF(AND(Planungsübersicht!$E130>1990,TYPE(Planungsübersicht!$E130)=1,NOT(Planungsübersicht!$F130="Umsetzung nicht möglich")), Planungsübersicht!G130," ") -> SL | G8: =IF(AND(Planungsübersicht!$E130>1990,TYPE(Planungsübersicht!$E130)=1,NOT(Planungsübersicht!$F130="Umsetzung nicht möglich")), Planungsübersicht!H130," ") -> HSM | H8: =IF(AND(Planungsübersicht!$E130>1990,TYPE(Planungsübersicht!$E130)=1,NOT(Planungsübersicht!$F130="Umsetzung nicht möglich")), MAX(Planungsübersicht!I130:Z130)," ") -> 0
B9: =IF(AND(Planungsübersicht!$E132>1990,TYPE(Planungsübersicht!$E132)=1,NOT(Planungsübersicht!$F132="Umsetzung nicht möglich")), Planungsübersicht!C132," ") -> S7 | C9: =IF(AND(Planungsübersicht!$E132>1990,TYPE(Planungsübersicht!$E132)=1,NOT(Planungsübersicht!$F132="Umsetzung nicht möglich")), Planungsübersicht!D132," ") -> Lichtsteuerung in Toilettenräumen | D9: =IF(AND(Planungsübersicht!$E132>1990,TYPE(Planungsübersicht!$E132)=1,NOT(Planungsübersicht!$F132="Umsetzung nicht möglich")), Planungsübersicht!E132," ") -> 2009 | E9: =IF(AND(Planungsübersicht!$E132>1990,TYPE(Planungsübersicht!$E132)=1,NOT(Planungsübersicht!$F132="Umsetzung nicht möglich")), Planungsübersicht!F132," ") -> umgesetzt | F9: =IF(AND(Planungsübersicht!$E132>1990,TYPE(Planungsübersicht!$E132)=1,NOT(Planungsübersicht!$F132="Umsetzung nicht möglich")), Planungsübersicht!G132," ") -> HSM | G9: =IF(AND(Planungsübersicht!$E132>1990,TYPE(Planungsübersicht!$E132)=1,NOT(Planungsübersicht!$F132="Umsetzung nicht möglich")), Planungsübersicht!H132," ") -> HSM | H9: =IF(AND(Planungsübersicht!$E132>1990,TYPE(Planungsübersicht!$E132)=1,NOT(Planungsübersicht!$F132="Umsetzung nicht möglich")), MAX(Planungsübersicht!I132:Z132)," ") -> 1000
B10: =IF(AND(Planungsübersicht!$E30>1990,TYPE(Planungsübersicht!$E30)=1,NOT(Planungsübersicht!$F30="Umsetzung nicht möglich")), Planungsübersicht!C30," ") -> Ü2 | C10: =IF(AND(Planungsübersicht!$E30>1990,TYPE(Planungsübersicht!$E30)=1,NOT(Planungsübersicht!$F30="Umsetzung nicht möglich")), Planungsübersicht!D30," ") -> Umgang mit der Klimakiste | D10: =IF(AND(Planungsübersicht!$E30>1990,TYPE(Planungsübersicht!$E30)=1,NOT(Planungsübersicht!$F30="Umsetzung nicht möglich")), Planungsübersicht!E30," ") -> 2010 | E10: =IF(AND(Planungsübersicht!$E30>1990,TYPE(Planungsübersicht!$E30)=1,NOT(Planungsübersicht!$F30="Umsetzung nicht möglich")), Planungsübersicht!F30," ") -> wird laufend umgesetzt | F10: =IF(AND(Planungsübersicht!$E30>1990,TYPE(Planungsübersicht!$E30)=1,NOT(Planungsübersicht!$F30="Umsetzung nicht möglich")), Planungsübersicht!G30," ") -> Frau Twesten | G10: =IF(AND(Planungsübersicht!$E30>1990,TYPE(Planungsübersicht!$E30)=1,NOT(Planungsübersicht!$F30="Umsetzung nicht möglich")), Planungsübersicht!H30," ") -> Klasse 3/4 | H10: =IF(AND(Planungsübersicht!$E30>1990,TYPE(Planungsübersicht!$E30)=1,NOT(Planungsübersicht!$F30="Umsetzung nicht möglich")), MAX(Planungsübersicht!I30:Z30)," ") -> 0
B11: =IF(AND(Planungsübersicht!$E32>1990,TYPE(Planungsübersicht!$E32)=1,NOT(Planungsübersicht!$F32="Umsetzung nicht möglich")), Planungsübersicht!C32," ") -> Ü3 | C11: =IF(AND(Planungsübersicht!$E32>1990,TYPE(Planungsübersicht!$E32)=1,NOT(Planungsübersicht!$F32="Umsetzung nicht möglich")), Planungsübersicht!D32," ") -> Durchführung der Energie- und Klima- Unterrichtseinheit in Kl. 4, neu seit 2 Jahren durch Klimabotschafter des HHG, Lesekiste und andere Medien zum Thema in der Schülerbücherei, Klimakiste, Besuch von Experten in der Schule Kl. 3/4 | D11: =IF(AND(Planungsübersicht!$E32>1990,TYPE(Planungsübersicht!$E32)=1,NOT(Planungsübersicht!$F32="Umsetzung nicht möglich")), Planungsübersicht!E32," ") -> 2010 | E11: =IF(AND(Planungsübersicht!$E32>1990,TYPE(Planungsübersicht!$E32)=1,NOT(Planungsübersicht!$F32="Umsetzung nicht möglich")), Planungsübersicht!F32," ") -> wird laufend umgesetzt | F11: =IF(AND(Planungsübersicht!$E32>1990,TYPE(Planungsübersicht!$E32)=1,NOT(Planungsübersicht!$F32="Umsetzung nicht möglich")), Planungsübersicht!G32," ") -> Frau Twesten | G11: =IF(AND(Planungsübersicht!$E32>1990,TYPE(Planungsübersicht!$E32)=1,NOT(Planungsübersicht!$F32="Umsetzung nicht möglich")), Planungsübersicht!H32," ") -> Klasse 3/4 und am Klimatag/Umwelttag alle Stufen | H11: =IF(AND(Planungsübersicht!$E32>1990,TYPE(Planungsübersicht!$E32)=1,NOT(Planungsübersicht!$F32="Umsetzung nicht möglich")), MAX(Planungsübersicht!I32:Z32)," ") -> 0
B12: =IF(AND(Planungsübersicht!$E34>1990,TYPE(Planungsübersicht!$E34)=1,NOT(Planungsübersicht!$F34="Umsetzung nicht möglich")), Planungsübersicht!C34," ") -> Ü4 | C12: =IF(AND(Planungsübersicht!$E34>1990,TYPE(Planungsübersicht!$E34)=1,NOT(Planungsübersicht!$F34="Umsetzung nicht möglich")), Planungsübersicht!D34," ") -> Einweihung der Photovoltaikanlage | D12: =IF(AND(Planungsübersicht!$E34>1990,TYPE(Planungsübersicht!$E34)=1,NOT(Planungsübersicht!$F34="Umsetzung nicht möglich")), Planungsübersicht!E34," ") -> 2010 | E12: =IF(AND(Planungsübersicht!$E34>1990,TYPE(Planungsübersicht!$E34)=1,NOT(Planungsübersicht!$F34="Umsetzung nicht möglich")), Planungsübersicht!F34," ") -> umgesetzt | F12: =IF(AND(Planungsübersicht!$E34>1990,TYPE(Planungsübersicht!$E34)=1,NOT(Planungsübersicht!$F34="Umsetzung nicht möglich")), Planungsübersicht!G34," ") -> Klimagruppe | G12: =IF(AND(Planungsübersicht!$E34>1990,TYPE(Planungsübersicht!$E34)=1,NOT(Planungsübersicht!$F34="Umsetzung nicht möglich")), Planungsübersicht!H34," ") -> Klimabotschafter und Viertklässler aus WP | H12: =IF(AND(Planungsübersicht!$E34>1990,TYPE(Planungsübersicht!$E34)=1,NOT(Planungsübersicht!$F34="Umsetzung nicht möglich")), MAX(Planungsübersicht!I34:Z34)," ") -> 0
B13: =IF(AND(Planungsübersicht!$E70>1990,TYPE(Planungsübersicht!$E70)=1,NOT(Planungsübersicht!$F70="Umsetzung nicht möglich")), Planungsübersicht!C70," ") -> W1 | C13: =IF(AND(Planungsübersicht!$E70>1990,TYPE(Planungsübersicht!$E70)=1,NOT(Planungsübersicht!$F70="Umsetzung nicht möglich")), Planungsübersicht!D70," ") -> effektive Aufheizung durch zentrale Gebäudeleittechnik | D13: =IF(AND(Planungsübersicht!$E70>1990,TYPE(Planungsübersicht!$E70)=1,NOT(Planungsübersicht!$F70="Umsetzung nicht möglich")), Planungsübersicht!E70," ") -> 2010 | E13: =IF(AND(Planungsübersicht!$E70>1990,TYPE(Planungsübersicht!$E70)=1,NOT(Planungsübersicht!$F70="Umsetzung nicht möglich")), Planungsübersicht!F70," ") -> umgesetzt | F13: =IF(AND(Planungsübersicht!$E70>1990,TYPE(Planungsübersicht!$E70)=1,NOT(Planungsübersicht!$F70="Umsetzung nicht möglich")), Planungsübersicht!G70," ") -> Herr Jobst | G13: =IF(AND(Planungsübersicht!$E70>1990,TYPE(Planungsübersicht!$E70)=1,NOT(Planungsübersicht!$F70="Umsetzung nicht möglich")), Planungsübersicht!H70," ") -> Herr Jobst | H13: =IF(AND(Planungsübersicht!$E70>1990,TYPE(Planungsübersicht!$E70)=1,NOT(Planungsübersicht!$F70="Umsetzung nicht möglich")), MAX(Planungsübersicht!I70:Z70)," ") -> 0
B14: =IF(AND(Planungsübersicht!$E72>1990,TYPE(Planungsübersicht!$E72)=1,NOT(Planungsübersicht!$F72="Umsetzung nicht möglich")), Planungsübersicht!C72," ") -> W2 | C14: =IF(AND(Planungsübersicht!$E72>1990,TYPE(Planungsübersicht!$E72)=1,NOT(Planungsübersicht!$F72="Umsetzung nicht möglich")), Planungsübersicht!D72," ") -> energiesparende Regelung der Heizung durch Installation einer neuen Regeleinheit mit Bedienfunktion , Prüfung und Optimierung von Nacht- und Wochenendabsenkung | D14: =IF(AND(Planungsübersicht!$E72>1990,TYPE(Planungsübersicht!$E72)=1,NOT(Planungsübersicht!$F72="Umsetzung nicht möglich")), Planungsübersicht!E72," ") -> 2010 | E14: =IF(AND(Planungsübersicht!$E72>1990,TYPE(Planungsübersicht!$E72)=1,NOT(Planungsübersicht!$F72="Umsetzung nicht möglich")), Planungsübersicht!F72," ") -> umgesetzt | F14: =IF(AND(Planungsübersicht!$E72>1990,TYPE(Planungsübersicht!$E72)=1,NOT(Planungsübersicht!$F72="Umsetzung nicht möglich")), Planungsübersicht!G72," ") -> Herr Jobst | G14: =IF(AND(Planungsübersicht!$E72>1990,TYPE(Planungsübersicht!$E72)=1,NOT(Planungsübersicht!$F72="Umsetzung nicht möglich")), Planungsübersicht!H72," ") -> Herr Jobst | H14: =IF(AND(Planungsübersicht!$E72>1990,TYPE(Planungsübersicht!$E72)=1,NOT(Planungsübersicht!$F72="Umsetzung nicht möglich")), MAX(Planungsübersicht!I72:Z72)," ") -> 10500
B15: =IF(AND(Planungsübersicht!$E80>1990,TYPE(Planungsübersicht!$E80)=1,NOT(Planungsübersicht!$F80="Umsetzung nicht möglich")), Planungsübersicht!C80," ") -> W6 | C15: =IF(AND(Planungsübersicht!$E80>1990,TYPE(Planungsübersicht!$E80)=1,NOT(Planungsübersicht!$F80="Umsetzung nicht möglich")), Planungsübersicht!D80," ") -> Einbau eines Wärmemengenzählers | D15: =IF(AND(Planungsübersicht!$E80>1990,TYPE(Planungsübersicht!$E80)=1,NOT(Planungsübersicht!$F80="Umsetzung nicht möglich")), Planungsübersicht!E80," ") -> 2010 | E15: =IF(AND(Planungsübersicht!$E80>1990,TYPE(Planungsübersicht!$E80)=1,NOT(Planungsübersicht!$F80="Umsetzung nicht möglich")), Planungsübersicht!F80," ") -> umgesetzt | F15: =IF(AND(Planungsübersicht!$E80>1990,TYPE(Planungsübersicht!$E80)=1,NOT(Planungsübersicht!$F80="Umsetzung nicht möglich")), Planungsübersicht!G80," ") -> Herr Jobst | G15: =IF(AND(Planungsübersicht!$E80>1990,TYPE(Planungsübersicht!$E80)=1,NOT(Planungsübersicht!$F80="Umsetzung nicht möglich")), Planungsübersicht!H80," ") -> Herr Jobst | H15: =IF(AND(Planungsübersicht!$E80>1990,TYPE(Planungsübersicht!$E80)=1,NOT(Planungsübersicht!$F80="Umsetzung nicht möglich")), MAX(Planungsübersicht!I80:Z80)," ") -> 0
B16: =IF(AND(Planungsübersicht!$E94>1990,TYPE(Planungsübersicht!$E94)=1,NOT(Planungsübersicht!$F94="Umsetzung nicht möglich")), Planungsübersicht!C94," ") -> W10d | C16: =IF(AND(Planungsübersicht!$E94>1990,TYPE(Planungsübersicht!$E94)=1,NOT(Planungsübersicht!$F94="Umsetzung nicht möglich")), Planungsübersicht!D94," ") -> Effektive Heizung (Eigene Heizkreise für Zonen unterschiedlichen Wärmebedarfs einprogrammieren) | D16: =IF(AND(Planungsübersicht!$E94>1990,TYPE(Planungsübersicht!$E94)=1,NOT(Planungsübersicht!$F94="Umsetzung nicht möglich")), Planungsübersicht!E94," ") -> 2010 | E16: =IF(AND(Planungsübersicht!$E94>1990,TYPE(Planungsübersicht!$E94)=1,NOT(Planungsübersicht!$F94="Umsetzung nicht möglich")), Planungsübersicht!F94," ") -> umgesetzt | F16: =IF(AND(Planungsübersicht!$E94>1990,TYPE(Planungsübersicht!$E94)=1,NOT(Planungsübersicht!$F94="Umsetzung nicht möglich")), Planungsübersicht!G94," ") -> Herr Jobst | G16: =IF(AND(Planungsübersicht!$E94>1990,TYPE(Planungsübersicht!$E94)=1,NOT(Planungsübersicht!$F94="Umsetzung nicht möglich")), Planungsübersicht!H94," ") -> Herr Jobst + Herr Wernstedt + Herr Sprick | H16: =IF(AND(Planungsübersicht!$E94>1990,TYPE(Planungsübersicht!$E94)=1,NOT(Planungsübersicht!$F94="Umsetzung nicht möglich")), MAX(Planungsübersicht!I94:Z94)," ") -> 3000
B17: =IF(AND(Planungsübersicht!$E102>1990,TYPE(Planungsübersicht!$E102)=1,NOT(Planungsübersicht!$F102="Umsetzung nicht möglich")), Planungsübersicht!C102," ") -> W11 | C17: =IF(AND(Planungsübersicht!$E102>1990,TYPE(Planungsübersicht!$E102)=1,NOT(Planungsübersicht!$F102="Umsetzung nicht möglich")), Planungsübersicht!D102," ") -> Kennenlernen des schulischen Heizungssystems | D17: =IF(AND(Planungsübersicht!$E102>1990,TYPE(Planungsübersicht!$E102)=1,NOT(Planungsübersicht!$F102="Umsetzung nicht möglich")), Planungsübersicht!E102," ") -> 2010 | E17: =IF(AND(Planungsübersicht!$E102>1990,TYPE(Planungsübersicht!$E102)=1,NOT(Planungsübersicht!$F102="Umsetzung nicht möglich")), Planungsübersicht!F102," ") -> in Umsetzung (Ende) | F17: =IF(AND(Planungsübersicht!$E102>1990,TYPE(Planungsübersicht!$E102)=1,NOT(Planungsübersicht!$F102="Umsetzung nicht möglich")), Planungsübersicht!G102," ") -> Frau Twesten | G17: =IF(AND(Planungsübersicht!$E102>1990,TYPE(Planungsübersicht!$E102)=1,NOT(Planungsübersicht!$F102="Umsetzung nicht möglich")), Planungsübersicht!H102," ") -> Klassen- und Fachlehrerinnen | H17: =IF(AND(Planungsübersicht!$E102>1990,TYPE(Planungsübersicht!$E102)=1,NOT(Planungsübersicht!$F102="Umsetzung nicht möglich")), MAX(Planungsübersicht!I102:Z102)," ") -> 0
B18: =IF(AND(Planungsübersicht!$E104>1990,TYPE(Planungsübersicht!$E104)=1,NOT(Planungsübersicht!$F104="Umsetzung nicht möglich")), Planungsübersicht!C104," ") -> W12 | C18: =IF(AND(Planungsübersicht!$E104>1990,TYPE(Planungsübersicht!$E104)=1,NOT(Planungsübersicht!$F104="Umsetzung nicht möglich")), Planungsübersicht!D104," ") -> jährliche Schulung von neuen Schülern | D18: =IF(AND(Planungsübersicht!$E104>1990,TYPE(Planungsübersicht!$E104)=1,NOT(Planungsübersicht!$F104="Umsetzung nicht möglich")), Planungsübersicht!E104," ") -> 2010 | E18: =IF(AND(Planungsübersicht!$E104>1990,TYPE(Planungsübersicht!$E104)=1,NOT(Planungsübersicht!$F104="Umsetzung nicht möglich")), Planungsübersicht!F104," ") -> umgesetzt | F18: =IF(AND(Planungsübersicht!$E104>1990,TYPE(Planungsübersicht!$E104)=1,NOT(Planungsübersicht!$F104="Umsetzung nicht möglich")), Planungsübersicht!G104," ") -> Frau Twesten | G18: =IF(AND(Planungsübersicht!$E104>1990,TYPE(Planungsübersicht!$E104)=1,NOT(Planungsübersicht!$F104="Umsetzung nicht möglich")), Planungsübersicht!H104," ") -> 0 | H18: =IF(AND(Planungsübersicht!$E104>1990,TYPE(Planungsübersicht!$E104)=1,NOT(Planungsübersicht!$F104="Umsetzung nicht möglich")), MAX(Planungsübersicht!I104:Z104)," ") -> 0
B19: =IF(AND(Planungsübersicht!$E124>1990,TYPE(Planungsübersicht!$E124)=1,NOT(Planungsübersicht!$F124="Umsetzung nicht möglich")), Planungsübersicht!C124," ") -> S3 | C19: =IF(AND(Planungsübersicht!$E124>1990,TYPE(Planungsübersicht!$E124)=1,NOT(Planungsübersicht!$F124="Umsetzung nicht möglich")), Planungsübersicht!D124," ") -> SchülerInnen sollen bewusst Strom sparen, in dem sie das Licht im Klassenraum und anderen Räumen ausschalten | D19: =IF(AND(Planungsübersicht!$E124>1990,TYPE(Planungsübersicht!$E124)=1,NOT(Planungsübersicht!$F124="Umsetzung nicht möglich")), Planungsübersicht!E124," ") -> 2010 | E19: =IF(AND(Planungsübersicht!$E124>1990,TYPE(Planungsübersicht!$E124)=1,NOT(Planungsübersicht!$F124="Umsetzung nicht möglich")), Planungsübersicht!F124," ") -> umgesetzt | F19: =IF(AND(Planungsübersicht!$E124>1990,TYPE(Planungsübersicht!$E124)=1,NOT(Planungsübersicht!$F124="Umsetzung nicht möglich")), Planungsübersicht!G124," ") -> 0 | G19: =IF(AND(Planungsübersicht!$E124>1990,TYPE(Planungsübersicht!$E124)=1,NOT(Planungsübersicht!$F124="Umsetzung nicht möglich")), Planungsübersicht!H124," ") -> Schülerparlament mit Klassensprecherm, KlassenlehrerInnen in Klasse 1 | H19: =IF(AND(Planungsübersicht!$E124>1990,TYPE(Planungsübersicht!$E124)=1,NOT(Planungsübersicht!$F124="Umsetzung nicht möglich")), MAX(Planungsübersicht!I124:Z124)," ") -> 0
B20: =IF(AND(Planungsübersicht!$E126>1990,TYPE(Planungsübersicht!$E126)=1,NOT(Planungsübersicht!$F126="Umsetzung nicht möglich")), Planungsübersicht!C126," ") -> S4 | C20: =IF(AND(Planungsübersicht!$E126>1990,TYPE(Planungsübersicht!$E126)=1,NOT(Planungsübersicht!$F126="Umsetzung nicht möglich")), Planungsübersicht!D126," ") -> gezielte Lichtsteuerung nach Bedarf über Computer, Reduzierung von Strom | D20: =IF(AND(Planungsübersicht!$E126>1990,TYPE(Planungsübersicht!$E126)=1,NOT(Planungsübersicht!$F126="Umsetzung nicht möglich")), Planungsübersicht!E126," ") -> 2010 | E20: =IF(AND(Planungsübersicht!$E126>1990,TYPE(Planungsübersicht!$E126)=1,NOT(Planungsübersicht!$F126="Umsetzung nicht möglich")), Planungsübersicht!F126," ") -> umgesetzt | F20: =IF(AND(Planungsübersicht!$E126>1990,TYPE(Planungsübersicht!$E126)=1,NOT(Planungsübersicht!$F126="Umsetzung nicht möglich")), Planungsübersicht!G126," ") -> SL, HSM | G20: =IF(AND(Planungsübersicht!$E126>1990,TYPE(Planungsübersicht!$E126)=1,NOT(Planungsübersicht!$F126="Umsetzung nicht möglich")), Planungsübersicht!H126," ") -> HSM | H20: =IF(AND(Planungsübersicht!$E126>1990,TYPE(Planungsübersicht!$E126)=1,NOT(Planungsübersicht!$F126="Umsetzung nicht möglich")), MAX(Planungsübersicht!I126:Z126)," ") -> 2500
B21: =IF(AND(Planungsübersicht!$E140>1990,TYPE(Planungsübersicht!$E140)=1,NOT(Planungsübersicht!$F140="Umsetzung nicht möglich")), Planungsübersicht!C140," ") -> S11 | C21: =IF(AND(Planungsübersicht!$E140>1990,TYPE(Planungsübersicht!$E140)=1,NOT(Planungsübersicht!$F140="Umsetzung nicht möglich")), Planungsübersicht!D140," ") -> Stromsparendes Verhalten kennen lernen durch Beobachten und Messen | D21: =IF(AND(Planungsübersicht!$E140>1990,TYPE(Planungsübersicht!$E140)=1,NOT(Planungsübersicht!$F140="Umsetzung nicht möglich")), Planungsübersicht!E140," ") -> 2010 | E21: =IF(AND(Planungsübersicht!$E140>1990,TYPE(Planungsübersicht!$E140)=1,NOT(Planungsübersicht!$F140="Umsetzung nicht möglich")), Planungsübersicht!F140," ") -> wird laufend umgesetzt | F21: =IF(AND(Planungsübersicht!$E140>1990,TYPE(Planungsübersicht!$E140)=1,NOT(Planungsübersicht!$F140="Umsetzung nicht möglich")), Planungsübersicht!G140," ") -> Klimaschutzbeauftragte | G21: =IF(AND(Planungsübersicht!$E140>1990,TYPE(Planungsübersicht!$E140)=1,NOT(Planungsübersicht!$F140="Umsetzung nicht möglich")), Planungsübersicht!H140," ") -> Schüler der Stufe 3/4 und Klimaforscher | H21: =IF(AND(Planungsübersicht!$E140>1990,TYPE(Planungsübersicht!$E140)=1,NOT(Planungsübersicht!$F140="Umsetzung nicht möglich")), MAX(Planungsübersicht!I140:Z140)," ") -> 0
B22: =IF(AND(Planungsübersicht!$E172>1990,TYPE(Planungsübersicht!$E172)=1,NOT(Planungsübersicht!$F172="Umsetzung nicht möglich")), Planungsübersicht!C172," ") -> A9 | C22: =IF(AND(Planungsübersicht!$E172>1990,TYPE(Planungsübersicht!$E172)=1,NOT(Planungsübersicht!$F172="Umsetzung nicht möglich")), Planungsübersicht!D172," ") -> Recycling von alten Möbeln | D22: =IF(AND(Planungsübersicht!$E172>1990,TYPE(Planungsübersicht!$E172)=1,NOT(Planungsübersicht!$F172="Umsetzung nicht möglich")), Planungsübersicht!E172," ") -> 2010 | E22: =IF(AND(Planungsübersicht!$E172>1990,TYPE(Planungsübersicht!$E172)=1,NOT(Planungsübersicht!$F172="Umsetzung nicht möglich")), Planungsübersicht!F172," ") -> wird laufend umgesetzt | F22: =IF(AND(Planungsübersicht!$E172>1990,TYPE(Planungsübersicht!$E172)=1,NOT(Planungsübersicht!$F172="Umsetzung nicht möglich")), Planungsübersicht!G172," ") -> HM Herr Jobst | G22: =IF(AND(Planungsübersicht!$E172>1990,TYPE(Planungsübersicht!$E172)=1,NOT(Planungsübersicht!$F172="Umsetzung nicht möglich")), Planungsübersicht!H172," ") -> Herr Jobst | H22: =IF(AND(Planungsübersicht!$E172>1990,TYPE(Planungsübersicht!$E172)=1,NOT(Planungsübersicht!$F172="Umsetzung nicht möglich")), MAX(Planungsübersicht!I172:Z172)," ") -> 0
B23: =IF(AND(Planungsübersicht!$E184>1990,TYPE(Planungsübersicht!$E184)=1,NOT(Planungsübersicht!$F184="Umsetzung nicht möglich")), Planungsübersicht!C184," ") -> A15 | C23: =IF(AND(Planungsübersicht!$E184>1990,TYPE(Planungsübersicht!$E184)=1,NOT(Planungsübersicht!$F184="Umsetzung nicht möglich")), Planungsübersicht!D184," ") -> Schulgelände sauber halten (Müll kann mit geeignetem Werkzeug gesammelt werden) | D23: =IF(AND(Planungsübersicht!$E184>1990,TYPE(Planungsübersicht!$E184)=1,NOT(Planungsübersicht!$F184="Umsetzung nicht möglich")), Planungsübersicht!E184," ") -> 2010 | E23: =IF(AND(Planungsübersicht!$E184>1990,TYPE(Planungsübersicht!$E184)=1,NOT(Planungsübersicht!$F184="Umsetzung nicht möglich")), Planungsübersicht!F184," ") -> wird laufend umgesetzt | F23: =IF(AND(Planungsübersicht!$E184>1990,TYPE(Planungsübersicht!$E184)=1,NOT(Planungsübersicht!$F184="Umsetzung nicht möglich")), Planungsübersicht!G184," ") -> Schulleitung | G23: =IF(AND(Planungsübersicht!$E184>1990,TYPE(Planungsübersicht!$E184)=1,NOT(Planungsübersicht!$F184="Umsetzung nicht möglich")), Planungsübersicht!H184," ") -> KlassenlehrerInnen, HSM | H23: =IF(AND(Planungsübersicht!$E184>1990,TYPE(Planungsübersicht!$E184)=1,NOT(Planungsübersicht!$F184="Umsetzung nicht möglich")), MAX(Planungsübersicht!I184:Z184)," ") -> 0
B24: =IF(AND(Planungsübersicht!$E196>1990,TYPE(Planungsübersicht!$E196)=1,NOT(Planungsübersicht!$F196="Umsetzung nicht möglich")), Planungsübersicht!C196," ") -> B1 | C24: =IF(AND(Planungsübersicht!$E196>1990,TYPE(Planungsübersicht!$E196)=1,NOT(Planungsübersicht!$F196="Umsetzung nicht möglich")), Planungsübersicht!D196," ") -> Nutzung von Papier mit dem "Blauen Engel" | D24: =IF(AND(Planungsübersicht!$E196>1990,TYPE(Planungsübersicht!$E196)=1,NOT(Planungsübersicht!$F196="Umsetzung nicht möglich")), Planungsübersicht!E196," ") -> 2010 | E24: =IF(AND(Planungsübersicht!$E196>1990,TYPE(Planungsübersicht!$E196)=1,NOT(Planungsübersicht!$F196="Umsetzung nicht möglich")), Planungsübersicht!F196," ") -> wird laufend umgesetzt | F24: =IF(AND(Planungsübersicht!$E196>1990,TYPE(Planungsübersicht!$E196)=1,NOT(Planungsübersicht!$F196="Umsetzung nicht möglich")), Planungsübersicht!G196," ") -> SL | G24: =IF(AND(Planungsübersicht!$E196>1990,TYPE(Planungsübersicht!$E196)=1,NOT(Planungsübersicht!$F196="Umsetzung nicht möglich")), Planungsübersicht!H196," ") -> Lehrer und Verwaltung | H24: =IF(AND(Planungsübersicht!$E196>1990,TYPE(Planungsübersicht!$E196)=1,NOT(Planungsübersicht!$F196="Umsetzung nicht möglich")), MAX(Planungsübersicht!I196:Z196)," ") -> 50
B25: =IF(AND(Planungsübersicht!$E36>1990,TYPE(Planungsübersicht!$E36)=1,NOT(Planungsübersicht!$F36="Umsetzung nicht möglich")), Planungsübersicht!C36," ") -> Ü5 | C25: =IF(AND(Planungsübersicht!$E36>1990,TYPE(Planungsübersicht!$E36)=1,NOT(Planungsübersicht!$F36="Umsetzung nicht möglich")), Planungsübersicht!D36," ") -> Installation und Nutzung einer kindgerechten Visualisierungstafel für die Photovoltaik-Anlage im Unterricht | D25: =IF(AND(Planungsübersicht!$E36>1990,TYPE(Planungsübersicht!$E36)=1,NOT(Planungsübersicht!$F36="Umsetzung nicht möglich")), Planungsübersicht!E36," ") -> 2011 | E25: =IF(AND(Planungsübersicht!$E36>1990,TYPE(Planungsübersicht!$E36)=1,NOT(Planungsübersicht!$F36="Umsetzung nicht möglich")), Planungsübersicht!F36," ") -> umgesetzt | F25: =IF(AND(Planungsübersicht!$E36>1990,TYPE(Planungsübersicht!$E36)=1,NOT(Planungsübersicht!$F36="Umsetzung nicht möglich")), Planungsübersicht!G36," ") -> Frau Boltz | G25: =IF(AND(Planungsübersicht!$E36>1990,TYPE(Planungsübersicht!$E36)=1,NOT(Planungsübersicht!$F36="Umsetzung nicht möglich")), Planungsübersicht!H36," ") -> Frau Boltz, Schülerexperten und Klimaforscher sowie Klassen- und Fachlehrerinnen als Multiplikatoren | H25: =IF(AND(Planungsübersicht!$E36>1990,TYPE(Planungsübersicht!$E36)=1,NOT(Planungsübersicht!$F36="Umsetzung nicht möglich")), MAX(Planungsübersicht!I36:Z36)," ") -> 0
B26: =IF(AND(Planungsübersicht!$E44>1990,TYPE(Planungsübersicht!$E44)=1,NOT(Planungsübersicht!$F44="Umsetzung nicht möglich")), Planungsübersicht!C44," ") -> Ü9 | C26: =IF(AND(Planungsübersicht!$E44>1990,TYPE(Planungsübersicht!$E44)=1,NOT(Planungsübersicht!$F44="Umsetzung nicht möglich")), Planungsübersicht!D44," ") -> Treffen mit CvO | D26: =IF(AND(Planungsübersicht!$E44>1990,TYPE(Planungsübersicht!$E44)=1,NOT(Planungsübersicht!$F44="Umsetzung nicht möglich")), Planungsübersicht!E44," ") -> 2011 | E26: =IF(AND(Planungsübersicht!$E44>1990,TYPE(Planungsübersicht!$E44)=1,NOT(Planungsübersicht!$F44="Umsetzung nicht möglich")), Planungsübersicht!F44," ") -> in Umsetzung (Ende) | F26: =IF(AND(Planungsübersicht!$E44>1990,TYPE(Planungsübersicht!$E44)=1,NOT(Planungsübersicht!$F44="Umsetzung nicht möglich")), Planungsübersicht!G44," ") -> Frau Twesten | G26: =IF(AND(Planungsübersicht!$E44>1990,TYPE(Planungsübersicht!$E44)=1,NOT(Planungsübersicht!$F44="Umsetzung nicht möglich")), Planungsübersicht!H44," ") -> Klimabeauftragte beider Schulen (CvO, MüRe) und Hausmeister Herr Herzog und Herr Jobst sowie 1 Person von 50/50 bzw. LI/ Herr von Kleist | H26: =IF(AND(Planungsübersicht!$E44>1990,TYPE(Planungsübersicht!$E44)=1,NOT(Planungsübersicht!$F44="Umsetzung nicht möglich")), MAX(Planungsübersicht!I44:Z44)," ") -> 0
B27: =IF(AND(Planungsübersicht!$E120>1990,TYPE(Planungsübersicht!$E120)=1,NOT(Planungsübersicht!$F120="Umsetzung nicht möglich")), Planungsübersicht!C120," ") -> S1 | C27: =IF(AND(Planungsübersicht!$E120>1990,TYPE(Planungsübersicht!$E120)=1,NOT(Planungsübersicht!$F120="Umsetzung nicht möglich")), Planungsübersicht!D120," ") -> Steckerleiste als Stromsparinstrument in der Schule und zu Hause einsetzen | D27: =IF(AND(Planungsübersicht!$E120>1990,TYPE(Planungsübersicht!$E120)=1,NOT(Planungsübersicht!$F120="Umsetzung nicht möglich")), Planungsübersicht!E120," ") -> 2011 | E27: =IF(AND(Planungsübersicht!$E120>1990,TYPE(Planungsübersicht!$E120)=1,NOT(Planungsübersicht!$F120="Umsetzung nicht möglich")), Planungsübersicht!F120," ") -> wird laufend umgesetzt | F27: =IF(AND(Planungsübersicht!$E120>1990,TYPE(Planungsübersicht!$E120)=1,NOT(Planungsübersicht!$F120="Umsetzung nicht möglich")), Planungsübersicht!G120," ") -> Frau Twesten | G27: =IF(AND(Planungsübersicht!$E120>1990,TYPE(Planungsübersicht!$E120)=1,NOT(Planungsübersicht!$F120="Umsetzung nicht möglich")), Planungsübersicht!H120," ") -> HSM/Lehrer | H27: =IF(AND(Planungsübersicht!$E120>1990,TYPE(Planungsübersicht!$E120)=1,NOT(Planungsübersicht!$F120="Umsetzung nicht möglich")), MAX(Planungsübersicht!I120:Z120)," ") -> 2100
B28: =IF(AND(Planungsübersicht!$E236>1990,TYPE(Planungsübersicht!$E236)=1,NOT(Planungsübersicht!$F236="Umsetzung nicht möglich")), Planungsübersicht!C236," ") -> E3 | C28: =IF(AND(Planungsübersicht!$E236>1990,TYPE(Planungsübersicht!$E236)=1,NOT(Planungsübersicht!$F236="Umsetzung nicht möglich")), Planungsübersicht!D236," ") -> "Besonderes“ Frühstück für Klasse 1: Neue leckere Snacks probieren | D28: =IF(AND(Planungsübersicht!$E236>1990,TYPE(Planungsübersicht!$E236)=1,NOT(Planungsübersicht!$F236="Umsetzung nicht möglich")), Planungsübersicht!E236," ") -> 2011 | E28: =IF(AND(Planungsübersicht!$E236>1990,TYPE(Planungsübersicht!$E236)=1,NOT(Planungsübersicht!$F236="Umsetzung nicht möglich")), Planungsübersicht!F236," ") -> umgesetzt | F28: =IF(AND(Planungsübersicht!$E236>1990,TYPE(Planungsübersicht!$E236)=1,NOT(Planungsübersicht!$F236="Umsetzung nicht möglich")), Planungsübersicht!G236," ") -> Frau Boltz | G28: =IF(AND(Planungsübersicht!$E236>1990,TYPE(Planungsübersicht!$E236)=1,NOT(Planungsübersicht!$F236="Umsetzung nicht möglich")), Planungsübersicht!H236," ") -> FrühstückshelferInnen aus der Elternschaft | H28: =IF(AND(Planungsübersicht!$E236>1990,TYPE(Planungsübersicht!$E236)=1,NOT(Planungsübersicht!$F236="Umsetzung nicht möglich")), MAX(Planungsübersicht!I236:Z236)," ") -> 0
B29: =IF(AND(Planungsübersicht!$E28>1990,TYPE(Planungsübersicht!$E28)=1,NOT(Planungsübersicht!$F28="Umsetzung nicht möglich")), Planungsübersicht!C28," ") -> Ü1 | C29: =IF(AND(Planungsübersicht!$E28>1990,TYPE(Planungsübersicht!$E28)=1,NOT(Planungsübersicht!$F28="Umsetzung nicht möglich")), Planungsübersicht!D28," ") -> jährlicher Klimaschutztag mit Themenschwerpunkten | D29: =IF(AND(Planungsübersicht!$E28>1990,TYPE(Planungsübersicht!$E28)=1,NOT(Planungsübersicht!$F28="Umsetzung nicht möglich")), Planungsübersicht!E28," ") -> 2012 | E29: =IF(AND(Planungsübersicht!$E28>1990,TYPE(Planungsübersicht!$E28)=1,NOT(Planungsübersicht!$F28="Umsetzung nicht möglich")), Planungsübersicht!F28," ") -> wird laufend umgesetzt | F29: =IF(AND(Planungsübersicht!$E28>1990,TYPE(Planungsübersicht!$E28)=1,NOT(Planungsübersicht!$F28="Umsetzung nicht möglich")), Planungsübersicht!G28," ") -> Frau Schmalenbach | G29: =IF(AND(Planungsübersicht!$E28>1990,TYPE(Planungsübersicht!$E28)=1,NOT(Planungsübersicht!$F28="Umsetzung nicht möglich")), Planungsübersicht!H28," ") -> Klimagruppe, Kollegium, Eltern, außerschulische Einrichtungen | H29: =IF(AND(Planungsübersicht!$E28>1990,TYPE(Planungsübersicht!$E28)=1,NOT(Planungsübersicht!$F28="Umsetzung nicht möglich")), MAX(Planungsübersicht!I28:Z28)," ") -> 0
B30: =IF(AND(Planungsübersicht!$E38>1990,TYPE(Planungsübersicht!$E38)=1,NOT(Planungsübersicht!$F38="Umsetzung nicht möglich")), Planungsübersicht!C38," ") -> Ü6 | C30: =IF(AND(Planungsübersicht!$E38>1990,TYPE(Planungsübersicht!$E38)=1,NOT(Planungsübersicht!$F38="Umsetzung nicht möglich")), Planungsübersicht!D38," ") -> Einbindung der TSG Bergedorf bei der Umsetzung des Klimaplans | D30: =IF(AND(Planungsübersicht!$E38>1990,TYPE(Planungsübersicht!$E38)=1,NOT(Planungsübersicht!$F38="Umsetzung nicht möglich")), Planungsübersicht!E38," ") -> 2012 | E30: =IF(AND(Planungsübersicht!$E38>1990,TYPE(Planungsübersicht!$E38)=1,NOT(Planungsübersicht!$F38="Umsetzung nicht möglich")), Planungsübersicht!F38," ") -> in Umsetzung (Mitte) | F30: =IF(AND(Planungsübersicht!$E38>1990,TYPE(Planungsübersicht!$E38)=1,NOT(Planungsübersicht!$F38="Umsetzung nicht möglich")), Planungsübersicht!G38," ") -> Frau Bodo (GBS-Koordinatorin) | G30: =IF(AND(Planungsübersicht!$E38>1990,TYPE(Planungsübersicht!$E38)=1,NOT(Planungsübersicht!$F38="Umsetzung nicht möglich")), Planungsübersicht!H38," ") -> SL?, Frau Bodo, GBS-Leitung | H30: =IF(AND(Planungsübersicht!$E38>1990,TYPE(Planungsübersicht!$E38)=1,NOT(Planungsübersicht!$F38="Umsetzung nicht möglich")), MAX(Planungsübersicht!I38:Z38)," ") -> 0
B31: =IF(AND(Planungsübersicht!$E238>1990,TYPE(Planungsübersicht!$E238)=1,NOT(Planungsübersicht!$F238="Umsetzung nicht möglich")), Planungsübersicht!C238," ") -> E4 | C31: =IF(AND(Planungsübersicht!$E238>1990,TYPE(Planungsübersicht!$E238)=1,NOT(Planungsübersicht!$F238="Umsetzung nicht möglich")), Planungsübersicht!D238," ") -> Verankerung des Themas „Regionales Obst und Gemüse“ im zu überarbeitenden Stoffverteilungsplan Sachunterricht | D31: =IF(AND(Planungsübersicht!$E238>1990,TYPE(Planungsübersicht!$E238)=1,NOT(Planungsübersicht!$F238="Umsetzung nicht möglich")), Planungsübersicht!E238," ") -> 2012 | E31: =IF(AND(Planungsübersicht!$E238>1990,TYPE(Planungsübersicht!$E238)=1,NOT(Planungsübersicht!$F238="Umsetzung nicht möglich")), Planungsübersicht!F238," ") -> umgesetzt | F31: =IF(AND(Planungsübersicht!$E238>1990,TYPE(Planungsübersicht!$E238)=1,NOT(Planungsübersicht!$F238="Umsetzung nicht möglich")), Planungsübersicht!G238," ") -> Fachkonferenz | G31: =IF(AND(Planungsübersicht!$E238>1990,TYPE(Planungsübersicht!$E238)=1,NOT(Planungsübersicht!$F238="Umsetzung nicht möglich")), Planungsübersicht!H238," ") -> Fachlehrer | H31: =IF(AND(Planungsübersicht!$E238>1990,TYPE(Planungsübersicht!$E238)=1,NOT(Planungsübersicht!$F238="Umsetzung nicht möglich")), MAX(Planungsübersicht!I238:Z238)," ") -> 0
B32: =IF(AND(Planungsübersicht!$E240>1990,TYPE(Planungsübersicht!$E240)=1,NOT(Planungsübersicht!$F240="Umsetzung nicht möglich")), Planungsübersicht!C240," ") -> E5 | C32: =IF(AND(Planungsübersicht!$E240>1990,TYPE(Planungsübersicht!$E240)=1,NOT(Planungsübersicht!$F240="Umsetzung nicht möglich")), Planungsübersicht!D240," ") -> einmal wöchentlich ein Rohkosttag | D32: =IF(AND(Planungsübersicht!$E240>1990,TYPE(Planungsübersicht!$E240)=1,NOT(Planungsübersicht!$F240="Umsetzung nicht möglich")), Planungsübersicht!E240," ") -> 2012 | E32: =IF(AND(Planungsübersicht!$E240>1990,TYPE(Planungsübersicht!$E240)=1,NOT(Planungsübersicht!$F240="Umsetzung nicht möglich")), Planungsübersicht!F240," ") -> wird laufend umgesetzt | F32: =IF(AND(Planungsübersicht!$E240>1990,TYPE(Planungsübersicht!$E240)=1,NOT(Planungsübersicht!$F240="Umsetzung nicht möglich")), Planungsübersicht!G240," ") -> SL | G32: =IF(AND(Planungsübersicht!$E240>1990,TYPE(Planungsübersicht!$E240)=1,NOT(Planungsübersicht!$F240="Umsetzung nicht möglich")), Planungsübersicht!H240," ") -> FrühstückshelferInnen aus der Elternschaft | H32: =IF(AND(Planungsübersicht!$E240>1990,TYPE(Planungsübersicht!$E240)=1,NOT(Planungsübersicht!$F240="Umsetzung nicht möglich")), MAX(Planungsübersicht!I240:Z240)," ") -> 0
B33: =IF(AND(Planungsübersicht!$E134>1990,TYPE(Planungsübersicht!$E134)=1,NOT(Planungsübersicht!$F134="Umsetzung nicht möglich")), Planungsübersicht!C134," ") -> S8 | C33: =IF(AND(Planungsübersicht!$E134>1990,TYPE(Planungsübersicht!$E134)=1,NOT(Planungsübersicht!$F134="Umsetzung nicht möglich")), Planungsübersicht!D134," ") -> gezielte Lichtsteuerung über Computer für die Mehrzweckhalle, Reduzierung von Strom | D33: =IF(AND(Planungsübersicht!$E134>1990,TYPE(Planungsübersicht!$E134)=1,NOT(Planungsübersicht!$F134="Umsetzung nicht möglich")), Planungsübersicht!E134," ") -> 2013 | E33: =IF(AND(Planungsübersicht!$E134>1990,TYPE(Planungsübersicht!$E134)=1,NOT(Planungsübersicht!$F134="Umsetzung nicht möglich")), Planungsübersicht!F134," ") -> umgesetzt | F33: =IF(AND(Planungsübersicht!$E134>1990,TYPE(Planungsübersicht!$E134)=1,NOT(Planungsübersicht!$F134="Umsetzung nicht möglich")), Planungsübersicht!G134," ") -> SL, HSM | G33: =IF(AND(Planungsübersicht!$E134>1990,TYPE(Planungsübersicht!$E134)=1,NOT(Planungsübersicht!$F134="Umsetzung nicht möglich")), Planungsübersicht!H134," ") -> HSM | H33: =IF(AND(Planungsübersicht!$E134>1990,TYPE(Planungsübersicht!$E134)=1,NOT(Planungsübersicht!$F134="Umsetzung nicht möglich")), MAX(Planungsübersicht!I134:Z134)," ") -> 1000
B34: =IF(AND(Planungsübersicht!$E160>1990,TYPE(Planungsübersicht!$E160)=1,NOT(Planungsübersicht!$F160="Umsetzung nicht möglich")), Planungsübersicht!C160," ") -> A3 | C34: =IF(AND(Planungsübersicht!$E160>1990,TYPE(Planungsübersicht!$E160)=1,NOT(Planungsübersicht!$F160="Umsetzung nicht möglich")), Planungsübersicht!D160," ") -> Papier wird getrennt gesammelt (Richtige Trennung von Papier und Restmüll) | D34: =IF(AND(Planungsübersicht!$E160>1990,TYPE(Planungsübersicht!$E160)=1,NOT(Planungsübersicht!$F160="Umsetzung nicht möglich")), Planungsübersicht!E160," ") -> 2013 | E34: =IF(AND(Planungsübersicht!$E160>1990,TYPE(Planungsübersicht!$E160)=1,NOT(Planungsübersicht!$F160="Umsetzung nicht möglich")), Planungsübersicht!F160," ") -> wird laufend umgesetzt | F34: =IF(AND(Planungsübersicht!$E160>1990,TYPE(Planungsübersicht!$E160)=1,NOT(Planungsübersicht!$F160="Umsetzung nicht möglich")), Planungsübersicht!G160," ") -> Herr Jobst und Müllamt | G34: =IF(AND(Planungsübersicht!$E160>1990,TYPE(Planungsübersicht!$E160)=1,NOT(Planungsübersicht!$F160="Umsetzung nicht möglich")), Planungsübersicht!H160," ") -> alle | H34: =IF(AND(Planungsübersicht!$E160>1990,TYPE(Planungsübersicht!$E160)=1,NOT(Planungsübersicht!$F160="Umsetzung nicht möglich")), MAX(Planungsübersicht!I160:Z160)," ") -> 0
B35: =IF(AND(Planungsübersicht!$E170>1990,TYPE(Planungsübersicht!$E170)=1,NOT(Planungsübersicht!$F170="Umsetzung nicht möglich")), Planungsübersicht!C170," ") -> A8 | C35: =IF(AND(Planungsübersicht!$E170>1990,TYPE(Planungsübersicht!$E170)=1,NOT(Planungsübersicht!$F170="Umsetzung nicht möglich")), Planungsübersicht!D170," ") -> Gebrauchsgegenstände und Spielzeug aus Abfall | D35: =IF(AND(Planungsübersicht!$E170>1990,TYPE(Planungsübersicht!$E170)=1,NOT(Planungsübersicht!$F170="Umsetzung nicht möglich")), Planungsübersicht!E170," ") -> 2013 | E35: =IF(AND(Planungsübersicht!$E170>1990,TYPE(Planungsübersicht!$E170)=1,NOT(Planungsübersicht!$F170="Umsetzung nicht möglich")), Planungsübersicht!F170," ") -> umgesetzt | F35: =IF(AND(Planungsübersicht!$E170>1990,TYPE(Planungsübersicht!$E170)=1,NOT(Planungsübersicht!$F170="Umsetzung nicht möglich")), Planungsübersicht!G170," ") -> Frau Boltz, Frau Twesten, Fachlehrer | G35: =IF(AND(Planungsübersicht!$E170>1990,TYPE(Planungsübersicht!$E170)=1,NOT(Planungsübersicht!$F170="Umsetzung nicht möglich")), Planungsübersicht!H170," ") -> Stufe 3/4 | H35: =IF(AND(Planungsübersicht!$E170>1990,TYPE(Planungsübersicht!$E170)=1,NOT(Planungsübersicht!$F170="Umsetzung nicht möglich")), MAX(Planungsübersicht!I170:Z170)," ") -> 0
B36: =IF(AND(Planungsübersicht!$E174>1990,TYPE(Planungsübersicht!$E174)=1,NOT(Planungsübersicht!$F174="Umsetzung nicht möglich")), Planungsübersicht!C174," ") -> A10 | C36: =IF(AND(Planungsübersicht!$E174>1990,TYPE(Planungsübersicht!$E174)=1,NOT(Planungsübersicht!$F174="Umsetzung nicht möglich")), Planungsübersicht!D174," ") -> Einrichten einer Korkensammelstelle | D36: =IF(AND(Planungsübersicht!$E174>1990,TYPE(Planungsübersicht!$E174)=1,NOT(Planungsübersicht!$F174="Umsetzung nicht möglich")), Planungsübersicht!E174," ") -> 2013 | E36: =IF(AND(Planungsübersicht!$E174>1990,TYPE(Planungsübersicht!$E174)=1,NOT(Planungsübersicht!$F174="Umsetzung nicht möglich")), Planungsübersicht!F174," ") -> umgesetzt | F36: =IF(AND(Planungsübersicht!$E174>1990,TYPE(Planungsübersicht!$E174)=1,NOT(Planungsübersicht!$F174="Umsetzung nicht möglich")), Planungsübersicht!G174," ") -> Frau Wahjudi | G36: =IF(AND(Planungsübersicht!$E174>1990,TYPE(Planungsübersicht!$E174)=1,NOT(Planungsübersicht!$F174="Umsetzung nicht möglich")), Planungsübersicht!H174," ") -> Schulgemeinschaft | H36: =IF(AND(Planungsübersicht!$E174>1990,TYPE(Planungsübersicht!$E174)=1,NOT(Planungsübersicht!$F174="Umsetzung nicht möglich")), MAX(Planungsübersicht!I174:Z174)," ") -> 0
B37: =IF(AND(Planungsübersicht!$E176>1990,TYPE(Planungsübersicht!$E176)=1,NOT(Planungsübersicht!$F176="Umsetzung nicht möglich")), Planungsübersicht!C176," ") -> A11 | C37: =IF(AND(Planungsübersicht!$E176>1990,TYPE(Planungsübersicht!$E176)=1,NOT(Planungsübersicht!$F176="Umsetzung nicht möglich")), Planungsübersicht!D176," ") -> Einrichten einer Druckpatronen-Sammelstelle | D37: =IF(AND(Planungsübersicht!$E176>1990,TYPE(Planungsübersicht!$E176)=1,NOT(Planungsübersicht!$F176="Umsetzung nicht möglich")), Planungsübersicht!E176," ") -> 2013 | E37: =IF(AND(Planungsübersicht!$E176>1990,TYPE(Planungsübersicht!$E176)=1,NOT(Planungsübersicht!$F176="Umsetzung nicht möglich")), Planungsübersicht!F176," ") -> umgesetzt | F37: =IF(AND(Planungsübersicht!$E176>1990,TYPE(Planungsübersicht!$E176)=1,NOT(Planungsübersicht!$F176="Umsetzung nicht möglich")), Planungsübersicht!G176," ") -> Frau Twesten | G37: =IF(AND(Planungsübersicht!$E176>1990,TYPE(Planungsübersicht!$E176)=1,NOT(Planungsübersicht!$F176="Umsetzung nicht möglich")), Planungsübersicht!H176," ") -> Schulgemeinschaft | H37: =IF(AND(Planungsübersicht!$E176>1990,TYPE(Planungsübersicht!$E176)=1,NOT(Planungsübersicht!$F176="Umsetzung nicht möglich")), MAX(Planungsübersicht!I176:Z176)," ") -> 0
B38: =IF(AND(Planungsübersicht!$E180>1990,TYPE(Planungsübersicht!$E180)=1,NOT(Planungsübersicht!$F180="Umsetzung nicht möglich")), Planungsübersicht!C180," ") -> A13 | C38: =IF(AND(Planungsübersicht!$E180>1990,TYPE(Planungsübersicht!$E180)=1,NOT(Planungsübersicht!$F180="Umsetzung nicht möglich")), Planungsübersicht!D180," ") -> Neu 2013: Stufenprojekt "Müll" | D38: =IF(AND(Planungsübersicht!$E180>1990,TYPE(Planungsübersicht!$E180)=1,NOT(Planungsübersicht!$F180="Umsetzung nicht möglich")), Planungsübersicht!E180," ") -> 2013 | E38: =IF(AND(Planungsübersicht!$E180>1990,TYPE(Planungsübersicht!$E180)=1,NOT(Planungsübersicht!$F180="Umsetzung nicht möglich")), Planungsübersicht!F180," ") -> umgesetzt | F38: =IF(AND(Planungsübersicht!$E180>1990,TYPE(Planungsübersicht!$E180)=1,NOT(Planungsübersicht!$F180="Umsetzung nicht möglich")), Planungsübersicht!G180," ") -> Fach- und Klassenlehrerinnen der Stufe 2 | G38: =IF(AND(Planungsübersicht!$E180>1990,TYPE(Planungsübersicht!$E180)=1,NOT(Planungsübersicht!$F180="Umsetzung nicht möglich")), Planungsübersicht!H180," ") -> Schüler der Klassenstufe 2 | H38: =IF(AND(Planungsübersicht!$E180>1990,TYPE(Planungsübersicht!$E180)=1,NOT(Planungsübersicht!$F180="Umsetzung nicht möglich")), MAX(Planungsübersicht!I180:Z180)," ") -> 0
B39: =IF(AND(Planungsübersicht!$E198>1990,TYPE(Planungsübersicht!$E198)=1,NOT(Planungsübersicht!$F198="Umsetzung nicht möglich")), Planungsübersicht!C198," ") -> B2 | C39: =IF(AND(Planungsübersicht!$E198>1990,TYPE(Planungsübersicht!$E198)=1,NOT(Planungsübersicht!$F198="Umsetzung nicht möglich")), Planungsübersicht!D198," ") -> Reduktion des Papierverbrauchs | D39: =IF(AND(Planungsübersicht!$E198>1990,TYPE(Planungsübersicht!$E198)=1,NOT(Planungsübersicht!$F198="Umsetzung nicht möglich")), Planungsübersicht!E198," ") -> 2013 | E39: =IF(AND(Planungsübersicht!$E198>1990,TYPE(Planungsübersicht!$E198)=1,NOT(Planungsübersicht!$F198="Umsetzung nicht möglich")), Planungsübersicht!F198," ") -> in Umsetzung (Mitte) | F39: =IF(AND(Planungsübersicht!$E198>1990,TYPE(Planungsübersicht!$E198)=1,NOT(Planungsübersicht!$F198="Umsetzung nicht möglich")), Planungsübersicht!G198," ") -> SL, Frau Twesten | G39: =IF(AND(Planungsübersicht!$E198>1990,TYPE(Planungsübersicht!$E198)=1,NOT(Planungsübersicht!$F198="Umsetzung nicht möglich")), Planungsübersicht!H198," ") -> Frau Boltz, 3S, Frau Twesten | H39: =IF(AND(Planungsübersicht!$E198>1990,TYPE(Planungsübersicht!$E198)=1,NOT(Planungsübersicht!$F198="Umsetzung nicht möglich")), MAX(Planungsübersicht!I198:Z198)," ") -> 0
B40: =IF(AND(Planungsübersicht!$E200>1990,TYPE(Planungsübersicht!$E200)=1,NOT(Planungsübersicht!$F200="Umsetzung nicht möglich")), Planungsübersicht!C200," ") -> B3 | C40: =IF(AND(Planungsübersicht!$E200>1990,TYPE(Planungsübersicht!$E200)=1,NOT(Planungsübersicht!$F200="Umsetzung nicht möglich")), Planungsübersicht!D200," ") -> Neuanschaffungen: Berücksichtigung der Umweltverträglichkeit | D40: =IF(AND(Planungsübersicht!$E200>1990,TYPE(Planungsübersicht!$E200)=1,NOT(Planungsübersicht!$F200="Umsetzung nicht möglich")), Planungsübersicht!E200," ") -> 2013 | E40: =IF(AND(Planungsübersicht!$E200>1990,TYPE(Planungsübersicht!$E200)=1,NOT(Planungsübersicht!$F200="Umsetzung nicht möglich")), Planungsübersicht!F200," ") -> wird laufend umgesetzt | F40: =IF(AND(Planungsübersicht!$E200>1990,TYPE(Planungsübersicht!$E200)=1,NOT(Planungsübersicht!$F200="Umsetzung nicht möglich")), Planungsübersicht!G200," ") -> SL | G40: =IF(AND(Planungsübersicht!$E200>1990,TYPE(Planungsübersicht!$E200)=1,NOT(Planungsübersicht!$F200="Umsetzung nicht möglich")), Planungsübersicht!H200," ") -> Herr Brüning, Herr Jobst | H40: =IF(AND(Planungsübersicht!$E200>1990,TYPE(Planungsübersicht!$E200)=1,NOT(Planungsübersicht!$F200="Umsetzung nicht möglich")), MAX(Planungsübersicht!I200:Z200)," ") -> 0
B41: =IF(AND(Planungsübersicht!$E202>1990,TYPE(Planungsübersicht!$E202)=1,NOT(Planungsübersicht!$F202="Umsetzung nicht möglich")), Planungsübersicht!C202," ") -> B4 | C41: =IF(AND(Planungsübersicht!$E202>1990,TYPE(Planungsübersicht!$E202)=1,NOT(Planungsübersicht!$F202="Umsetzung nicht möglich")), Planungsübersicht!D202," ") -> NEU 2014: Neuanschaffung der Kantinen und Aulamöbel nach umwelt- und klimaverträglichen Aspekten | D41: =IF(AND(Planungsübersicht!$E202>1990,TYPE(Planungsübersicht!$E202)=1,NOT(Planungsübersicht!$F202="Umsetzung nicht möglich")), Planungsübersicht!E202," ") -> 2013 | E41: =IF(AND(Planungsübersicht!$E202>1990,TYPE(Planungsübersicht!$E202)=1,NOT(Planungsübersicht!$F202="Umsetzung nicht möglich")), Planungsübersicht!F202," ") -> umgesetzt | F41: =IF(AND(Planungsübersicht!$E202>1990,TYPE(Planungsübersicht!$E202)=1,NOT(Planungsübersicht!$F202="Umsetzung nicht möglich")), Planungsübersicht!G202," ") -> Herr Brüning | G41: =IF(AND(Planungsübersicht!$E202>1990,TYPE(Planungsübersicht!$E202)=1,NOT(Planungsübersicht!$F202="Umsetzung nicht möglich")), Planungsübersicht!H202," ") -> Schulleitung, Hortleitung, Hausmeister | H41: =IF(AND(Planungsübersicht!$E202>1990,TYPE(Planungsübersicht!$E202)=1,NOT(Planungsübersicht!$F202="Umsetzung nicht möglich")), MAX(Planungsübersicht!I202:Z202)," ") -> 0
B42: =IF(AND(Planungsübersicht!$E274>1990,TYPE(Planungsübersicht!$E274)=1,NOT(Planungsübersicht!$F274="Umsetzung nicht möglich")), Planungsübersicht!C274," ") -> M4 | C42: =IF(AND(Planungsübersicht!$E274>1990,TYPE(Planungsübersicht!$E274)=1,NOT(Planungsübersicht!$F274="Umsetzung nicht möglich")), Planungsübersicht!D274," ") -> Einrichten von Elternhaltestellen | D42: =IF(AND(Planungsübersicht!$E274>1990,TYPE(Planungsübersicht!$E274)=1,NOT(Planungsübersicht!$F274="Umsetzung nicht möglich")), Planungsübersicht!E274," ") -> 2013 | E42: =IF(AND(Planungsübersicht!$E274>1990,TYPE(Planungsübersicht!$E274)=1,NOT(Planungsübersicht!$F274="Umsetzung nicht möglich")), Planungsübersicht!F274," ") -> umgesetzt | F42: =IF(AND(Planungsübersicht!$E274>1990,TYPE(Planungsübersicht!$E274)=1,NOT(Planungsübersicht!$F274="Umsetzung nicht möglich")), Planungsübersicht!G274," ") -> SL, Klima-/Umweltgruppe | G42: =IF(AND(Planungsübersicht!$E274>1990,TYPE(Planungsübersicht!$E274)=1,NOT(Planungsübersicht!$F274="Umsetzung nicht möglich")), Planungsübersicht!H274," ") -> Klimaforscher, Eltern, Lehrer, Klimagruppe | H42: =IF(AND(Planungsübersicht!$E274>1990,TYPE(Planungsübersicht!$E274)=1,NOT(Planungsübersicht!$F274="Umsetzung nicht möglich")), MAX(Planungsübersicht!I274:Z274)," ") -> 0
B43: =IF(AND(Planungsübersicht!$E278>1990,TYPE(Planungsübersicht!$E278)=1,NOT(Planungsübersicht!$F278="Umsetzung nicht möglich")), Planungsübersicht!C278," ") -> M6 | C43: =IF(AND(Planungsübersicht!$E278>1990,TYPE(Planungsübersicht!$E278)=1,NOT(Planungsübersicht!$F278="Umsetzung nicht möglich")), Planungsübersicht!D278," ") -> Entwickeln eines Schulweg-Raps | D43: =IF(AND(Planungsübersicht!$E278>1990,TYPE(Planungsübersicht!$E278)=1,NOT(Planungsübersicht!$F278="Umsetzung nicht möglich")), Planungsübersicht!E278," ") -> 2013 | E43: =IF(AND(Planungsübersicht!$E278>1990,TYPE(Planungsübersicht!$E278)=1,NOT(Planungsübersicht!$F278="Umsetzung nicht möglich")), Planungsübersicht!F278," ") -> umgesetzt | F43: =IF(AND(Planungsübersicht!$E278>1990,TYPE(Planungsübersicht!$E278)=1,NOT(Planungsübersicht!$F278="Umsetzung nicht möglich")), Planungsübersicht!G278," ") -> Frau Weiß (Musiklehrerin) und Frau Boltz | G43: =IF(AND(Planungsübersicht!$E278>1990,TYPE(Planungsübersicht!$E278)=1,NOT(Planungsübersicht!$F278="Umsetzung nicht möglich")), Planungsübersicht!H278," ") -> Schüler der 3b , Musiklehrerin, Klassenlehrerin, Klimabeauftragte | H43: =IF(AND(Planungsübersicht!$E278>1990,TYPE(Planungsübersicht!$E278)=1,NOT(Planungsübersicht!$F278="Umsetzung nicht möglich")), MAX(Planungsübersicht!I278:Z278)," ") -> 0
B44: =IF(AND(Planungsübersicht!$E282>1990,TYPE(Planungsübersicht!$E282)=1,NOT(Planungsübersicht!$F282="Umsetzung nicht möglich")), Planungsübersicht!C282," ") -> M8 | C44: =IF(AND(Planungsübersicht!$E282>1990,TYPE(Planungsübersicht!$E282)=1,NOT(Planungsübersicht!$F282="Umsetzung nicht möglich")), Planungsübersicht!D282," ") -> Schulgemeinschaft stellt "Zu Fuß" mit Luftballons | D44: =IF(AND(Planungsübersicht!$E282>1990,TYPE(Planungsübersicht!$E282)=1,NOT(Planungsübersicht!$F282="Umsetzung nicht möglich")), Planungsübersicht!E282," ") -> 2013 | E44: =IF(AND(Planungsübersicht!$E282>1990,TYPE(Planungsübersicht!$E282)=1,NOT(Planungsübersicht!$F282="Umsetzung nicht möglich")), Planungsübersicht!F282," ") -> umgesetzt | F44: =IF(AND(Planungsübersicht!$E282>1990,TYPE(Planungsübersicht!$E282)=1,NOT(Planungsübersicht!$F282="Umsetzung nicht möglich")), Planungsübersicht!G282," ") -> Frau Boltz | G44: =IF(AND(Planungsübersicht!$E282>1990,TYPE(Planungsübersicht!$E282)=1,NOT(Planungsübersicht!$F282="Umsetzung nicht möglich")), Planungsübersicht!H282," ") -> Schulgemeinschaft | H44: =IF(AND(Planungsübersicht!$E282>1990,TYPE(Planungsübersicht!$E282)=1,NOT(Planungsübersicht!$F282="Umsetzung nicht möglich")), MAX(Planungsübersicht!I282:Z282)," ") -> 0
B45: =IF(AND(Planungsübersicht!$E40>1990,TYPE(Planungsübersicht!$E40)=1,NOT(Planungsübersicht!$F40="Umsetzung nicht möglich")), Planungsübersicht!C40," ") -> Ü7 | C45: =IF(AND(Planungsübersicht!$E40>1990,TYPE(Planungsübersicht!$E40)=1,NOT(Planungsübersicht!$F40="Umsetzung nicht möglich")), Planungsübersicht!D40," ") -> neu 2014: Gemeinsame Umsetzung (Hort und Schule) des Regelwerks zum Klimaschutz | D45: =IF(AND(Planungsübersicht!$E40>1990,TYPE(Planungsübersicht!$E40)=1,NOT(Planungsübersicht!$F40="Umsetzung nicht möglich")), Planungsübersicht!E40," ") -> 2014 | E45: =IF(AND(Planungsübersicht!$E40>1990,TYPE(Planungsübersicht!$E40)=1,NOT(Planungsübersicht!$F40="Umsetzung nicht möglich")), Planungsübersicht!F40," ") -> in Umsetzung (Mitte) | F45: =IF(AND(Planungsübersicht!$E40>1990,TYPE(Planungsübersicht!$E40)=1,NOT(Planungsübersicht!$F40="Umsetzung nicht möglich")), Planungsübersicht!G40," ") -> Frau Bodo (GBS-Koordinatorin) | G45: =IF(AND(Planungsübersicht!$E40>1990,TYPE(Planungsübersicht!$E40)=1,NOT(Planungsübersicht!$F40="Umsetzung nicht möglich")), Planungsübersicht!H40," ") -> Klassenlehrerinnen und Hortmitarbeiter, Schüler | H45: =IF(AND(Planungsübersicht!$E40>1990,TYPE(Planungsübersicht!$E40)=1,NOT(Planungsübersicht!$F40="Umsetzung nicht möglich")), MAX(Planungsübersicht!I40:Z40)," ") -> 0
B46: =IF(AND(Planungsübersicht!$E42>1990,TYPE(Planungsübersicht!$E42)=1,NOT(Planungsübersicht!$F42="Umsetzung nicht möglich")), Planungsübersicht!C42," ") -> Ü8 | C46: =IF(AND(Planungsübersicht!$E42>1990,TYPE(Planungsübersicht!$E42)=1,NOT(Planungsübersicht!$F42="Umsetzung nicht möglich")), Planungsübersicht!D42," ") -> neu 2014: Klimacoach unterstützt den Hm im Bereich Wärme | D46: =IF(AND(Planungsübersicht!$E42>1990,TYPE(Planungsübersicht!$E42)=1,NOT(Planungsübersicht!$F42="Umsetzung nicht möglich")), Planungsübersicht!E42," ") -> 2014 | E46: =IF(AND(Planungsübersicht!$E42>1990,TYPE(Planungsübersicht!$E42)=1,NOT(Planungsübersicht!$F42="Umsetzung nicht möglich")), Planungsübersicht!F42," ") -> in Umsetzung (Mitte) | F46: =IF(AND(Planungsübersicht!$E42>1990,TYPE(Planungsübersicht!$E42)=1,NOT(Planungsübersicht!$F42="Umsetzung nicht möglich")), Planungsübersicht!G42," ") -> Schulleitung, Herr Jobst | G46: =IF(AND(Planungsübersicht!$E42>1990,TYPE(Planungsübersicht!$E42)=1,NOT(Planungsübersicht!$F42="Umsetzung nicht möglich")), Planungsübersicht!H42," ") -> Herr Jobst, Herr Scherer (SBH) | H46: =IF(AND(Planungsübersicht!$E42>1990,TYPE(Planungsübersicht!$E42)=1,NOT(Planungsübersicht!$F42="Umsetzung nicht möglich")), MAX(Planungsübersicht!I42:Z42)," ") -> 0
B47: =IF(AND(Planungsübersicht!$E106>1990,TYPE(Planungsübersicht!$E106)=1,NOT(Planungsübersicht!$F106="Umsetzung nicht möglich")), Planungsübersicht!C106," ") -> W13 | C47: =IF(AND(Planungsübersicht!$E106>1990,TYPE(Planungsübersicht!$E106)=1,NOT(Planungsübersicht!$F106="Umsetzung nicht möglich")), Planungsübersicht!D106," ") -> Tages- und Raumprofil prüfen und optimieren | D47: =IF(AND(Planungsübersicht!$E106>1990,TYPE(Planungsübersicht!$E106)=1,NOT(Planungsübersicht!$F106="Umsetzung nicht möglich")), Planungsübersicht!E106," ") -> 2014 | E47: =IF(AND(Planungsübersicht!$E106>1990,TYPE(Planungsübersicht!$E106)=1,NOT(Planungsübersicht!$F106="Umsetzung nicht möglich")), Planungsübersicht!F106," ") -> wird laufend umgesetzt | F47: =IF(AND(Planungsübersicht!$E106>1990,TYPE(Planungsübersicht!$E106)=1,NOT(Planungsübersicht!$F106="Umsetzung nicht möglich")), Planungsübersicht!G106," ") -> Schulleitung | G47: =IF(AND(Planungsübersicht!$E106>1990,TYPE(Planungsübersicht!$E106)=1,NOT(Planungsübersicht!$F106="Umsetzung nicht möglich")), Planungsübersicht!H106," ") -> HSM + Klimagruppe+Schüler | H47: =IF(AND(Planungsübersicht!$E106>1990,TYPE(Planungsübersicht!$E106)=1,NOT(Planungsübersicht!$F106="Umsetzung nicht möglich")), MAX(Planungsübersicht!I106:Z106)," ") -> 0
B48: =IF(AND(Planungsübersicht!$E108>1990,TYPE(Planungsübersicht!$E108)=1,NOT(Planungsübersicht!$F108="Umsetzung nicht möglich")), Planungsübersicht!C108," ") -> W14 | C48: =IF(AND(Planungsübersicht!$E108>1990,TYPE(Planungsübersicht!$E108)=1,NOT(Planungsübersicht!$F108="Umsetzung nicht möglich")), Planungsübersicht!D108," ") -> Neu 2014: Gummidichtungen an den Fenstern im Verwaltungsgebäude reinigen/ erneuern | D48: =IF(AND(Planungsübersicht!$E108>1990,TYPE(Planungsübersicht!$E108)=1,NOT(Planungsübersicht!$F108="Umsetzung nicht möglich")), Planungsübersicht!E108," ") -> 2014 | E48: =IF(AND(Planungsübersicht!$E108>1990,TYPE(Planungsübersicht!$E108)=1,NOT(Planungsübersicht!$F108="Umsetzung nicht möglich")), Planungsübersicht!F108," ") -> umgesetzt | F48: =IF(AND(Planungsübersicht!$E108>1990,TYPE(Planungsübersicht!$E108)=1,NOT(Planungsübersicht!$F108="Umsetzung nicht möglich")), Planungsübersicht!G108," ") -> SL, HSM | G48: =IF(AND(Planungsübersicht!$E108>1990,TYPE(Planungsübersicht!$E108)=1,NOT(Planungsübersicht!$F108="Umsetzung nicht möglich")), Planungsübersicht!H108," ") -> HSM | H48: =IF(AND(Planungsübersicht!$E108>1990,TYPE(Planungsübersicht!$E108)=1,NOT(Planungsübersicht!$F108="Umsetzung nicht möglich")), MAX(Planungsübersicht!I108:Z108)," ") -> 3000
B49: =IF(AND(Planungsübersicht!$E138>1990,TYPE(Planungsübersicht!$E138)=1,NOT(Planungsübersicht!$F138="Umsetzung nicht möglich")), Planungsübersicht!C138," ") -> S10 | C49: =IF(AND(Planungsübersicht!$E138>1990,TYPE(Planungsübersicht!$E138)=1,NOT(Planungsübersicht!$F138="Umsetzung nicht möglich")), Planungsübersicht!D138," ") -> Installation von Zwischenzähler im H-Gebäude und Verwaltungsgebäude | D49: =IF(AND(Planungsübersicht!$E138>1990,TYPE(Planungsübersicht!$E138)=1,NOT(Planungsübersicht!$F138="Umsetzung nicht möglich")), Planungsübersicht!E138," ") -> 2014 | E49: =IF(AND(Planungsübersicht!$E138>1990,TYPE(Planungsübersicht!$E138)=1,NOT(Planungsübersicht!$F138="Umsetzung nicht möglich")), Planungsübersicht!F138," ") -> umgesetzt | F49: =IF(AND(Planungsübersicht!$E138>1990,TYPE(Planungsübersicht!$E138)=1,NOT(Planungsübersicht!$F138="Umsetzung nicht möglich")), Planungsübersicht!G138," ") -> Frau Boltz, Herr Jobst | G49: =IF(AND(Planungsübersicht!$E138>1990,TYPE(Planungsübersicht!$E138)=1,NOT(Planungsübersicht!$F138="Umsetzung nicht möglich")), Planungsübersicht!H138," ") -> HSM Müssenredder (Herr Jobst) + CvO (Herr Herzog) | H49: =IF(AND(Planungsübersicht!$E138>1990,TYPE(Planungsübersicht!$E138)=1,NOT(Planungsübersicht!$F138="Umsetzung nicht möglich")), MAX(Planungsübersicht!I138:Z138)," ") -> 0
B50: =IF(AND(Planungsübersicht!$E48>1990,TYPE(Planungsübersicht!$E48)=1,NOT(Planungsübersicht!$F48="Umsetzung nicht möglich")), Planungsübersicht!C48," ") -> Ü11 | C50: =IF(AND(Planungsübersicht!$E48>1990,TYPE(Planungsübersicht!$E48)=1,NOT(Planungsübersicht!$F48="Umsetzung nicht möglich")), Planungsübersicht!D48," ") -> Förderung der Biodiversität | D50: =IF(AND(Planungsübersicht!$E48>1990,TYPE(Planungsübersicht!$E48)=1,NOT(Planungsübersicht!$F48="Umsetzung nicht möglich")), Planungsübersicht!E48," ") -> 2017 | E50: =IF(AND(Planungsübersicht!$E48>1990,TYPE(Planungsübersicht!$E48)=1,NOT(Planungsübersicht!$F48="Umsetzung nicht möglich")), Planungsübersicht!F48," ") -> wird laufend umgesetzt | F50: =IF(AND(Planungsübersicht!$E48>1990,TYPE(Planungsübersicht!$E48)=1,NOT(Planungsübersicht!$F48="Umsetzung nicht möglich")), Planungsübersicht!G48," ") -> Frau Petersen | G50: =IF(AND(Planungsübersicht!$E48>1990,TYPE(Planungsübersicht!$E48)=1,NOT(Planungsübersicht!$F48="Umsetzung nicht möglich")), Planungsübersicht!H48," ") -> Frau Twesten, Frau Schmalenbach, Frau Petersen, Frau Wagner (Imkerin) | H50: =IF(AND(Planungsübersicht!$E48>1990,TYPE(Planungsübersicht!$E48)=1,NOT(Planungsübersicht!$F48="Umsetzung nicht möglich")), MAX(Planungsübersicht!I48:Z48)," ") -> 0
B51: =IF(AND(Planungsübersicht!$E142>1990,TYPE(Planungsübersicht!$E142)=1,NOT(Planungsübersicht!$F142="Umsetzung nicht möglich")), Planungsübersicht!C142," ") -> S12 | C51: =IF(AND(Planungsübersicht!$E142>1990,TYPE(Planungsübersicht!$E142)=1,NOT(Planungsübersicht!$F142="Umsetzung nicht möglich")), Planungsübersicht!D142," ") -> Installation von Bewegungsmeldern in Treppenhäusern, Fluren und Vorfluren sowie Lehrerzimmer, Lehrerbücherei | D51: =IF(AND(Planungsübersicht!$E142>1990,TYPE(Planungsübersicht!$E142)=1,NOT(Planungsübersicht!$F142="Umsetzung nicht möglich")), Planungsübersicht!E142," ") -> 2017 | E51: =IF(AND(Planungsübersicht!$E142>1990,TYPE(Planungsübersicht!$E142)=1,NOT(Planungsübersicht!$F142="Umsetzung nicht möglich")), Planungsübersicht!F142," ") -> umgesetzt | F51: =IF(AND(Planungsübersicht!$E142>1990,TYPE(Planungsübersicht!$E142)=1,NOT(Planungsübersicht!$F142="Umsetzung nicht möglich")), Planungsübersicht!G142," ") -> SBH, Frau Boltz, Herr Jobst, 50/50 | G51: =IF(AND(Planungsübersicht!$E142>1990,TYPE(Planungsübersicht!$E142)=1,NOT(Planungsübersicht!$F142="Umsetzung nicht möglich")), Planungsübersicht!H142," ") -> Elektrofirma laut Ausschreibung | H51: =IF(AND(Planungsübersicht!$E142>1990,TYPE(Planungsübersicht!$E142)=1,NOT(Planungsübersicht!$F142="Umsetzung nicht möglich")), MAX(Planungsübersicht!I142:Z142)," ") -> 0
B52: =IF(AND(Planungsübersicht!$E96>1990,TYPE(Planungsübersicht!$E96)=1,NOT(Planungsübersicht!$F96="Umsetzung nicht möglich")), Planungsübersicht!C96," ") -> W10e | C52: =IF(AND(Planungsübersicht!$E96>1990,TYPE(Planungsübersicht!$E96)=1,NOT(Planungsübersicht!$F96="Umsetzung nicht möglich")), Planungsübersicht!D96," ") -> Effektive Heizung (Heizkreis reparieren Klassengebäude West, Ost) | D52: =IF(AND(Planungsübersicht!$E96>1990,TYPE(Planungsübersicht!$E96)=1,NOT(Planungsübersicht!$F96="Umsetzung nicht möglich")), Planungsübersicht!E96," ") -> 2018 | E52: =IF(AND(Planungsübersicht!$E96>1990,TYPE(Planungsübersicht!$E96)=1,NOT(Planungsübersicht!$F96="Umsetzung nicht möglich")), Planungsübersicht!F96," ") -> in Umsetzung (Anfang) | F52: =IF(AND(Planungsübersicht!$E96>1990,TYPE(Planungsübersicht!$E96)=1,NOT(Planungsübersicht!$F96="Umsetzung nicht möglich")), Planungsübersicht!G96," ") -> 0 | G52: =IF(AND(Planungsübersicht!$E96>1990,TYPE(Planungsübersicht!$E96)=1,NOT(Planungsübersicht!$F96="Umsetzung nicht möglich")), Planungsübersicht!H96," ") -> 0 | H52: =IF(AND(Planungsübersicht!$E96>1990,TYPE(Planungsübersicht!$E96)=1,NOT(Planungsübersicht!$F96="Umsetzung nicht möglich")), MAX(Planungsübersicht!I96:Z96)," ") -> 0
B53: =IF(AND(Planungsübersicht!$E112>1990,TYPE(Planungsübersicht!$E112)=1,NOT(Planungsübersicht!$F112="Umsetzung nicht möglich")), Planungsübersicht!C112," ") -> W16 | C53: =IF(AND(Planungsübersicht!$E112>1990,TYPE(Planungsübersicht!$E112)=1,NOT(Planungsübersicht!$F112="Umsetzung nicht möglich")), Planungsübersicht!D112," ") -> Monatliches Ablesen des Unterzählers | D53: =IF(AND(Planungsübersicht!$E112>1990,TYPE(Planungsübersicht!$E112)=1,NOT(Planungsübersicht!$F112="Umsetzung nicht möglich")), Planungsübersicht!E112," ") -> 2022 | E53: =IF(AND(Planungsübersicht!$E112>1990,TYPE(Planungsübersicht!$E112)=1,NOT(Planungsübersicht!$F112="Umsetzung nicht möglich")), Planungsübersicht!F112," ") -> in Umsetzung (Mitte) | F53: =IF(AND(Planungsübersicht!$E112>1990,TYPE(Planungsübersicht!$E112)=1,NOT(Planungsübersicht!$F112="Umsetzung nicht möglich")), Planungsübersicht!G112," ") -> Klima-Beauftragte, HSM | G53: =IF(AND(Planungsübersicht!$E112>1990,TYPE(Planungsübersicht!$E112)=1,NOT(Planungsübersicht!$F112="Umsetzung nicht möglich")), Planungsübersicht!H112," ") -> Frau Twesten, Frau Schmalenbach, Herr Jobst | H53: =IF(AND(Planungsübersicht!$E112>1990,TYPE(Planungsübersicht!$E112)=1,NOT(Planungsübersicht!$F112="Umsetzung nicht möglich")), MAX(Planungsübersicht!I112:Z112)," ") -> 0
B54: =IF(AND(Planungsübersicht!$E144>1990,TYPE(Planungsübersicht!$E144)=1,NOT(Planungsübersicht!$F144="Umsetzung nicht möglich")), Planungsübersicht!C144," ") -> S13 | C54: =IF(AND(Planungsübersicht!$E144>1990,TYPE(Planungsübersicht!$E144)=1,NOT(Planungsübersicht!$F144="Umsetzung nicht möglich")), Planungsübersicht!D144," ") -> Installation einer Solaranlage im Innenhof für den Betrieb der Wasserpumpe | D54: =IF(AND(Planungsübersicht!$E144>1990,TYPE(Planungsübersicht!$E144)=1,NOT(Planungsübersicht!$F144="Umsetzung nicht möglich")), Planungsübersicht!E144," ") -> 2018 | E54: =IF(AND(Planungsübersicht!$E144>1990,TYPE(Planungsübersicht!$E144)=1,NOT(Planungsübersicht!$F144="Umsetzung nicht möglich")), Planungsübersicht!F144," ") -> umgesetzt | F54: =IF(AND(Planungsübersicht!$E144>1990,TYPE(Planungsübersicht!$E144)=1,NOT(Planungsübersicht!$F144="Umsetzung nicht möglich")), Planungsübersicht!G144," ") -> Umwelt-/Klimagruppe, HSM | G54: =IF(AND(Planungsübersicht!$E144>1990,TYPE(Planungsübersicht!$E144)=1,NOT(Planungsübersicht!$F144="Umsetzung nicht möglich")), Planungsübersicht!H144," ") -> 0 | H54: =IF(AND(Planungsübersicht!$E144>1990,TYPE(Planungsübersicht!$E144)=1,NOT(Planungsübersicht!$F144="Umsetzung nicht möglich")), MAX(Planungsübersicht!I144:Z144)," ") -> 0
B55: =IF(AND(Planungsübersicht!$E188>1990,TYPE(Planungsübersicht!$E188)=1,NOT(Planungsübersicht!$F188="Umsetzung nicht möglich")), Planungsübersicht!C188," ") -> A17 | C55: =IF(AND(Planungsübersicht!$E188>1990,TYPE(Planungsübersicht!$E188)=1,NOT(Planungsübersicht!$F188="Umsetzung nicht möglich")), Planungsübersicht!D188," ") -> NEU 2024: Vermeidung von Müll: Weitergabe ausgemusterter PCs+Monitore | D55: =IF(AND(Planungsübersicht!$E188>1990,TYPE(Planungsübersicht!$E188)=1,NOT(Planungsübersicht!$F188="Umsetzung nicht möglich")), Planungsübersicht!E188," ") -> 2024 | E55: =IF(AND(Planungsübersicht!$E188>1990,TYPE(Planungsübersicht!$E188)=1,NOT(Planungsübersicht!$F188="Umsetzung nicht möglich")), Planungsübersicht!F188," ") -> umgesetzt | F55: =IF(AND(Planungsübersicht!$E188>1990,TYPE(Planungsübersicht!$E188)=1,NOT(Planungsübersicht!$F188="Umsetzung nicht möglich")), Planungsübersicht!G188," ") -> Medienbeauftragte Müssenredder und STS Walddörfer | G55: =IF(AND(Planungsübersicht!$E188>1990,TYPE(Planungsübersicht!$E188)=1,NOT(Planungsübersicht!$F188="Umsetzung nicht möglich")), Planungsübersicht!H188," ") -> Frau Twesten, Frau Möller | H55: =IF(AND(Planungsübersicht!$E188>1990,TYPE(Planungsübersicht!$E188)=1,NOT(Planungsübersicht!$F188="Umsetzung nicht möglich")), MAX(Planungsübersicht!I188:Z188)," ") -> 0
B56: =IF(AND(Planungsübersicht!$E86>1990,TYPE(Planungsübersicht!$E86)=1,NOT(Planungsübersicht!$F86="Umsetzung nicht möglich")), Planungsübersicht!C86," ") -> W9 | C56: =IF(AND(Planungsübersicht!$E86>1990,TYPE(Planungsübersicht!$E86)=1,NOT(Planungsübersicht!$F86="Umsetzung nicht möglich")), Planungsübersicht!D86," ") -> Fensterteilsanierung/ Austausch im Verwaltungsgebäude | D56: =IF(AND(Planungsübersicht!$E86>1990,TYPE(Planungsübersicht!$E86)=1,NOT(Planungsübersicht!$F86="Umsetzung nicht möglich")), Planungsübersicht!E86," ") -> 2021 | E56: =IF(AND(Planungsübersicht!$E86>1990,TYPE(Planungsübersicht!$E86)=1,NOT(Planungsübersicht!$F86="Umsetzung nicht möglich")), Planungsübersicht!F86," ") -> zukünftiger Termin | F56: =IF(AND(Planungsübersicht!$E86>1990,TYPE(Planungsübersicht!$E86)=1,NOT(Planungsübersicht!$F86="Umsetzung nicht möglich")), Planungsübersicht!G86," ") -> SBH | G56: =IF(AND(Planungsübersicht!$E86>1990,TYPE(Planungsübersicht!$E86)=1,NOT(Planungsübersicht!$F86="Umsetzung nicht möglich")), Planungsübersicht!H86," ") -> SBH | H56: =IF(AND(Planungsübersicht!$E86>1990,TYPE(Planungsübersicht!$E86)=1,NOT(Planungsübersicht!$F86="Umsetzung nicht möglich")), MAX(Planungsübersicht!I86:Z86)," ") -> 1500
B57: =IF(AND(Planungsübersicht!$E29>1990,TYPE(Planungsübersicht!$E29)=1,NOT(Planungsübersicht!$F29="Umsetzung nicht möglich")), Planungsübersicht!C29," ") | C57: =IF(AND(Planungsübersicht!$E29>1990,TYPE(Planungsübersicht!$E29)=1,NOT(Planungsübersicht!$F29="Umsetzung nicht möglich")), Planungsübersicht!D29," ") | D57: =IF(AND(Planungsübersicht!$E29>1990,TYPE(Planungsübersicht!$E29)=1,NOT(Planungsübersicht!$F29="Umsetzung nicht möglich")), Planungsübersicht!E29," ") | E57: =IF(AND(Planungsübersicht!$E29>1990,TYPE(Planungsübersicht!$E29)=1,NOT(Planungsübersicht!$F29="Umsetzung nicht möglich")), Planungsübersicht!F29," ") | F57: =IF(AND(Planungsübersicht!$E29>1990,TYPE(Planungsübersicht!$E29)=1,NOT(Planungsübersicht!$F29="Umsetzung nicht möglich")), Planungsübersicht!G29," ") | G57: =IF(AND(Planungsübersicht!$E29>1990,TYPE(Planungsübersicht!$E29)=1,NOT(Planungsübersicht!$F29="Umsetzung nicht möglich")), Planungsübersicht!H29," ") | H57: =IF(AND(Planungsübersicht!$E29>1990,TYPE(Planungsübersicht!$E29)=1,NOT(Planungsübersicht!$F29="Umsetzung nicht möglich")), MAX(Planungsübersicht!I29:Z29)," ")
B58: =IF(AND(Planungsübersicht!$E31>1990,TYPE(Planungsübersicht!$E31)=1,NOT(Planungsübersicht!$F31="Umsetzung nicht möglich")), Planungsübersicht!C31," ") | C58: =IF(AND(Planungsübersicht!$E31>1990,TYPE(Planungsübersicht!$E31)=1,NOT(Planungsübersicht!$F31="Umsetzung nicht möglich")), Planungsübersicht!D31," ") | D58: =IF(AND(Planungsübersicht!$E31>1990,TYPE(Planungsübersicht!$E31)=1,NOT(Planungsübersicht!$F31="Umsetzung nicht möglich")), Planungsübersicht!E31," ") | E58: =IF(AND(Planungsübersicht!$E31>1990,TYPE(Planungsübersicht!$E31)=1,NOT(Planungsübersicht!$F31="Umsetzung nicht möglich")), Planungsübersicht!F31," ") | F58: =IF(AND(Planungsübersicht!$E31>1990,TYPE(Planungsübersicht!$E31)=1,NOT(Planungsübersicht!$F31="Umsetzung nicht möglich")), Planungsübersicht!G31," ") | G58: =IF(AND(Planungsübersicht!$E31>1990,TYPE(Planungsübersicht!$E31)=1,NOT(Planungsübersicht!$F31="Umsetzung nicht möglich")), Planungsübersicht!H31," ") | H58: =IF(AND(Planungsübersicht!$E31>1990,TYPE(Planungsübersicht!$E31)=1,NOT(Planungsübersicht!$F31="Umsetzung nicht möglich")), MAX(Planungsübersicht!I31:Z31)," ")
B59: =IF(AND(Planungsübersicht!$E33>1990,TYPE(Planungsübersicht!$E33)=1,NOT(Planungsübersicht!$F33="Umsetzung nicht möglich")), Planungsübersicht!C33," ") | C59: =IF(AND(Planungsübersicht!$E33>1990,TYPE(Planungsübersicht!$E33)=1,NOT(Planungsübersicht!$F33="Umsetzung nicht möglich")), Planungsübersicht!D33," ") | D59: =IF(AND(Planungsübersicht!$E33>1990,TYPE(Planungsübersicht!$E33)=1,NOT(Planungsübersicht!$F33="Umsetzung nicht möglich")), Planungsübersicht!E33," ") | E59: =IF(AND(Planungsübersicht!$E33>1990,TYPE(Planungsübersicht!$E33)=1,NOT(Planungsübersicht!$F33="Umsetzung nicht möglich")), Planungsübersicht!F33," ") | F59: =IF(AND(Planungsübersicht!$E33>1990,TYPE(Planungsübersicht!$E33)=1,NOT(Planungsübersicht!$F33="Umsetzung nicht möglich")), Planungsübersicht!G33," ") | G59: =IF(AND(Planungsübersicht!$E33>1990,TYPE(Planungsübersicht!$E33)=1,NOT(Planungsübersicht!$F33="Umsetzung nicht möglich")), Planungsübersicht!H33," ") | H59: =IF(AND(Planungsübersicht!$E33>1990,TYPE(Planungsübersicht!$E33)=1,NOT(Planungsübersicht!$F33="Umsetzung nicht möglich")), MAX(Planungsübersicht!I33:Z33)," ")
B60: =IF(AND(Planungsübersicht!$E35>1990,TYPE(Planungsübersicht!$E35)=1,NOT(Planungsübersicht!$F35="Umsetzung nicht möglich")), Planungsübersicht!C35," ") | C60: =IF(AND(Planungsübersicht!$E35>1990,TYPE(Planungsübersicht!$E35)=1,NOT(Planungsübersicht!$F35="Umsetzung nicht möglich")), Planungsübersicht!D35," ") | D60: =IF(AND(Planungsübersicht!$E35>1990,TYPE(Planungsübersicht!$E35)=1,NOT(Planungsübersicht!$F35="Umsetzung nicht möglich")), Planungsübersicht!E35," ") | E60: =IF(AND(Planungsübersicht!$E35>1990,TYPE(Planungsübersicht!$E35)=1,NOT(Planungsübersicht!$F35="Umsetzung nicht möglich")), Planungsübersicht!F35," ") | F60: =IF(AND(Planungsübersicht!$E35>1990,TYPE(Planungsübersicht!$E35)=1,NOT(Planungsübersicht!$F35="Umsetzung nicht möglich")), Planungsübersicht!G35," ") | G60: =IF(AND(Planungsübersicht!$E35>1990,TYPE(Planungsübersicht!$E35)=1,NOT(Planungsübersicht!$F35="Umsetzung nicht möglich")), Planungsübersicht!H35," ") | H60: =IF(AND(Planungsübersicht!$E35>1990,TYPE(Planungsübersicht!$E35)=1,NOT(Planungsübersicht!$F35="Umsetzung nicht möglich")), MAX(Planungsübersicht!I35:Z35)," ")
B61: =IF(AND(Planungsübersicht!$E37>1990,TYPE(Planungsübersicht!$E37)=1,NOT(Planungsübersicht!$F37="Umsetzung nicht möglich")), Planungsübersicht!C37," ") | C61: =IF(AND(Planungsübersicht!$E37>1990,TYPE(Planungsübersicht!$E37)=1,NOT(Planungsübersicht!$F37="Umsetzung nicht möglich")), Planungsübersicht!D37," ") | D61: =IF(AND(Planungsübersicht!$E37>1990,TYPE(Planungsübersicht!$E37)=1,NOT(Planungsübersicht!$F37="Umsetzung nicht möglich")), Planungsübersicht!E37," ") | E61: =IF(AND(Planungsübersicht!$E37>1990,TYPE(Planungsübersicht!$E37)=1,NOT(Planungsübersicht!$F37="Umsetzung nicht möglich")), Planungsübersicht!F37," ") | F61: =IF(AND(Planungsübersicht!$E37>1990,TYPE(Planungsübersicht!$E37)=1,NOT(Planungsübersicht!$F37="Umsetzung nicht möglich")), Planungsübersicht!G37," ") | G61: =IF(AND(Planungsübersicht!$E37>1990,TYPE(Planungsübersicht!$E37)=1,NOT(Planungsübersicht!$F37="Umsetzung nicht möglich")), Planungsübersicht!H37," ") | H61: =IF(AND(Planungsübersicht!$E37>1990,TYPE(Planungsübersicht!$E37)=1,NOT(Planungsübersicht!$F37="Umsetzung nicht möglich")), MAX(Planungsübersicht!I37:Z37)," ")
B62: =IF(AND(Planungsübersicht!$E39>1990,TYPE(Planungsübersicht!$E39)=1,NOT(Planungsübersicht!$F39="Umsetzung nicht möglich")), Planungsübersicht!C39," ") | C62: =IF(AND(Planungsübersicht!$E39>1990,TYPE(Planungsübersicht!$E39)=1,NOT(Planungsübersicht!$F39="Umsetzung nicht möglich")), Planungsübersicht!D39," ") | D62: =IF(AND(Planungsübersicht!$E39>1990,TYPE(Planungsübersicht!$E39)=1,NOT(Planungsübersicht!$F39="Umsetzung nicht möglich")), Planungsübersicht!E39," ") | E62: =IF(AND(Planungsübersicht!$E39>1990,TYPE(Planungsübersicht!$E39)=1,NOT(Planungsübersicht!$F39="Umsetzung nicht möglich")), Planungsübersicht!F39," ") | F62: =IF(AND(Planungsübersicht!$E39>1990,TYPE(Planungsübersicht!$E39)=1,NOT(Planungsübersicht!$F39="Umsetzung nicht möglich")), Planungsübersicht!G39," ") | G62: =IF(AND(Planungsübersicht!$E39>1990,TYPE(Planungsübersicht!$E39)=1,NOT(Planungsübersicht!$F39="Umsetzung nicht möglich")), Planungsübersicht!H39," ") | H62: =IF(AND(Planungsübersicht!$E39>1990,TYPE(Planungsübersicht!$E39)=1,NOT(Planungsübersicht!$F39="Umsetzung nicht möglich")), MAX(Planungsübersicht!I39:Z39)," ")
B63: =IF(AND(Planungsübersicht!$E41>1990,TYPE(Planungsübersicht!$E41)=1,NOT(Planungsübersicht!$F41="Umsetzung nicht möglich")), Planungsübersicht!C41," ") | C63: =IF(AND(Planungsübersicht!$E41>1990,TYPE(Planungsübersicht!$E41)=1,NOT(Planungsübersicht!$F41="Umsetzung nicht möglich")), Planungsübersicht!D41," ") | D63: =IF(AND(Planungsübersicht!$E41>1990,TYPE(Planungsübersicht!$E41)=1,NOT(Planungsübersicht!$F41="Umsetzung nicht möglich")), Planungsübersicht!E41," ") | E63: =IF(AND(Planungsübersicht!$E41>1990,TYPE(Planungsübersicht!$E41)=1,NOT(Planungsübersicht!$F41="Umsetzung nicht möglich")), Planungsübersicht!F41," ") | F63: =IF(AND(Planungsübersicht!$E41>1990,TYPE(Planungsübersicht!$E41)=1,NOT(Planungsübersicht!$F41="Umsetzung nicht möglich")), Planungsübersicht!G41," ") | G63: =IF(AND(Planungsübersicht!$E41>1990,TYPE(Planungsübersicht!$E41)=1,NOT(Planungsübersicht!$F41="Umsetzung nicht möglich")), Planungsübersicht!H41," ") | H63: =IF(AND(Planungsübersicht!$E41>1990,TYPE(Planungsübersicht!$E41)=1,NOT(Planungsübersicht!$F41="Umsetzung nicht möglich")), MAX(Planungsübersicht!I41:Z41)," ")
B64: =IF(AND(Planungsübersicht!$E43>1990,TYPE(Planungsübersicht!$E43)=1,NOT(Planungsübersicht!$F43="Umsetzung nicht möglich")), Planungsübersicht!C43," ") | C64: =IF(AND(Planungsübersicht!$E43>1990,TYPE(Planungsübersicht!$E43)=1,NOT(Planungsübersicht!$F43="Umsetzung nicht möglich")), Planungsübersicht!D43," ") | D64: =IF(AND(Planungsübersicht!$E43>1990,TYPE(Planungsübersicht!$E43)=1,NOT(Planungsübersicht!$F43="Umsetzung nicht möglich")), Planungsübersicht!E43," ") | E64: =IF(AND(Planungsübersicht!$E43>1990,TYPE(Planungsübersicht!$E43)=1,NOT(Planungsübersicht!$F43="Umsetzung nicht möglich")), Planungsübersicht!F43," ") | F64: =IF(AND(Planungsübersicht!$E43>1990,TYPE(Planungsübersicht!$E43)=1,NOT(Planungsübersicht!$F43="Umsetzung nicht möglich")), Planungsübersicht!G43," ") | G64: =IF(AND(Planungsübersicht!$E43>1990,TYPE(Planungsübersicht!$E43)=1,NOT(Planungsübersicht!$F43="Umsetzung nicht möglich")), Planungsübersicht!H43," ") | H64: =IF(AND(Planungsübersicht!$E43>1990,TYPE(Planungsübersicht!$E43)=1,NOT(Planungsübersicht!$F43="Umsetzung nicht möglich")), MAX(Planungsübersicht!I43:Z43)," ")
B65: =IF(AND(Planungsübersicht!$E45>1990,TYPE(Planungsübersicht!$E45)=1,NOT(Planungsübersicht!$F45="Umsetzung nicht möglich")), Planungsübersicht!C45," ") | C65: =IF(AND(Planungsübersicht!$E45>1990,TYPE(Planungsübersicht!$E45)=1,NOT(Planungsübersicht!$F45="Umsetzung nicht möglich")), Planungsübersicht!D45," ") | D65: =IF(AND(Planungsübersicht!$E45>1990,TYPE(Planungsübersicht!$E45)=1,NOT(Planungsübersicht!$F45="Umsetzung nicht möglich")), Planungsübersicht!E45," ") | E65: =IF(AND(Planungsübersicht!$E45>1990,TYPE(Planungsübersicht!$E45)=1,NOT(Planungsübersicht!$F45="Umsetzung nicht möglich")), Planungsübersicht!F45," ") | F65: =IF(AND(Planungsübersicht!$E45>1990,TYPE(Planungsübersicht!$E45)=1,NOT(Planungsübersicht!$F45="Umsetzung nicht möglich")), Planungsübersicht!G45," ") | G65: =IF(AND(Planungsübersicht!$E45>1990,TYPE(Planungsübersicht!$E45)=1,NOT(Planungsübersicht!$F45="Umsetzung nicht möglich")), Planungsübersicht!H45," ") | H65: =IF(AND(Planungsübersicht!$E45>1990,TYPE(Planungsübersicht!$E45)=1,NOT(Planungsübersicht!$F45="Umsetzung nicht möglich")), MAX(Planungsübersicht!I45:Z45)," ")
B66: =IF(AND(Planungsübersicht!$E46>1990,TYPE(Planungsübersicht!$E46)=1,NOT(Planungsübersicht!$F46="Umsetzung nicht möglich")),Planungsübersicht!C46," ") -> Ü10 | C66: =IF(AND(Planungsübersicht!$E46>1990,TYPE(Planungsübersicht!$E46)=1,NOT(Planungsübersicht!$F46="Umsetzung nicht möglich")),Planungsübersicht!D46," ") -> Pflanzen von Klimabäumen | D66: =IF(AND(Planungsübersicht!$E46>1990,TYPE(Planungsübersicht!$E46)=1,NOT(Planungsübersicht!$F46="Umsetzung nicht möglich")),Planungsübersicht!E46," ") -> 2016 | E66: =IF(AND(Planungsübersicht!$E46>1990,TYPE(Planungsübersicht!$E46)=1,NOT(Planungsübersicht!$F46="Umsetzung nicht möglich")),Planungsübersicht!F46," ") -> wird laufend umgesetzt | F66: =IF(AND(Planungsübersicht!$E46>1990,TYPE(Planungsübersicht!$E46)=1,NOT(Planungsübersicht!$F46="Umsetzung nicht möglich")),Planungsübersicht!G46," ") -> Frau Schmalenbach | G66: =IF(AND(Planungsübersicht!$E46>1990,TYPE(Planungsübersicht!$E46)=1,NOT(Planungsübersicht!$F46="Umsetzung nicht möglich")),Planungsübersicht!H46," ") -> Schulgemeinschaft | H66: =IF(AND(Planungsübersicht!$E46>1990,TYPE(Planungsübersicht!$E46)=1,NOT(Planungsübersicht!$F46="Umsetzung nicht möglich")),MAX(Planungsübersicht!I46:Z46)," ") -> 0
B67: =IF(AND(Planungsübersicht!$E47>1990,TYPE(Planungsübersicht!$E47)=1,NOT(Planungsübersicht!$F47="Umsetzung nicht möglich")),Planungsübersicht!C47," ") | C67: =IF(AND(Planungsübersicht!$E47>1990,TYPE(Planungsübersicht!$E47)=1,NOT(Planungsübersicht!$F47="Umsetzung nicht möglich")),Planungsübersicht!D47," ") | D67: =IF(AND(Planungsübersicht!$E47>1990,TYPE(Planungsübersicht!$E47)=1,NOT(Planungsübersicht!$F47="Umsetzung nicht möglich")),Planungsübersicht!E47," ") | E67: =IF(AND(Planungsübersicht!$E47>1990,TYPE(Planungsübersicht!$E47)=1,NOT(Planungsübersicht!$F47="Umsetzung nicht möglich")),Planungsübersicht!F47," ") | F67: =IF(AND(Planungsübersicht!$E47>1990,TYPE(Planungsübersicht!$E47)=1,NOT(Planungsübersicht!$F47="Umsetzung nicht möglich")),Planungsübersicht!G47," ") | G67: =IF(AND(Planungsübersicht!$E47>1990,TYPE(Planungsübersicht!$E47)=1,NOT(Planungsübersicht!$F47="Umsetzung nicht möglich")),Planungsübersicht!H47," ") | H67: =IF(AND(Planungsübersicht!$E47>1990,TYPE(Planungsübersicht!$E47)=1,NOT(Planungsübersicht!$F47="Umsetzung nicht möglich")),MAX(Planungsübersicht!I47:Z47)," ")
B68: =IF(AND(Planungsübersicht!$E49>1990,TYPE(Planungsübersicht!$E49)=1,NOT(Planungsübersicht!$F49="Umsetzung nicht möglich")), Planungsübersicht!C49," ") | C68: =IF(AND(Planungsübersicht!$E49>1990,TYPE(Planungsübersicht!$E49)=1,NOT(Planungsübersicht!$F49="Umsetzung nicht möglich")), Planungsübersicht!D49," ") | D68: =IF(AND(Planungsübersicht!$E49>1990,TYPE(Planungsübersicht!$E49)=1,NOT(Planungsübersicht!$F49="Umsetzung nicht möglich")), Planungsübersicht!E49," ") | E68: =IF(AND(Planungsübersicht!$E49>1990,TYPE(Planungsübersicht!$E49)=1,NOT(Planungsübersicht!$F49="Umsetzung nicht möglich")), Planungsübersicht!F49," ") | F68: =IF(AND(Planungsübersicht!$E49>1990,TYPE(Planungsübersicht!$E49)=1,NOT(Planungsübersicht!$F49="Umsetzung nicht möglich")), Planungsübersicht!G49," ") | G68: =IF(AND(Planungsübersicht!$E49>1990,TYPE(Planungsübersicht!$E49)=1,NOT(Planungsübersicht!$F49="Umsetzung nicht möglich")), Planungsübersicht!H49," ") | H68: =IF(AND(Planungsübersicht!$E49>1990,TYPE(Planungsübersicht!$E49)=1,NOT(Planungsübersicht!$F49="Umsetzung nicht möglich")), MAX(Planungsübersicht!I49:Z49)," ")
B69: =IF(AND(Planungsübersicht!$E50>1990,TYPE(Planungsübersicht!$E50)=1,NOT(Planungsübersicht!$F50="Umsetzung nicht möglich")),Planungsübersicht!C50," ") | C69: =IF(AND(Planungsübersicht!$E50>1990,TYPE(Planungsübersicht!$E50)=1,NOT(Planungsübersicht!$F50="Umsetzung nicht möglich")),Planungsübersicht!D50," ") | D69: =IF(AND(Planungsübersicht!$E50>1990,TYPE(Planungsübersicht!$E50)=1,NOT(Planungsübersicht!$F50="Umsetzung nicht möglich")),Planungsübersicht!E50," ") | E69: =IF(AND(Planungsübersicht!$E50>1990,TYPE(Planungsübersicht!$E50)=1,NOT(Planungsübersicht!$F50="Umsetzung nicht möglich")),Planungsübersicht!F50," ") | F69: =IF(AND(Planungsübersicht!$E50>1990,TYPE(Planungsübersicht!$E50)=1,NOT(Planungsübersicht!$F50="Umsetzung nicht möglich")),Planungsübersicht!G50," ") | G69: =IF(AND(Planungsübersicht!$E50>1990,TYPE(Planungsübersicht!$E50)=1,NOT(Planungsübersicht!$F50="Umsetzung nicht möglich")),Planungsübersicht!H50," ") | H69: =IF(AND(Planungsübersicht!$E50>1990,TYPE(Planungsübersicht!$E50)=1,NOT(Planungsübersicht!$F50="Umsetzung nicht möglich")),MAX(Planungsübersicht!I50:Z50)," ")
B70: =IF(AND(Planungsübersicht!$E51>1990,TYPE(Planungsübersicht!$E51)=1,NOT(Planungsübersicht!$F51="Umsetzung nicht möglich")),Planungsübersicht!C51," ") | C70: =IF(AND(Planungsübersicht!$E51>1990,TYPE(Planungsübersicht!$E51)=1,NOT(Planungsübersicht!$F51="Umsetzung nicht möglich")),Planungsübersicht!D51," ") | D70: =IF(AND(Planungsübersicht!$E51>1990,TYPE(Planungsübersicht!$E51)=1,NOT(Planungsübersicht!$F51="Umsetzung nicht möglich")),Planungsübersicht!E51," ") | E70: =IF(AND(Planungsübersicht!$E51>1990,TYPE(Planungsübersicht!$E51)=1,NOT(Planungsübersicht!$F51="Umsetzung nicht möglich")),Planungsübersicht!F51," ") | F70: =IF(AND(Planungsübersicht!$E51>1990,TYPE(Planungsübersicht!$E51)=1,NOT(Planungsübersicht!$F51="Umsetzung nicht möglich")),Planungsübersicht!G51," ") | G70: =IF(AND(Planungsübersicht!$E51>1990,TYPE(Planungsübersicht!$E51)=1,NOT(Planungsübersicht!$F51="Umsetzung nicht möglich")),Planungsübersicht!H51," ") | H70: =IF(AND(Planungsübersicht!$E51>1990,TYPE(Planungsübersicht!$E51)=1,NOT(Planungsübersicht!$F51="Umsetzung nicht möglich")),MAX(Planungsübersicht!I51:Z51)," ")
B71: =IF(AND(Planungsübersicht!$E52>1990,TYPE(Planungsübersicht!$E52)=1,NOT(Planungsübersicht!$F52="Umsetzung nicht möglich")),Planungsübersicht!C52," ") | C71: =IF(AND(Planungsübersicht!$E52>1990,TYPE(Planungsübersicht!$E52)=1,NOT(Planungsübersicht!$F52="Umsetzung nicht möglich")),Planungsübersicht!D52," ") | D71: =IF(AND(Planungsübersicht!$E52>1990,TYPE(Planungsübersicht!$E52)=1,NOT(Planungsübersicht!$F52="Umsetzung nicht möglich")),Planungsübersicht!E52," ") | E71: =IF(AND(Planungsübersicht!$E52>1990,TYPE(Planungsübersicht!$E52)=1,NOT(Planungsübersicht!$F52="Umsetzung nicht möglich")),Planungsübersicht!F52," ") | F71: =IF(AND(Planungsübersicht!$E52>1990,TYPE(Planungsübersicht!$E52)=1,NOT(Planungsübersicht!$F52="Umsetzung nicht möglich")),Planungsübersicht!G52," ") | G71: =IF(AND(Planungsübersicht!$E52>1990,TYPE(Planungsübersicht!$E52)=1,NOT(Planungsübersicht!$F52="Umsetzung nicht möglich")),Planungsübersicht!H52," ") | H71: =IF(AND(Planungsübersicht!$E52>1990,TYPE(Planungsübersicht!$E52)=1,NOT(Planungsübersicht!$F52="Umsetzung nicht möglich")),MAX(Planungsübersicht!I52:Z52)," ")
B72: =IF(AND(Planungsübersicht!$E53>1990,TYPE(Planungsübersicht!$E53)=1,NOT(Planungsübersicht!$F53="Umsetzung nicht möglich")),Planungsübersicht!C53," ") | C72: =IF(AND(Planungsübersicht!$E53>1990,TYPE(Planungsübersicht!$E53)=1,NOT(Planungsübersicht!$F53="Umsetzung nicht möglich")),Planungsübersicht!D53," ") | D72: =IF(AND(Planungsübersicht!$E53>1990,TYPE(Planungsübersicht!$E53)=1,NOT(Planungsübersicht!$F53="Umsetzung nicht möglich")),Planungsübersicht!E53," ") | E72: =IF(AND(Planungsübersicht!$E53>1990,TYPE(Planungsübersicht!$E53)=1,NOT(Planungsübersicht!$F53="Umsetzung nicht möglich")),Planungsübersicht!F53," ") | F72: =IF(AND(Planungsübersicht!$E53>1990,TYPE(Planungsübersicht!$E53)=1,NOT(Planungsübersicht!$F53="Umsetzung nicht möglich")),Planungsübersicht!G53," ") | G72: =IF(AND(Planungsübersicht!$E53>1990,TYPE(Planungsübersicht!$E53)=1,NOT(Planungsübersicht!$F53="Umsetzung nicht möglich")),Planungsübersicht!H53," ") | H72: =IF(AND(Planungsübersicht!$E53>1990,TYPE(Planungsübersicht!$E53)=1,NOT(Planungsübersicht!$F53="Umsetzung nicht möglich")),MAX(Planungsübersicht!I53:Z53)," ")
B73: =IF(AND(Planungsübersicht!$E54>1990,TYPE(Planungsübersicht!$E54)=1,NOT(Planungsübersicht!$F54="Umsetzung nicht möglich")),Planungsübersicht!C54," ") | C73: =IF(AND(Planungsübersicht!$E54>1990,TYPE(Planungsübersicht!$E54)=1,NOT(Planungsübersicht!$F54="Umsetzung nicht möglich")),Planungsübersicht!D54," ") | D73: =IF(AND(Planungsübersicht!$E54>1990,TYPE(Planungsübersicht!$E54)=1,NOT(Planungsübersicht!$F54="Umsetzung nicht möglich")),Planungsübersicht!E54," ") | E73: =IF(AND(Planungsübersicht!$E54>1990,TYPE(Planungsübersicht!$E54)=1,NOT(Planungsübersicht!$F54="Umsetzung nicht möglich")),Planungsübersicht!F54," ") | F73: =IF(AND(Planungsübersicht!$E54>1990,TYPE(Planungsübersicht!$E54)=1,NOT(Planungsübersicht!$F54="Umsetzung nicht möglich")),Planungsübersicht!G54," ") | G73: =IF(AND(Planungsübersicht!$E54>1990,TYPE(Planungsübersicht!$E54)=1,NOT(Planungsübersicht!$F54="Umsetzung nicht möglich")),Planungsübersicht!H54," ") | H73: =IF(AND(Planungsübersicht!$E54>1990,TYPE(Planungsübersicht!$E54)=1,NOT(Planungsübersicht!$F54="Umsetzung nicht möglich")),MAX(Planungsübersicht!I54:Z54)," ")
B74: =IF(AND(Planungsübersicht!$E55>1990,TYPE(Planungsübersicht!$E55)=1,NOT(Planungsübersicht!$F55="Umsetzung nicht möglich")),Planungsübersicht!C55," ") | C74: =IF(AND(Planungsübersicht!$E55>1990,TYPE(Planungsübersicht!$E55)=1,NOT(Planungsübersicht!$F55="Umsetzung nicht möglich")),Planungsübersicht!D55," ") | D74: =IF(AND(Planungsübersicht!$E55>1990,TYPE(Planungsübersicht!$E55)=1,NOT(Planungsübersicht!$F55="Umsetzung nicht möglich")),Planungsübersicht!E55," ") | E74: =IF(AND(Planungsübersicht!$E55>1990,TYPE(Planungsübersicht!$E55)=1,NOT(Planungsübersicht!$F55="Umsetzung nicht möglich")),Planungsübersicht!F55," ") | F74: =IF(AND(Planungsübersicht!$E55>1990,TYPE(Planungsübersicht!$E55)=1,NOT(Planungsübersicht!$F55="Umsetzung nicht möglich")),Planungsübersicht!G55," ") | G74: =IF(AND(Planungsübersicht!$E55>1990,TYPE(Planungsübersicht!$E55)=1,NOT(Planungsübersicht!$F55="Umsetzung nicht möglich")),Planungsübersicht!H55," ") | H74: =IF(AND(Planungsübersicht!$E55>1990,TYPE(Planungsübersicht!$E55)=1,NOT(Planungsübersicht!$F55="Umsetzung nicht möglich")),MAX(Planungsübersicht!I55:Z55)," ")
B75: =IF(AND(Planungsübersicht!$E56>1990,TYPE(Planungsübersicht!$E56)=1,NOT(Planungsübersicht!$F56="Umsetzung nicht möglich")),Planungsübersicht!C56," ") | C75: =IF(AND(Planungsübersicht!$E56>1990,TYPE(Planungsübersicht!$E56)=1,NOT(Planungsübersicht!$F56="Umsetzung nicht möglich")),Planungsübersicht!D56," ") | D75: =IF(AND(Planungsübersicht!$E56>1990,TYPE(Planungsübersicht!$E56)=1,NOT(Planungsübersicht!$F56="Umsetzung nicht möglich")),Planungsübersicht!E56," ") | E75: =IF(AND(Planungsübersicht!$E56>1990,TYPE(Planungsübersicht!$E56)=1,NOT(Planungsübersicht!$F56="Umsetzung nicht möglich")),Planungsübersicht!F56," ") | F75: =IF(AND(Planungsübersicht!$E56>1990,TYPE(Planungsübersicht!$E56)=1,NOT(Planungsübersicht!$F56="Umsetzung nicht möglich")),Planungsübersicht!G56," ") | G75: =IF(AND(Planungsübersicht!$E56>1990,TYPE(Planungsübersicht!$E56)=1,NOT(Planungsübersicht!$F56="Umsetzung nicht möglich")),Planungsübersicht!H56," ") | H75: =IF(AND(Planungsübersicht!$E56>1990,TYPE(Planungsübersicht!$E56)=1,NOT(Planungsübersicht!$F56="Umsetzung nicht möglich")),MAX(Planungsübersicht!I56:Z56)," ")
B76: =IF(AND(Planungsübersicht!$E57>1990,TYPE(Planungsübersicht!$E57)=1,NOT(Planungsübersicht!$F57="Umsetzung nicht möglich")),Planungsübersicht!C57," ") | C76: =IF(AND(Planungsübersicht!$E57>1990,TYPE(Planungsübersicht!$E57)=1,NOT(Planungsübersicht!$F57="Umsetzung nicht möglich")),Planungsübersicht!D57," ") | D76: =IF(AND(Planungsübersicht!$E57>1990,TYPE(Planungsübersicht!$E57)=1,NOT(Planungsübersicht!$F57="Umsetzung nicht möglich")),Planungsübersicht!E57," ") | E76: =IF(AND(Planungsübersicht!$E57>1990,TYPE(Planungsübersicht!$E57)=1,NOT(Planungsübersicht!$F57="Umsetzung nicht möglich")),Planungsübersicht!F57," ") | F76: =IF(AND(Planungsübersicht!$E57>1990,TYPE(Planungsübersicht!$E57)=1,NOT(Planungsübersicht!$F57="Umsetzung nicht möglich")),Planungsübersicht!G57," ") | G76: =IF(AND(Planungsübersicht!$E57>1990,TYPE(Planungsübersicht!$E57)=1,NOT(Planungsübersicht!$F57="Umsetzung nicht möglich")),Planungsübersicht!H57," ") | H76: =IF(AND(Planungsübersicht!$E57>1990,TYPE(Planungsübersicht!$E57)=1,NOT(Planungsübersicht!$F57="Umsetzung nicht möglich")),MAX(Planungsübersicht!I57:Z57)," ")
B77: =IF(AND(Planungsübersicht!$E58>1990,TYPE(Planungsübersicht!$E58)=1,NOT(Planungsübersicht!$F58="Umsetzung nicht möglich")),Planungsübersicht!C58," ") | C77: =IF(AND(Planungsübersicht!$E58>1990,TYPE(Planungsübersicht!$E58)=1,NOT(Planungsübersicht!$F58="Umsetzung nicht möglich")),Planungsübersicht!D58," ") | D77: =IF(AND(Planungsübersicht!$E58>1990,TYPE(Planungsübersicht!$E58)=1,NOT(Planungsübersicht!$F58="Umsetzung nicht möglich")),Planungsübersicht!E58," ") | E77: =IF(AND(Planungsübersicht!$E58>1990,TYPE(Planungsübersicht!$E58)=1,NOT(Planungsübersicht!$F58="Umsetzung nicht möglich")),Planungsübersicht!F58," ") | F77: =IF(AND(Planungsübersicht!$E58>1990,TYPE(Planungsübersicht!$E58)=1,NOT(Planungsübersicht!$F58="Umsetzung nicht möglich")),Planungsübersicht!G58," ") | G77: =IF(AND(Planungsübersicht!$E58>1990,TYPE(Planungsübersicht!$E58)=1,NOT(Planungsübersicht!$F58="Umsetzung nicht möglich")),Planungsübersicht!H58," ") | H77: =IF(AND(Planungsübersicht!$E58>1990,TYPE(Planungsübersicht!$E58)=1,NOT(Planungsübersicht!$F58="Umsetzung nicht möglich")),MAX(Planungsübersicht!I58:Z58)," ")
B78: =IF(AND(Planungsübersicht!$E59>1990,TYPE(Planungsübersicht!$E59)=1,NOT(Planungsübersicht!$F59="Umsetzung nicht möglich")),Planungsübersicht!C59," ") | C78: =IF(AND(Planungsübersicht!$E59>1990,TYPE(Planungsübersicht!$E59)=1,NOT(Planungsübersicht!$F59="Umsetzung nicht möglich")),Planungsübersicht!D59," ") | D78: =IF(AND(Planungsübersicht!$E59>1990,TYPE(Planungsübersicht!$E59)=1,NOT(Planungsübersicht!$F59="Umsetzung nicht möglich")),Planungsübersicht!E59," ") | E78: =IF(AND(Planungsübersicht!$E59>1990,TYPE(Planungsübersicht!$E59)=1,NOT(Planungsübersicht!$F59="Umsetzung nicht möglich")),Planungsübersicht!F59," ") | F78: =IF(AND(Planungsübersicht!$E59>1990,TYPE(Planungsübersicht!$E59)=1,NOT(Planungsübersicht!$F59="Umsetzung nicht möglich")),Planungsübersicht!G59," ") | G78: =IF(AND(Planungsübersicht!$E59>1990,TYPE(Planungsübersicht!$E59)=1,NOT(Planungsübersicht!$F59="Umsetzung nicht möglich")),Planungsübersicht!H59," ") | H78: =IF(AND(Planungsübersicht!$E59>1990,TYPE(Planungsübersicht!$E59)=1,NOT(Planungsübersicht!$F59="Umsetzung nicht möglich")),MAX(Planungsübersicht!I59:Z59)," ")
B79: =IF(AND(Planungsübersicht!$E60>1990,TYPE(Planungsübersicht!$E60)=1,NOT(Planungsübersicht!$F60="Umsetzung nicht möglich")),Planungsübersicht!C60," ") | C79: =IF(AND(Planungsübersicht!$E60>1990,TYPE(Planungsübersicht!$E60)=1,NOT(Planungsübersicht!$F60="Umsetzung nicht möglich")),Planungsübersicht!D60," ") | D79: =IF(AND(Planungsübersicht!$E60>1990,TYPE(Planungsübersicht!$E60)=1,NOT(Planungsübersicht!$F60="Umsetzung nicht möglich")),Planungsübersicht!E60," ") | E79: =IF(AND(Planungsübersicht!$E60>1990,TYPE(Planungsübersicht!$E60)=1,NOT(Planungsübersicht!$F60="Umsetzung nicht möglich")),Planungsübersicht!F60," ") | F79: =IF(AND(Planungsübersicht!$E60>1990,TYPE(Planungsübersicht!$E60)=1,NOT(Planungsübersicht!$F60="Umsetzung nicht möglich")),Planungsübersicht!G60," ") | G79: =IF(AND(Planungsübersicht!$E60>1990,TYPE(Planungsübersicht!$E60)=1,NOT(Planungsübersicht!$F60="Umsetzung nicht möglich")),Planungsübersicht!H60," ") | H79: =IF(AND(Planungsübersicht!$E60>1990,TYPE(Planungsübersicht!$E60)=1,NOT(Planungsübersicht!$F60="Umsetzung nicht möglich")),MAX(Planungsübersicht!I60:Z60)," ")
B80: =IF(AND(Planungsübersicht!$E61>1990,TYPE(Planungsübersicht!$E61)=1,NOT(Planungsübersicht!$F61="Umsetzung nicht möglich")),Planungsübersicht!C61," ") | C80: =IF(AND(Planungsübersicht!$E61>1990,TYPE(Planungsübersicht!$E61)=1,NOT(Planungsübersicht!$F61="Umsetzung nicht möglich")),Planungsübersicht!D61," ") | D80: =IF(AND(Planungsübersicht!$E61>1990,TYPE(Planungsübersicht!$E61)=1,NOT(Planungsübersicht!$F61="Umsetzung nicht möglich")),Planungsübersicht!E61," ") | E80: =IF(AND(Planungsübersicht!$E61>1990,TYPE(Planungsübersicht!$E61)=1,NOT(Planungsübersicht!$F61="Umsetzung nicht möglich")),Planungsübersicht!F61," ") | F80: =IF(AND(Planungsübersicht!$E61>1990,TYPE(Planungsübersicht!$E61)=1,NOT(Planungsübersicht!$F61="Umsetzung nicht möglich")),Planungsübersicht!G61," ") | G80: =IF(AND(Planungsübersicht!$E61>1990,TYPE(Planungsübersicht!$E61)=1,NOT(Planungsübersicht!$F61="Umsetzung nicht möglich")),Planungsübersicht!H61," ") | H80: =IF(AND(Planungsübersicht!$E61>1990,TYPE(Planungsübersicht!$E61)=1,NOT(Planungsübersicht!$F61="Umsetzung nicht möglich")),MAX(Planungsübersicht!I61:Z61)," ")
... B88: =IF(AND(Planungsübersicht!$E69>1990,TYPE(Planungsübersicht!$E69)=1,NOT(Planungsübersicht!$F69="Umsetzung nicht möglich")),Planungsübersicht!C69," ") | C88: =IF(AND(Planungsübersicht!$E69>1990,TYPE(Planungsübersicht!$E69)=1,NOT(Planungsübersicht!$F69="Umsetzung nicht möglich")),Planungsübersicht!D69," ") | D88: =IF(AND(Planungsübersicht!$E69>1990,TYPE(Planungsübersicht!$E69)=1,NOT(Planungsübersicht!$F69="Umsetzung nicht möglich")),Planungsübersicht!E69," ") | E88: =IF(AND(Planungsübersicht!$E69>1990,TYPE(Planungsübersicht!$E69)=1,NOT(Planungsübersicht!$F69="Umsetzung nicht möglich")),Planungsübersicht!F69," ") | F88: =IF(AND(Planungsübersicht!$E69>1990,TYPE(Planungsübersicht!$E69)=1,NOT(Planungsübersicht!$F69="Umsetzung nicht möglich")),Planungsübersicht!G69," ") | G88: =IF(AND(Planungsübersicht!$E69>1990,TYPE(Planungsübersicht!$E69)=1,NOT(Planungsübersicht!$F69="Umsetzung nicht möglich")),Planungsübersicht!H69," ") | H88: =IF(AND(Planungsübersicht!$E69>1990,TYPE(Planungsübersicht!$E69)=1,NOT(Planungsübersicht!$F69="Umsetzung nicht möglich")),MAX(Planungsübersicht!I69:Z69)," ")
B89: =IF(AND(Planungsübersicht!$E71>1990,TYPE(Planungsübersicht!$E71)=1,NOT(Planungsübersicht!$F71="Umsetzung nicht möglich")), Planungsübersicht!C71," ") | C89: =IF(AND(Planungsübersicht!$E71>1990,TYPE(Planungsübersicht!$E71)=1,NOT(Planungsübersicht!$F71="Umsetzung nicht möglich")), Planungsübersicht!D71," ") | D89: =IF(AND(Planungsübersicht!$E71>1990,TYPE(Planungsübersicht!$E71)=1,NOT(Planungsübersicht!$F71="Umsetzung nicht möglich")), Planungsübersicht!E71," ") | E89: =IF(AND(Planungsübersicht!$E71>1990,TYPE(Planungsübersicht!$E71)=1,NOT(Planungsübersicht!$F71="Umsetzung nicht möglich")), Planungsübersicht!F71," ") | F89: =IF(AND(Planungsübersicht!$E71>1990,TYPE(Planungsübersicht!$E71)=1,NOT(Planungsübersicht!$F71="Umsetzung nicht möglich")), Planungsübersicht!G71," ") | G89: =IF(AND(Planungsübersicht!$E71>1990,TYPE(Planungsübersicht!$E71)=1,NOT(Planungsübersicht!$F71="Umsetzung nicht möglich")), Planungsübersicht!H71," ") | H89: =IF(AND(Planungsübersicht!$E71>1990,TYPE(Planungsübersicht!$E71)=1,NOT(Planungsübersicht!$F71="Umsetzung nicht möglich")), MAX(Planungsübersicht!I71:Z71)," ")
B90: =IF(AND(Planungsübersicht!$E73>1990,TYPE(Planungsübersicht!$E73)=1,NOT(Planungsübersicht!$F73="Umsetzung nicht möglich")), Planungsübersicht!C73," ") | C90: =IF(AND(Planungsübersicht!$E73>1990,TYPE(Planungsübersicht!$E73)=1,NOT(Planungsübersicht!$F73="Umsetzung nicht möglich")), Planungsübersicht!D73," ") | D90: =IF(AND(Planungsübersicht!$E73>1990,TYPE(Planungsübersicht!$E73)=1,NOT(Planungsübersicht!$F73="Umsetzung nicht möglich")), Planungsübersicht!E73," ") | E90: =IF(AND(Planungsübersicht!$E73>1990,TYPE(Planungsübersicht!$E73)=1,NOT(Planungsübersicht!$F73="Umsetzung nicht möglich")), Planungsübersicht!F73," ") | F90: =IF(AND(Planungsübersicht!$E73>1990,TYPE(Planungsübersicht!$E73)=1,NOT(Planungsübersicht!$F73="Umsetzung nicht möglich")), Planungsübersicht!G73," ") | G90: =IF(AND(Planungsübersicht!$E73>1990,TYPE(Planungsübersicht!$E73)=1,NOT(Planungsübersicht!$F73="Umsetzung nicht möglich")), Planungsübersicht!H73," ") | H90: =IF(AND(Planungsübersicht!$E73>1990,TYPE(Planungsübersicht!$E73)=1,NOT(Planungsübersicht!$F73="Umsetzung nicht möglich")), MAX(Planungsübersicht!I73:Z73)," ")
B91: =IF(AND(Planungsübersicht!$E74>1990,TYPE(Planungsübersicht!$E74)=1,NOT(Planungsübersicht!$F74="Umsetzung nicht möglich")),Planungsübersicht!C74," ") -> W3 | C91: =IF(AND(Planungsübersicht!$E74>1990,TYPE(Planungsübersicht!$E74)=1,NOT(Planungsübersicht!$F74="Umsetzung nicht möglich")),Planungsübersicht!D74," ") -> Regelmäßige Wartung bzw. Ersatz der Thermostatventilköpfe | D91: =IF(AND(Planungsübersicht!$E74>1990,TYPE(Planungsübersicht!$E74)=1,NOT(Planungsübersicht!$F74="Umsetzung nicht möglich")),Planungsübersicht!E74," ") -> 2009 | E91: =IF(AND(Planungsübersicht!$E74>1990,TYPE(Planungsübersicht!$E74)=1,NOT(Planungsübersicht!$F74="Umsetzung nicht möglich")),Planungsübersicht!F74," ") -> in Umsetzung (Mitte) | F91: =IF(AND(Planungsübersicht!$E74>1990,TYPE(Planungsübersicht!$E74)=1,NOT(Planungsübersicht!$F74="Umsetzung nicht möglich")),Planungsübersicht!G74," ") -> Herr Jobst | G91: =IF(AND(Planungsübersicht!$E74>1990,TYPE(Planungsübersicht!$E74)=1,NOT(Planungsübersicht!$F74="Umsetzung nicht möglich")),Planungsübersicht!H74," ") -> Herr Jobst | H91: =IF(AND(Planungsübersicht!$E74>1990,TYPE(Planungsübersicht!$E74)=1,NOT(Planungsübersicht!$F74="Umsetzung nicht möglich")),MAX(Planungsübersicht!I74:Z74)," ") -> 4500
B92: =IF(AND(Planungsübersicht!$E75>1990,TYPE(Planungsübersicht!$E75)=1,NOT(Planungsübersicht!$F75="Umsetzung nicht möglich")),Planungsübersicht!C75," ") | C92: =IF(AND(Planungsübersicht!$E75>1990,TYPE(Planungsübersicht!$E75)=1,NOT(Planungsübersicht!$F75="Umsetzung nicht möglich")),Planungsübersicht!D75," ") | D92: =IF(AND(Planungsübersicht!$E75>1990,TYPE(Planungsübersicht!$E75)=1,NOT(Planungsübersicht!$F75="Umsetzung nicht möglich")),Planungsübersicht!E75," ") | E92: =IF(AND(Planungsübersicht!$E75>1990,TYPE(Planungsübersicht!$E75)=1,NOT(Planungsübersicht!$F75="Umsetzung nicht möglich")),Planungsübersicht!F75," ") | F92: =IF(AND(Planungsübersicht!$E75>1990,TYPE(Planungsübersicht!$E75)=1,NOT(Planungsübersicht!$F75="Umsetzung nicht möglich")),Planungsübersicht!G75," ") | G92: =IF(AND(Planungsübersicht!$E75>1990,TYPE(Planungsübersicht!$E75)=1,NOT(Planungsübersicht!$F75="Umsetzung nicht möglich")),Planungsübersicht!H75," ") | H92: =IF(AND(Planungsübersicht!$E75>1990,TYPE(Planungsübersicht!$E75)=1,NOT(Planungsübersicht!$F75="Umsetzung nicht möglich")),MAX(Planungsübersicht!I75:Z75)," ")
B93: =IF(AND(Planungsübersicht!$E76>1990,TYPE(Planungsübersicht!$E76)=1,NOT(Planungsübersicht!$F76="Umsetzung nicht möglich")),Planungsübersicht!C76," ") -> W4 | C93: =IF(AND(Planungsübersicht!$E76>1990,TYPE(Planungsübersicht!$E76)=1,NOT(Planungsübersicht!$F76="Umsetzung nicht möglich")),Planungsübersicht!D76," ") -> Regelung der Durchflussmenge durch Voreinstellung der Thermostatventile | D93: =IF(AND(Planungsübersicht!$E76>1990,TYPE(Planungsübersicht!$E76)=1,NOT(Planungsübersicht!$F76="Umsetzung nicht möglich")),Planungsübersicht!E76," ") -> 2014 | E93: =IF(AND(Planungsübersicht!$E76>1990,TYPE(Planungsübersicht!$E76)=1,NOT(Planungsübersicht!$F76="Umsetzung nicht möglich")),Planungsübersicht!F76," ") -> in Umsetzung (Ende) | F93: =IF(AND(Planungsübersicht!$E76>1990,TYPE(Planungsübersicht!$E76)=1,NOT(Planungsübersicht!$F76="Umsetzung nicht möglich")),Planungsübersicht!G76," ") -> Herr Jobst | G93: =IF(AND(Planungsübersicht!$E76>1990,TYPE(Planungsübersicht!$E76)=1,NOT(Planungsübersicht!$F76="Umsetzung nicht möglich")),Planungsübersicht!H76," ") -> Herr Jobst | H93: =IF(AND(Planungsübersicht!$E76>1990,TYPE(Planungsübersicht!$E76)=1,NOT(Planungsübersicht!$F76="Umsetzung nicht möglich")),MAX(Planungsübersicht!I76:Z76)," ") -> 4500
B94: =IF(AND(Planungsübersicht!$E77>1990,TYPE(Planungsübersicht!$E77)=1,NOT(Planungsübersicht!$F77="Umsetzung nicht möglich")),Planungsübersicht!C77," ") | C94: =IF(AND(Planungsübersicht!$E77>1990,TYPE(Planungsübersicht!$E77)=1,NOT(Planungsübersicht!$F77="Umsetzung nicht möglich")),Planungsübersicht!D77," ") | D94: =IF(AND(Planungsübersicht!$E77>1990,TYPE(Planungsübersicht!$E77)=1,NOT(Planungsübersicht!$F77="Umsetzung nicht möglich")),Planungsübersicht!E77," ") | E94: =IF(AND(Planungsübersicht!$E77>1990,TYPE(Planungsübersicht!$E77)=1,NOT(Planungsübersicht!$F77="Umsetzung nicht möglich")),Planungsübersicht!F77," ") | F94: =IF(AND(Planungsübersicht!$E77>1990,TYPE(Planungsübersicht!$E77)=1,NOT(Planungsübersicht!$F77="Umsetzung nicht möglich")),Planungsübersicht!G77," ") | G94: =IF(AND(Planungsübersicht!$E77>1990,TYPE(Planungsübersicht!$E77)=1,NOT(Planungsübersicht!$F77="Umsetzung nicht möglich")),Planungsübersicht!H77," ") | H94: =IF(AND(Planungsübersicht!$E77>1990,TYPE(Planungsübersicht!$E77)=1,NOT(Planungsübersicht!$F77="Umsetzung nicht möglich")),MAX(Planungsübersicht!I77:Z77)," ")
B95: =IF(AND(Planungsübersicht!$E78>1990,TYPE(Planungsübersicht!$E78)=1,NOT(Planungsübersicht!$F78="Umsetzung nicht möglich")),Planungsübersicht!C78," ") -> W5 | C95: =IF(AND(Planungsübersicht!$E78>1990,TYPE(Planungsübersicht!$E78)=1,NOT(Planungsübersicht!$F78="Umsetzung nicht möglich")),Planungsübersicht!D78," ") -> Berechnung der Durchflussmenge bei den Heizkörpern im Klassengebäude | D95: =IF(AND(Planungsübersicht!$E78>1990,TYPE(Planungsübersicht!$E78)=1,NOT(Planungsübersicht!$F78="Umsetzung nicht möglich")),Planungsübersicht!E78," ") -> 2013 | E95: =IF(AND(Planungsübersicht!$E78>1990,TYPE(Planungsübersicht!$E78)=1,NOT(Planungsübersicht!$F78="Umsetzung nicht möglich")),Planungsübersicht!F78," ") -> umgesetzt | F95: =IF(AND(Planungsübersicht!$E78>1990,TYPE(Planungsübersicht!$E78)=1,NOT(Planungsübersicht!$F78="Umsetzung nicht möglich")),Planungsübersicht!G78," ") -> Herr Jobst und Herr Scherer (Schulbau HH), Herr von Kleist | G95: =IF(AND(Planungsübersicht!$E78>1990,TYPE(Planungsübersicht!$E78)=1,NOT(Planungsübersicht!$F78="Umsetzung nicht möglich")),Planungsübersicht!H78," ") -> Herr Jobst und Schulbau HH | H95: =IF(AND(Planungsübersicht!$E78>1990,TYPE(Planungsübersicht!$E78)=1,NOT(Planungsübersicht!$F78="Umsetzung nicht möglich")),MAX(Planungsübersicht!I78:Z78)," ") -> 0
B96: =IF(AND(Planungsübersicht!$E79>1990,TYPE(Planungsübersicht!$E79)=1,NOT(Planungsübersicht!$F79="Umsetzung nicht möglich")),Planungsübersicht!C79," ") | C96: =IF(AND(Planungsübersicht!$E79>1990,TYPE(Planungsübersicht!$E79)=1,NOT(Planungsübersicht!$F79="Umsetzung nicht möglich")),Planungsübersicht!D79," ") | D96: =IF(AND(Planungsübersicht!$E79>1990,TYPE(Planungsübersicht!$E79)=1,NOT(Planungsübersicht!$F79="Umsetzung nicht möglich")),Planungsübersicht!E79," ") | E96: =IF(AND(Planungsübersicht!$E79>1990,TYPE(Planungsübersicht!$E79)=1,NOT(Planungsübersicht!$F79="Umsetzung nicht möglich")),Planungsübersicht!F79," ") | F96: =IF(AND(Planungsübersicht!$E79>1990,TYPE(Planungsübersicht!$E79)=1,NOT(Planungsübersicht!$F79="Umsetzung nicht möglich")),Planungsübersicht!G79," ") | G96: =IF(AND(Planungsübersicht!$E79>1990,TYPE(Planungsübersicht!$E79)=1,NOT(Planungsübersicht!$F79="Umsetzung nicht möglich")),Planungsübersicht!H79," ") | H96: =IF(AND(Planungsübersicht!$E79>1990,TYPE(Planungsübersicht!$E79)=1,NOT(Planungsübersicht!$F79="Umsetzung nicht möglich")),MAX(Planungsübersicht!I79:Z79)," ")
B97: =IF(AND(Planungsübersicht!$E81>1990,TYPE(Planungsübersicht!$E81)=1,NOT(Planungsübersicht!$F81="Umsetzung nicht möglich")), Planungsübersicht!C81," ") | C97: =IF(AND(Planungsübersicht!$E81>1990,TYPE(Planungsübersicht!$E81)=1,NOT(Planungsübersicht!$F81="Umsetzung nicht möglich")), Planungsübersicht!D81," ") | D97: =IF(AND(Planungsübersicht!$E81>1990,TYPE(Planungsübersicht!$E81)=1,NOT(Planungsübersicht!$F81="Umsetzung nicht möglich")), Planungsübersicht!E81," ") | E97: =IF(AND(Planungsübersicht!$E81>1990,TYPE(Planungsübersicht!$E81)=1,NOT(Planungsübersicht!$F81="Umsetzung nicht möglich")), Planungsübersicht!F81," ") | F97: =IF(AND(Planungsübersicht!$E81>1990,TYPE(Planungsübersicht!$E81)=1,NOT(Planungsübersicht!$F81="Umsetzung nicht möglich")), Planungsübersicht!G81," ") | G97: =IF(AND(Planungsübersicht!$E81>1990,TYPE(Planungsübersicht!$E81)=1,NOT(Planungsübersicht!$F81="Umsetzung nicht möglich")), Planungsübersicht!H81," ") | H97: =IF(AND(Planungsübersicht!$E81>1990,TYPE(Planungsübersicht!$E81)=1,NOT(Planungsübersicht!$F81="Umsetzung nicht möglich")), MAX(Planungsübersicht!I81:Z81)," ")
B98: =IF(AND(Planungsübersicht!$E82>1990,TYPE(Planungsübersicht!$E82)=1,NOT(Planungsübersicht!$F82="Umsetzung nicht möglich")),Planungsübersicht!C82," ") -> W7 | C98: =IF(AND(Planungsübersicht!$E82>1990,TYPE(Planungsübersicht!$E82)=1,NOT(Planungsübersicht!$F82="Umsetzung nicht möglich")),Planungsübersicht!D82," ") -> Verbesserung der Außenisolierung durch Dämmung von außen (diffundierende mineralische Platten) | D98: =IF(AND(Planungsübersicht!$E82>1990,TYPE(Planungsübersicht!$E82)=1,NOT(Planungsübersicht!$F82="Umsetzung nicht möglich")),Planungsübersicht!E82," ") -> 2017 | E98: =IF(AND(Planungsübersicht!$E82>1990,TYPE(Planungsübersicht!$E82)=1,NOT(Planungsübersicht!$F82="Umsetzung nicht möglich")),Planungsübersicht!F82," ") -> zukünftiger Termin | F98: =IF(AND(Planungsübersicht!$E82>1990,TYPE(Planungsübersicht!$E82)=1,NOT(Planungsübersicht!$F82="Umsetzung nicht möglich")),Planungsübersicht!G82," ") -> 0 | G98: =IF(AND(Planungsübersicht!$E82>1990,TYPE(Planungsübersicht!$E82)=1,NOT(Planungsübersicht!$F82="Umsetzung nicht möglich")),Planungsübersicht!H82," ") -> SBH | H98: =IF(AND(Planungsübersicht!$E82>1990,TYPE(Planungsübersicht!$E82)=1,NOT(Planungsübersicht!$F82="Umsetzung nicht möglich")),MAX(Planungsübersicht!I82:Z82)," ") -> 0
B99: =IF(AND(Planungsübersicht!$E83>1990,TYPE(Planungsübersicht!$E83)=1,NOT(Planungsübersicht!$F83="Umsetzung nicht möglich")),Planungsübersicht!C83," ") | C99: =IF(AND(Planungsübersicht!$E83>1990,TYPE(Planungsübersicht!$E83)=1,NOT(Planungsübersicht!$F83="Umsetzung nicht möglich")),Planungsübersicht!D83," ") | D99: =IF(AND(Planungsübersicht!$E83>1990,TYPE(Planungsübersicht!$E83)=1,NOT(Planungsübersicht!$F83="Umsetzung nicht möglich")),Planungsübersicht!E83," ") | E99: =IF(AND(Planungsübersicht!$E83>1990,TYPE(Planungsübersicht!$E83)=1,NOT(Planungsübersicht!$F83="Umsetzung nicht möglich")),Planungsübersicht!F83," ") | F99: =IF(AND(Planungsübersicht!$E83>1990,TYPE(Planungsübersicht!$E83)=1,NOT(Planungsübersicht!$F83="Umsetzung nicht möglich")),Planungsübersicht!G83," ") | G99: =IF(AND(Planungsübersicht!$E83>1990,TYPE(Planungsübersicht!$E83)=1,NOT(Planungsübersicht!$F83="Umsetzung nicht möglich")),Planungsübersicht!H83," ") | H99: =IF(AND(Planungsübersicht!$E83>1990,TYPE(Planungsübersicht!$E83)=1,NOT(Planungsübersicht!$F83="Umsetzung nicht möglich")),MAX(Planungsübersicht!I83:Z83)," ")
B100: =IF(AND(Planungsübersicht!$E85>1990,TYPE(Planungsübersicht!$E85)=1,NOT(Planungsübersicht!$F85="Umsetzung nicht möglich")), Planungsübersicht!C85," ") | C100: =IF(AND(Planungsübersicht!$E85>1990,TYPE(Planungsübersicht!$E85)=1,NOT(Planungsübersicht!$F85="Umsetzung nicht möglich")), Planungsübersicht!D85," ") | D100: =IF(AND(Planungsübersicht!$E85>1990,TYPE(Planungsübersicht!$E85)=1,NOT(Planungsübersicht!$F85="Umsetzung nicht möglich")), Planungsübersicht!E85," ") | E100: =IF(AND(Planungsübersicht!$E85>1990,TYPE(Planungsübersicht!$E85)=1,NOT(Planungsübersicht!$F85="Umsetzung nicht möglich")), Planungsübersicht!F85," ") | F100: =IF(AND(Planungsübersicht!$E85>1990,TYPE(Planungsübersicht!$E85)=1,NOT(Planungsübersicht!$F85="Umsetzung nicht möglich")), Planungsübersicht!G85," ") | G100: =IF(AND(Planungsübersicht!$E85>1990,TYPE(Planungsübersicht!$E85)=1,NOT(Planungsübersicht!$F85="Umsetzung nicht möglich")), Planungsübersicht!H85," ") | H100: =IF(AND(Planungsübersicht!$E85>1990,TYPE(Planungsübersicht!$E85)=1,NOT(Planungsübersicht!$F85="Umsetzung nicht möglich")), MAX(Planungsübersicht!I85:Z85)," ")
B101: =IF(AND(Planungsübersicht!$E87>1990,TYPE(Planungsübersicht!$E87)=1,NOT(Planungsübersicht!$F87="Umsetzung nicht möglich")), Planungsübersicht!C87," ") | C101: =IF(AND(Planungsübersicht!$E87>1990,TYPE(Planungsübersicht!$E87)=1,NOT(Planungsübersicht!$F87="Umsetzung nicht möglich")), Planungsübersicht!D87," ") | D101: =IF(AND(Planungsübersicht!$E87>1990,TYPE(Planungsübersicht!$E87)=1,NOT(Planungsübersicht!$F87="Umsetzung nicht möglich")), Planungsübersicht!E87," ") | E101: =IF(AND(Planungsübersicht!$E87>1990,TYPE(Planungsübersicht!$E87)=1,NOT(Planungsübersicht!$F87="Umsetzung nicht möglich")), Planungsübersicht!F87," ") | F101: =IF(AND(Planungsübersicht!$E87>1990,TYPE(Planungsübersicht!$E87)=1,NOT(Planungsübersicht!$F87="Umsetzung nicht möglich")), Planungsübersicht!G87," ") | G101: =IF(AND(Planungsübersicht!$E87>1990,TYPE(Planungsübersicht!$E87)=1,NOT(Planungsübersicht!$F87="Umsetzung nicht möglich")), Planungsübersicht!H87," ") | H101: =IF(AND(Planungsübersicht!$E87>1990,TYPE(Planungsübersicht!$E87)=1,NOT(Planungsübersicht!$F87="Umsetzung nicht möglich")), MAX(Planungsübersicht!I87:Z87)," ")
B102: =IF(AND(Planungsübersicht!$E88>1990,TYPE(Planungsübersicht!$E88)=1,NOT(Planungsübersicht!$F88="Umsetzung nicht möglich")),Planungsübersicht!C88," ") -> W10a | C102: =IF(AND(Planungsübersicht!$E88>1990,TYPE(Planungsübersicht!$E88)=1,NOT(Planungsübersicht!$F88="Umsetzung nicht möglich")),Planungsübersicht!D88," ") -> Effektive Heizung (Heizkörper reinigen und entlüften und für ungehinderte Wärmeabgabe sorgen, neue Ventile) | D102: =IF(AND(Planungsübersicht!$E88>1990,TYPE(Planungsübersicht!$E88)=1,NOT(Planungsübersicht!$F88="Umsetzung nicht möglich")),Planungsübersicht!E88," ") -> 2010 | E102: =IF(AND(Planungsübersicht!$E88>1990,TYPE(Planungsübersicht!$E88)=1,NOT(Planungsübersicht!$F88="Umsetzung nicht möglich")),Planungsübersicht!F88," ") -> in Umsetzung (Mitte) | F102: =IF(AND(Planungsübersicht!$E88>1990,TYPE(Planungsübersicht!$E88)=1,NOT(Planungsübersicht!$F88="Umsetzung nicht möglich")),Planungsübersicht!G88," ") -> Herr Jobst | G102: =IF(AND(Planungsübersicht!$E88>1990,TYPE(Planungsübersicht!$E88)=1,NOT(Planungsübersicht!$F88="Umsetzung nicht möglich")),Planungsübersicht!H88," ") -> 0 | H102: =IF(AND(Planungsübersicht!$E88>1990,TYPE(Planungsübersicht!$E88)=1,NOT(Planungsübersicht!$F88="Umsetzung nicht möglich")),MAX(Planungsübersicht!I88:Z88)," ") -> 1500
B103: =IF(AND(Planungsübersicht!$E89>1990,TYPE(Planungsübersicht!$E89)=1,NOT(Planungsübersicht!$F89="Umsetzung nicht möglich")),Planungsübersicht!C89," ") | C103: =IF(AND(Planungsübersicht!$E89>1990,TYPE(Planungsübersicht!$E89)=1,NOT(Planungsübersicht!$F89="Umsetzung nicht möglich")),Planungsübersicht!D89," ") | D103: =IF(AND(Planungsübersicht!$E89>1990,TYPE(Planungsübersicht!$E89)=1,NOT(Planungsübersicht!$F89="Umsetzung nicht möglich")),Planungsübersicht!E89," ") | E103: =IF(AND(Planungsübersicht!$E89>1990,TYPE(Planungsübersicht!$E89)=1,NOT(Planungsübersicht!$F89="Umsetzung nicht möglich")),Planungsübersicht!F89," ") | F103: =IF(AND(Planungsübersicht!$E89>1990,TYPE(Planungsübersicht!$E89)=1,NOT(Planungsübersicht!$F89="Umsetzung nicht möglich")),Planungsübersicht!G89," ") | G103: =IF(AND(Planungsübersicht!$E89>1990,TYPE(Planungsübersicht!$E89)=1,NOT(Planungsübersicht!$F89="Umsetzung nicht möglich")),Planungsübersicht!H89," ") | H103: =IF(AND(Planungsübersicht!$E89>1990,TYPE(Planungsübersicht!$E89)=1,NOT(Planungsübersicht!$F89="Umsetzung nicht möglich")),MAX(Planungsübersicht!I89:Z89)," ")
B104: =IF(AND(Planungsübersicht!$E90>1990,TYPE(Planungsübersicht!$E90)=1,NOT(Planungsübersicht!$F90="Umsetzung nicht möglich")),Planungsübersicht!C90," ") -> W10b | C104: =IF(AND(Planungsübersicht!$E90>1990,TYPE(Planungsübersicht!$E90)=1,NOT(Planungsübersicht!$F90="Umsetzung nicht möglich")),Planungsübersicht!D90," ") -> Effektive Heizung (Wartung der Heizungsanlage) | D104: =IF(AND(Planungsübersicht!$E90>1990,TYPE(Planungsübersicht!$E90)=1,NOT(Planungsübersicht!$F90="Umsetzung nicht möglich")),Planungsübersicht!E90," ") -> 2010 | E104: =IF(AND(Planungsübersicht!$E90>1990,TYPE(Planungsübersicht!$E90)=1,NOT(Planungsübersicht!$F90="Umsetzung nicht möglich")),Planungsübersicht!F90," ") -> wird laufend umgesetzt | F104: =IF(AND(Planungsübersicht!$E90>1990,TYPE(Planungsübersicht!$E90)=1,NOT(Planungsübersicht!$F90="Umsetzung nicht möglich")),Planungsübersicht!G90," ") -> Herr Jobst | G104: =IF(AND(Planungsübersicht!$E90>1990,TYPE(Planungsübersicht!$E90)=1,NOT(Planungsübersicht!$F90="Umsetzung nicht möglich")),Planungsübersicht!H90," ") -> 0 | H104: =IF(AND(Planungsübersicht!$E90>1990,TYPE(Planungsübersicht!$E90)=1,NOT(Planungsübersicht!$F90="Umsetzung nicht möglich")),MAX(Planungsübersicht!I90:Z90)," ") -> 3000
B105: =IF(AND(Planungsübersicht!$E91>1990,TYPE(Planungsübersicht!$E91)=1,NOT(Planungsübersicht!$F91="Umsetzung nicht möglich")),Planungsübersicht!C91," ") | C105: =IF(AND(Planungsübersicht!$E91>1990,TYPE(Planungsübersicht!$E91)=1,NOT(Planungsübersicht!$F91="Umsetzung nicht möglich")),Planungsübersicht!D91," ") | D105: =IF(AND(Planungsübersicht!$E91>1990,TYPE(Planungsübersicht!$E91)=1,NOT(Planungsübersicht!$F91="Umsetzung nicht möglich")),Planungsübersicht!E91," ") | E105: =IF(AND(Planungsübersicht!$E91>1990,TYPE(Planungsübersicht!$E91)=1,NOT(Planungsübersicht!$F91="Umsetzung nicht möglich")),Planungsübersicht!F91," ") | F105: =IF(AND(Planungsübersicht!$E91>1990,TYPE(Planungsübersicht!$E91)=1,NOT(Planungsübersicht!$F91="Umsetzung nicht möglich")),Planungsübersicht!G91," ") | G105: =IF(AND(Planungsübersicht!$E91>1990,TYPE(Planungsübersicht!$E91)=1,NOT(Planungsübersicht!$F91="Umsetzung nicht möglich")),Planungsübersicht!H91," ") | H105: =IF(AND(Planungsübersicht!$E91>1990,TYPE(Planungsübersicht!$E91)=1,NOT(Planungsübersicht!$F91="Umsetzung nicht möglich")),MAX(Planungsübersicht!I91:Z91)," ")
B106: =IF(AND(Planungsübersicht!$E92>1990,TYPE(Planungsübersicht!$E92)=1,NOT(Planungsübersicht!$F92="Umsetzung nicht möglich")),Planungsübersicht!C92," ") -> W10c | C106: =IF(AND(Planungsübersicht!$E92>1990,TYPE(Planungsübersicht!$E92)=1,NOT(Planungsübersicht!$F92="Umsetzung nicht möglich")),Planungsübersicht!D92," ") -> Effektive Heizung (Dämmung der Heizungsverteilstränge im unbeheizten Bereich) | D106: =IF(AND(Planungsübersicht!$E92>1990,TYPE(Planungsübersicht!$E92)=1,NOT(Planungsübersicht!$F92="Umsetzung nicht möglich")),Planungsübersicht!E92," ") -> 2010 | E106: =IF(AND(Planungsübersicht!$E92>1990,TYPE(Planungsübersicht!$E92)=1,NOT(Planungsübersicht!$F92="Umsetzung nicht möglich")),Planungsübersicht!F92," ") -> in Umsetzung (Mitte) | F106: =IF(AND(Planungsübersicht!$E92>1990,TYPE(Planungsübersicht!$E92)=1,NOT(Planungsübersicht!$F92="Umsetzung nicht möglich")),Planungsübersicht!G92," ") -> Frau Petersen, Herr Jobst | G106: =IF(AND(Planungsübersicht!$E92>1990,TYPE(Planungsübersicht!$E92)=1,NOT(Planungsübersicht!$F92="Umsetzung nicht möglich")),Planungsübersicht!H92," ") -> 0 | H106: =IF(AND(Planungsübersicht!$E92>1990,TYPE(Planungsübersicht!$E92)=1,NOT(Planungsübersicht!$F92="Umsetzung nicht möglich")),MAX(Planungsübersicht!I92:Z92)," ") -> 3800
B107: =IF(AND(Planungsübersicht!$E93>1990,TYPE(Planungsübersicht!$E93)=1,NOT(Planungsübersicht!$F93="Umsetzung nicht möglich")),Planungsübersicht!C93," ") | C107: =IF(AND(Planungsübersicht!$E93>1990,TYPE(Planungsübersicht!$E93)=1,NOT(Planungsübersicht!$F93="Umsetzung nicht möglich")),Planungsübersicht!D93," ") | D107: =IF(AND(Planungsübersicht!$E93>1990,TYPE(Planungsübersicht!$E93)=1,NOT(Planungsübersicht!$F93="Umsetzung nicht möglich")),Planungsübersicht!E93," ") | E107: =IF(AND(Planungsübersicht!$E93>1990,TYPE(Planungsübersicht!$E93)=1,NOT(Planungsübersicht!$F93="Umsetzung nicht möglich")),Planungsübersicht!F93," ") | F107: =IF(AND(Planungsübersicht!$E93>1990,TYPE(Planungsübersicht!$E93)=1,NOT(Planungsübersicht!$F93="Umsetzung nicht möglich")),Planungsübersicht!G93," ") | G107: =IF(AND(Planungsübersicht!$E93>1990,TYPE(Planungsübersicht!$E93)=1,NOT(Planungsübersicht!$F93="Umsetzung nicht möglich")),Planungsübersicht!H93," ") | H107: =IF(AND(Planungsübersicht!$E93>1990,TYPE(Planungsübersicht!$E93)=1,NOT(Planungsübersicht!$F93="Umsetzung nicht möglich")),MAX(Planungsübersicht!I93:Z93)," ")
B108: =IF(AND(Planungsübersicht!$E95>1990,TYPE(Planungsübersicht!$E95)=1,NOT(Planungsübersicht!$F95="Umsetzung nicht möglich")), Planungsübersicht!C95," ") | C108: =IF(AND(Planungsübersicht!$E95>1990,TYPE(Planungsübersicht!$E95)=1,NOT(Planungsübersicht!$F95="Umsetzung nicht möglich")), Planungsübersicht!D95," ") | D108: =IF(AND(Planungsübersicht!$E95>1990,TYPE(Planungsübersicht!$E95)=1,NOT(Planungsübersicht!$F95="Umsetzung nicht möglich")), Planungsübersicht!E95," ") | E108: =IF(AND(Planungsübersicht!$E95>1990,TYPE(Planungsübersicht!$E95)=1,NOT(Planungsübersicht!$F95="Umsetzung nicht möglich")), Planungsübersicht!F95," ") | F108: =IF(AND(Planungsübersicht!$E95>1990,TYPE(Planungsübersicht!$E95)=1,NOT(Planungsübersicht!$F95="Umsetzung nicht möglich")), Planungsübersicht!G95," ") | G108: =IF(AND(Planungsübersicht!$E95>1990,TYPE(Planungsübersicht!$E95)=1,NOT(Planungsübersicht!$F95="Umsetzung nicht möglich")), Planungsübersicht!H95," ") | H108: =IF(AND(Planungsübersicht!$E95>1990,TYPE(Planungsübersicht!$E95)=1,NOT(Planungsübersicht!$F95="Umsetzung nicht möglich")), MAX(Planungsübersicht!I95:Z95)," ")
...

Sheet Energieverbräuche
B2: Energieverbräuche
C3: Gebäudeteil | D3: =Planungsübersicht!G13 -> 2007 | E3: =D3+1 -> 2008 | F3: =E3+1 -> 2009 | G3: =F3+1 -> 2010 | H3: =G3+1 -> 2011 | I3: =H3+1 -> 2012 | J3: =I3+1 -> 2013 | K3: =J3+1 -> 2014 | L3: =K3+1 -> 2015 | ... AU3: =AT3+1 -> 2050
B5: Strom 1 | C5: Schule | D5: 66353 | E5: 65647 | F5: 71727 | G5: 82865 | H5: 81710 | I5: 89072 | J5: 84085 | K5: 85939 | L5: 88367 | M5: 81606 | N5: 64204 | O5: 62054 | P5: 83934 | Q5: 72559 | R5: 59221 | S5: 70682 | T5: 84795 | U5: 110988 | V5: 101976
B6: Strom 2
B7: Strom 3
C8: Summe Strom: | D8: =SUM(D5:D7) -> 66353 | E8: =SUM(E5:E7) -> 65647 | F8: =SUM(F5:F7) -> 71727 | G8: =SUM(G5:G7) -> 82865 | H8: =SUM(H5:H7) -> 81710 | I8: =SUM(I5:I7) -> 89072 | J8: =SUM(J5:J7) -> 84085 | K8: =SUM(K5:K7) -> 85939 | ... AU8: =SUM(AU5:AU7) -> 0
B10: Gasheizung 1 | C10: Schule | D10: 53525 | E10: 43947 | F10: 59851 | G10: 65627 | H10: 53435 | I10: 57449 | J10: 69895 | K10: 47295 | L10: 61657 | M10: 68552 | N10: 35200 | O10: 35727
B11: Gasheizung 2 | N11: 2111 | O11: 2225 | P11: 2000 | Q11: 2000 | R11: 2000 | S11: 2000 | T11: 2000 | U11: 1934 | V11: 2119
B12: Gasheizung 3
B14: Fernwärmeheizung 1 | P14: 349 | Q14: 351 | R14: 406.817 | S14: 441 | T14: 431 | U14: 357 | V14: 383
B15: Fernwärmeheizung 2
B16: Fernwärmeheizung 3
C17: Summe Heizenergie: | D17: =(D10+D11+D12)*11+(D14+D15+D16)*1000 -> 588775 | E17: =(E10+E11+E12)*11+(E14+E15+E16)*1000 -> 483417 | F17: =(F10+F11+F12)*11+(F14+F15+F16)*1000 -> 658361 | G17: =(G10+G11+G12)*11+(G14+G15+G16)*1000 -> 721897 | H17: =(H10+H11+H12)*11+(H14+H15+H16)*1000 -> 587785 | I17: =(I10+I11+I12)*11+(I14+I15+I16)*1000 -> 631939 | J17: =(J10+J11+J12)*11+(J14+J15+J16)*1000 -> 768845 | K17: =(K10+K11+K12)*11+(K14+K15+K16)*1000 -> 520245 | ... AU17: =(AU10+AU11+AU12)*11+(AU14+AU15+AU16)*1000 -> 0
B19: PV-Anlage 1 | C19: Schule | F19: 10 | G19: 2541 | H19: 2541 | I19: 2541 | J19: 2815 | K19: 2963 | L19: 2896 | M19: 2778 | N19: 2672 | O19: 3402 | P19: 3084 | Q19: 3322 | R19: 2944 | S19: 3319 | T19: 2975 | U19: 2985 | V19: 3213
B20: PV-Anlage 2
B21: PV-Anlage 3
C22: Summe PV-Anlagen: | D22: =SUM(D19:D21) -> 0 | E22: =SUM(E19:E21) -> 0 | F22: =SUM(F19:F21) -> 10 | G22: =SUM(G19:G21) -> 2541 | H22: =SUM(H19:H21) -> 2541 | I22: =SUM(I19:I21) -> 2541 | J22: =SUM(J19:J21) -> 2815 | K22: =SUM(K19:K21) -> 2963 | ... AU22: =SUM(AU19:AU21) -> 0
B24: Restmüll Standort 1
B25: Restmüll Standort 2
B26: Restmüll Standort 3
C27: Summe Restmüll: | D27: =SUM(D24:D26) -> 0 | E27: =SUM(E24:E26) -> 0 | F27: =SUM(F24:F26) -> 0 | G27: =SUM(G24:G26) -> 0 | H27: =SUM(H24:H26) -> 0 | I27: =SUM(I24:I26) -> 0 | J27: =SUM(J24:J26) -> 0 | K27: =SUM(K24:K26) -> 0 | ... AU27: =SUM(AU24:AU26) -> 0

Sheet CO2-Schulbilanz
D2: CO2-Schulbilanz: | E2: =Planungsübersicht!D4 -> Schule Müssenredder | G2: bis 2030 | H2: 2031 bis 2050
F4: geplante jährliche Minderung: | G4: =1-(1-Planungsübersicht!G11)^(1/(2030-Planungsübersicht!G13)) -> 0.020497572 | H4: =1-((1-Planungsübersicht!G12)/(1-G4)^(2030-E6))^(1/20) -> 0.020123178
E6: =+Energieverbräuche!D3 -> 2007 | F6: =+Energieverbräuche!E3 -> 2008 | G6: =+Energieverbräuche!F3 -> 2009 | H6: =+Energieverbräuche!G3 -> 2010 | I6: =+Energieverbräuche!H3 -> 2011 | J6: =+Energieverbräuche!I3 -> 2012 | K6: =+Energieverbräuche!J3 -> 2013 | L6: =+Energieverbräuche!K3 -> 2014 | ... AV6: =+Energieverbräuche!AU3 -> 2050
D7: Emissions-Ziel | E7: =E8 -> 142523.2 | F7: =E7*(1-IF(F6<2031,$G$4,$H$4)) -> 139601.82 | G7: =F7*(1-IF(G6<2031,$G$4,$H$4)) -> 136740.32 | H7: =G7*(1-IF(H6<2031,$G$4,$H$4)) -> 133937.48 | I7: =H7*(1-IF(I6<2031,$G$4,$H$4)) -> 131192.08 | J7: =I7*(1-IF(J6<2031,$G$4,$H$4)) -> 128502.96 | K7: =J7*(1-IF(K6<2031,$G$4,$H$4)) -> 125868.97 | L7: =K7*(1-IF(L6<2031,$G$4,$H$4)) -> 123288.96 | M7: =L7*(1-IF(M6<2031,$G$4,$H$4)) -> 120761.83 | ... AV7: =AU7*(1-IF(AV6<2031,$G$4,$H$4)) -> 58944.345
D8: reale Emission | E8: =E15 -> 142523.2 | F8: =F15 -> 122971.74 | G8: =G15 -> 158046.86 | H8: =H15 -> 174197.95 | I8: =I15 -> 149173.95 | J8: =J15 -> 161133.92 | K8: =K15 -> 183246.7 | L8: =L15 -> 138910.8 | ... AV8: =AV15 -> 0
D10: geplante Reduktion gegenüber Vorjahr: | F10: =F7-E7 -> -2921.3796 | G10: =G7-F7 -> -2861.4984 | H10: =H7-G7 -> -2802.8446 | I10: =I7-H7 -> -2745.3931 | J10: =J7-I7 -> -2689.1192 | K10: =K7-J7 -> -2633.9988 | L10: =L7-K7 -> -2580.0082 | M10: =M7-L7 -> -2527.1243 | ... AV10: =AV7-AU7 -> -1210.5068
D11: reale Reduktion gegenüber Vorjahr: | F11: =IF(F8=0,"",F8-E8) -> -19551.454 | G11: =IF(G8=0,"",G8-F8) -> 35075.118 | H11: =IF(H8=0,"",H8-G8) -> 16151.083 | I11: =IF(I8=0,"",I8-H8) -> -25023.999 | J11: =IF(J8=0,"",J8-I8) -> 11959.974 | K11: =IF(K8=0,"",K8-J8) -> 22112.779 | L11: =IF(L8=0,"",L8-K8) -> -44335.902 | M11: =IF(M8=0,"",M8-L8) -> 30082.559 | ... AV11: =IF(AV8=0,"",AV8-AU8)
D12: geplanten Reduktion gegenüber Anfangsjahr: | F12: =F7-$E7 -> -2921.3796 | G12: =G7-$E7 -> -5782.878 | H12: =H7-$E7 -> -8585.7226 | I12: =I7-$E7 -> -11331.116 | J12: =J7-$E7 -> -14020.235 | K12: =K7-$E7 -> -16654.234 | L12: =L7-$E7 -> -19234.242 | M12: =M7-$E7 -> -21761.366 | ... AV12: =AV7-$E7 -> -83578.854
D13: reale Reduktion gegenüber Anfangsjahr: | F13: =IF(F8=0,"",F8-$E8) -> -19551.454 | G13: =IF(G8=0,"",G8-$E8) -> 15523.664 | H13: =IF(H8=0,"",H8-$E8) -> 31674.747 | I13: =IF(I8=0,"",I8-$E8) -> 6650.748 | J13: =IF(J8=0,"",J8-$E8) -> 18610.722 | K13: =IF(K8=0,"",K8-$E8) -> 40723.501 | L13: =IF(L8=0,"",L8-$E8) -> -3612.401 | M13: =IF(M8=0,"",M8-$E8) -> 26470.158 | ... AV13: =IF(AV8=0,"",AV8-$E8)
B15: Summe CO2-Emissionen: | E15: =IF(SUM(E17:E26)=0,"",SUM(E17:E26)) -> 142523.2 | F15: =SUM(F17:F26) -> 122971.74 | G15: =SUM(G17:G26) -> 158046.86 | H15: =SUM(H17:H26) -> 174197.95 | I15: =SUM(I17:I26) -> 149173.95 | J15: =SUM(J17:J26) -> 161133.92 | K15: =SUM(K17:K26) -> 183246.7 | L15: =SUM(L17:L26) -> 138910.8 | M15: =SUM(M17:M26) -> 168993.36 | ... AV15: =SUM(AV17:AV26) -> 0
D16: Umrechnungsfaktor
A17: =IF(E17>0,CONCATENATE(C17,", "),"") -> Strom, | B17: 1 | C17: Strom | D17: 0.533 | E17: =+Energieverbräuche!D8*E27 -> 35366.149 | F17: =+Energieverbräuche!E8*F27 -> 34989.851 | G17: =+Energieverbräuche!F8*G27 -> 38230.491 | H17: =+Energieverbräuche!G8*H27 -> 44167.045 | I17: =+Energieverbräuche!H8*I27 -> 43551.43 | J17: =+Energieverbräuche!I8*J27 -> 47475.376 | K17: =+Energieverbräuche!J8*K27 -> 44817.305 | L17: =+Energieverbräuche!K8*L27 -> 45805.487 | ... AV17: =+Energieverbräuche!AU8*AV27 -> 0
A18: =IF(E18>0,CONCATENATE(C18,", "),"") -> Heizenergie, | B18: 2 | C18: Heizenergie | D18: 0.182 | E18: =+Energieverbräuche!D17*E28 -> 107157.05 | F18: =+Energieverbräuche!E17*F28 -> 87981.894 | G18: =+Energieverbräuche!F17*G28 -> 119821.7 | H18: =+Energieverbräuche!G17*H28 -> 131385.25 | I18: =+Energieverbräuche!H17*I28 -> 106976.87 | J18: =+Energieverbräuche!I17*J28 -> 115012.9 | K18: =+Energieverbräuche!J17*K28 -> 139929.79 | L18: =+Energieverbräuche!K17*L28 -> 94684.59 | ... AV18: =+Energieverbräuche!AU17*AV28 -> 0
A19: =IF(E19>0,CONCATENATE(C19,", "),"") | B19: 3 | C19: PV-Anlage | D19: =D17 -> 0.533 | E19: =(+Energieverbräuche!D22*$D$19)*(-1) -> 0 | F19: =(+Energieverbräuche!E22*$D$19)*(-1) -> 0 | G19: =(+Energieverbräuche!F22*$D$19)*(-1) -> -5.33 | H19: =(+Energieverbräuche!G22*$D$19)*(-1) -> -1354.353 | I19: =(+Energieverbräuche!H22*$D$19)*(-1) -> -1354.353 | J19: =(+Energieverbräuche!I22*$D$19)*(-1) -> -1354.353 | K19: =(+Energieverbräuche!J22*$D$19)*(-1) -> -1500.395 | L19: =(+Energieverbräuche!K22*$D$19)*(-1) -> -1579.279 | ... AV19: =(+Energieverbräuche!AU22*$D$19)*(-1) -> 0
A20: =IF(E20>0,CONCATENATE(C20,", "),"") | B20: 4 | C20: Solarthermie | D20: =D18 -> 0.182
A21: =IF(E21>0,CONCATENATE(C21,", "),"") | B21: 5 | C21: Mobilität
A22: =IF(E22>0,CONCATENATE(C22,", "),"") | B22: 6 | C22: Abfall | D22: 90 | E22: =$D$22*Energieverbräuche!D27 -> 0 | F22: =$D$22*Energieverbräuche!E27 -> 0 | G22: =$D$22*Energieverbräuche!F27 -> 0 | H22: =$D$22*Energieverbräuche!G27 -> 0 | I22: =$D$22*Energieverbräuche!H27 -> 0 | J22: =$D$22*Energieverbräuche!I27 -> 0 | K22: =$D$22*Energieverbräuche!J27 -> 0 | L22: =$D$22*Energieverbräuche!K27 -> 0 | ... AV22: =$D$22*Energieverbräuche!AU27 -> 0
A23: =IF(E23>0,CONCATENATE(C23,", "),"") | B23: 7 | C23: Papier | D23: 0,6-2,4 kg/Packung (500 Blatt)
A24: =IF(E24>0,CONCATENATE(C24,", "),"") | B24: 8 | C24: Ernährung | D24: 0,25 (Veg.) - 0,5 kg/Mensaessen
A25: =IF(E25>0,CONCATENATE(C25,", "),"") | B25: 9
A26: =IF(E26>0,CONCATENATE(C26,", "),"") | B26: 10
A27: =CONCATENATE("CO2-Emissionen für ", A17,A18,A19,A20,A21,A22,A23,A24,A25,A26) -> CO2-Emissionen für Strom, Heizenergie, | C27: Anpassung Emissionsfaktor Strom | E27: =D17 -> 0.533 | F27: =E27 -> 0.533 | G27: =F27 -> 0.533 | H27: =G27 -> 0.533 | I27: =H27 -> 0.533 | J27: =I27 -> 0.533 | K27: =J27 -> 0.533 | L27: =K27 -> 0.533 | M27: =L27 -> 0.533 | ... AV27: =AU27 -> 0.533
C28: Anpassung Emissionsfaktor Wärme | E28: =D18 -> 0.182 | F28: =E28 -> 0.182 | G28: =F28 -> 0.182 | H28: =G28 -> 0.182 | I28: =H28 -> 0.182 | J28: =I28 -> 0.182 | K28: =J28 -> 0.182 | L28: =K28 -> 0.182 | M28: =L28 -> 0.182 | ... AV28: =AU28 -> 0.182

Sheet Erfolge
C2: ab | D2: ab | E2: ab | F2: ab | G2: ab | H2: ab | I2: ab | J2: ab | K2: ab | L2: ab | M2: ab | N2: ab | O2: ab | P2: ab | Q2: ab | R2: ab | S2: ab | T2: ab
C3: =Planungsübersicht!I9 -> 2011 | D3: =Planungsübersicht!J9 -> 2014 | E3: =Planungsübersicht!K9 -> 2020 | F3: =Planungsübersicht!L9 -> 2022 | G3: =Planungsübersicht!M9 -> 2024 | H3: =Planungsübersicht!N9 -> 2026 | I3: =Planungsübersicht!O9 -> 2028 | J3: =Planungsübersicht!P9 -> 2030 | ... T3: =Planungsübersicht!Z9 -> 2050
B4: CO2-Einsparungen durch Maßnahmen: | C4: =-Planungsübersicht!I17 -> 39400 | D4: =-Planungsübersicht!J17 -> 54100 | E4: =-Planungsübersicht!K17 -> 61150 | F4: =-Planungsübersicht!L17 -> 61150 | G4: =-Planungsübersicht!M17 -> 61150 | H4: =-Planungsübersicht!N17 -> 61150 | I4: =-Planungsübersicht!O17 -> 61150 | J4: =-Planungsübersicht!P17 -> 49850 | ... T4: =-Planungsübersicht!Z17 -> 49850
B6: Jahr: | C6: ='CO2-Schulbilanz'!E6 -> 2007 | D6: ='CO2-Schulbilanz'!F6 -> 2008 | E6: ='CO2-Schulbilanz'!G6 -> 2009 | F6: ='CO2-Schulbilanz'!H6 -> 2010 | G6: ='CO2-Schulbilanz'!I6 -> 2011 | H6: ='CO2-Schulbilanz'!J6 -> 2012 | I6: ='CO2-Schulbilanz'!K6 -> 2013 | J6: ='CO2-Schulbilanz'!L6 -> 2014 | ... AT6: ='CO2-Schulbilanz'!AV6 -> 2050
B7: echte Emissionen (aus CO2-Schulbilanz): | C7: =IF('CO2-Schulbilanz'!E8>0, 'CO2-Schulbilanz'!E8,#N/A) -> 142523.2 | D7: =IF('CO2-Schulbilanz'!F8>0, 'CO2-Schulbilanz'!F8,#N/A) -> 122971.74 | E7: =IF('CO2-Schulbilanz'!G8>0, 'CO2-Schulbilanz'!G8,#N/A) -> 158046.86 | F7: =IF('CO2-Schulbilanz'!H8>0, 'CO2-Schulbilanz'!H8,#N/A) -> 174197.95 | G7: =IF('CO2-Schulbilanz'!I8>0, 'CO2-Schulbilanz'!I8,#N/A) -> 149173.95 | H7: =IF('CO2-Schulbilanz'!J8>0, 'CO2-Schulbilanz'!J8,#N/A) -> 161133.92 | I7: =IF('CO2-Schulbilanz'!K8>0, 'CO2-Schulbilanz'!K8,#N/A) -> 183246.7 | J7: =IF('CO2-Schulbilanz'!L8>0, 'CO2-Schulbilanz'!L8,#N/A) -> 138910.8 | ... AT7: =IF('CO2-Schulbilanz'!AV8>0, 'CO2-Schulbilanz'!AV8,#N/A) -> #N/A
B8: Maßnahmen (aus Planungsübersicht): | C8: =IF(C6>=$E3, $E4,IF(C6>=$D3,$D4,IF(C6>=$C3,$C4,0))) -> 0 | D8: =IF(D6>=$E3, $E4,IF(D6>=$D3,$D4,IF(D6>=$C3,$C4,0))) -> 0 | E8: =IF(E6>=$E3, $E4,IF(E6>=$D3,$D4,IF(E6>=$C3,$C4,0))) -> 0 | F8: =IF(F6>=$E3, $E4,IF(F6>=$D3,$D4,IF(F6>=$C3,$C4,0))) -> 0 | G8: =IF(G6>=$E3, $E4,IF(G6>=$D3,$D4,IF(G6>=$C3,$C4,0))) -> 39400 | H8: =IF(H6>=$E3, $E4,IF(H6>=$D3,$D4,IF(H6>=$C3,$C4,0))) -> 39400 | I8: =IF(I6>=$E3, $E4,IF(I6>=$D3,$D4,IF(I6>=$C3,$C4,0))) -> 39400 | J8: =IF(J6>=$E3, $E4,IF(J6>=$D3,$D4,IF(J6>=$C3,$C4,0))) -> 54100 | ... O8: =IF(O6>=$E3, $E4,IF(O6>=$D3,$D4,IF(O6>=$C3,$C4,0))) -> 54100 | P8: =IF(Q6>=E3, E4,IF(Q6>=D3,D4,IF(Q6>=C3,C4,0))) -> 61150 | Q8: =HLOOKUP(ODD(Q6)-1,$E$3:$T$4,2) -> 61150 | R8: =HLOOKUP(ODD(R6)-1,$E$3:$T$4,2) -> 61150 | S8: =HLOOKUP(ODD(S6)-1,$E$3:$T$4,2) -> 61150 | T8: =HLOOKUP(ODD(T6)-1,$E$3:$T$4,2) -> 61150 | U8: =HLOOKUP(ODD(U6)-1,$E$3:$T$4,2) -> 61150 | V8: =HLOOKUP(ODD(V6)-1,$E$3:$T$4,2) -> 61150 | W8: =HLOOKUP(ODD(W6)-1,$E$3:$T$4,2) -> 61150 | X8: =HLOOKUP(ODD(X6)-1,$E$3:$T$4,2) -> 61150 | ... AT8: =HLOOKUP(ODD(AT6)-1,$E$3:$T$4,2) -> 49850
B9: geschätzte Emissionen ohne Maßnahmen: | C9: =IF(C7,C7+C8,0) -> 142523.2 | D9: =IF(D7,D7+D8,0) -> 122971.74 | E9: =IF(E7,E7+E8,0) -> 158046.86 | F9: =IF(F7,F7+F8,0) -> 174197.95 | G9: =IF(G7,G7+G8,0) -> 188573.95 | H9: =IF(H7,H7+H8,0) -> 200533.92 | I9: =IF(I7,I7+I8,0) -> 222646.7 | J9: =IF(J7,J7+J8,0) -> 193010.8 | ... AT9: =IF(AT7,AT7+AT8,0) -> #N/A

Sheet Bilanz_pro_h_pro_m²
B29: Faktor | C29: Datenermittlung aus | D29: =Energieverbräuche!D3 -> 2007 | E29: =Energieverbräuche!E3 -> 2008 | F29: =Energieverbräuche!F3 -> 2009 | G29: =Energieverbräuche!G3 -> 2010 | H29: =Energieverbräuche!H3 -> 2011 | I29: =Energieverbräuche!I3 -> 2012 | J29: =Energieverbräuche!J3 -> 2013 | K29: =Energieverbräuche!K3 -> 2014 | ... AU29: =Energieverbräuche!AU3 -> 2050
B30: Heizenergie
B31: CO2 [kg] Heizenergie real | D31: ='CO2-Schulbilanz'!E18 -> 107157.05 | E31: ='CO2-Schulbilanz'!F18 -> 87981.894 | F31: ='CO2-Schulbilanz'!G18 -> 119821.7 | G31: ='CO2-Schulbilanz'!H18 -> 131385.25 | H31: ='CO2-Schulbilanz'!I18 -> 106976.87 | I31: ='CO2-Schulbilanz'!J18 -> 115012.9 | J31: ='CO2-Schulbilanz'!K18 -> 139929.79 | K31: ='CO2-Schulbilanz'!L18 -> 94684.59 | ... AU31: ='CO2-Schulbilanz'!AV18 -> 0
A32: s | B32: Witterungsfaktor in % | C32: fifty/fifty-Prämienabrechnung | D32: =HLOOKUP(D29,$D$53:$AU$54,2,0) -> 84.9 | E32: =HLOOKUP(E29,$D$53:$AU$54,2,0) -> 86.6 | F32: =HLOOKUP(F29,$D$53:$AU$54,2,0) -> 90.8 | G32: =HLOOKUP(G29,$D$53:$AU$54,2,0) -> 109.1 | H32: =HLOOKUP(H29,$D$53:$AU$54,2,0) -> 87.5 | I32: =HLOOKUP(I29,$D$53:$AU$54,2,0) -> 95.1 | J32: =HLOOKUP(J29,$D$53:$AU$54,2,0) -> 97.7 | K32: =HLOOKUP(K29,$D$53:$AU$54,2,0) -> 81.1 | L32: =HLOOKUP(L29,$D$53:$AU$54,2,0) -> 87.2 | M32: 90.7 | N32: 88.4 | O32: 84.7 | P32: =HLOOKUP(P29,$D$53:$AU$54,2,0) -> 100 | Q32: =HLOOKUP(Q29,$D$53:$AU$54,2,0) -> 100 | R32: =HLOOKUP(R29,$D$53:$AU$54,2,0) -> 100 | S32: =HLOOKUP(S29,$D$53:$AU$54,2,0) -> 100 | T32: =HLOOKUP(T29,$D$53:$AU$54,2,0) -> 100 | U32: =HLOOKUP(U29,$D$53:$AU$54,2,0) -> 100 | V32: =HLOOKUP(V29,$D$53:$AU$54,2,0) -> 100 | W32: =HLOOKUP(W29,$D$53:$AU$54,2,0) -> 100 | ... AU32: =HLOOKUP(AU29,$D$53:$AU$54,2,0) -> 100
B33: CO2 [kg] Heizenergie witterungsb. | D33: =D31/D32*100 -> 126215.61 | E33: =E31/E32*100 -> 101595.72 | F33: =F31/F32*100 -> 131962.23 | G33: =G31/G32*100 -> 120426.45 | H33: =H31/H32*100 -> 122259.28 | I33: =I31/I32*100 -> 120938.9 | J33: =J31/J32*100 -> 143223.94 | K33: =K31/K32*100 -> 116750.42 | ... AU33: =AU31/AU32*100 -> 0
B35: Heizstunden pro Jahr (20 Wochen) | D35: =D43*20 -> 800 | E35: =E43*20 -> 800 | F35: =F43*20 -> 800 | G35: =G43*20 -> 800 | H35: =H43*20 -> 1040 | I35: =I43*20 -> 1040 | J35: =J43*20 -> 1200 | K35: =K43*20 -> 1200 | ... AU35: =AU43*20 -> 1200
B37: CO2 [kg pro Stunde] | D37: =D33/D35 -> 157.76951 | E37: =E33/E35 -> 126.99465 | F37: =F33/F35 -> 164.95278 | G37: =G33/G35 -> 150.53306 | H37: =H33/H35 -> 117.557 | I37: =I33/I35 -> 116.28741 | J37: =J33/J35 -> 119.35328 | K37: =K33/K35 -> 97.292016 | ... AU37: =AU33/AU35 -> 0
B39: Wärme: CO2 [g pro m² und Std.] | D39: =D37/D48*1000 -> 31.553902 | E39: =E37/E48*1000 -> 25.39893 | F39: =F37/F48*1000 -> 32.990557 | G39: =G37/G48*1000 -> 30.106612 | H39: =H37/H48*1000 -> 23.5114 | I39: =I37/I48*1000 -> 23.257482 | J39: =J37/J48*1000 -> 23.870657 | K39: =K37/K48*1000 -> 19.458403 | ... AU39: =AU37/AU48*1000 -> 0
B41: Strom
B42: CO2 [kg] durch Strom | D42: ='CO2-Schulbilanz'!E17 -> 35366.149 | E42: ='CO2-Schulbilanz'!F17 -> 34989.851 | F42: ='CO2-Schulbilanz'!G17 -> 38230.491 | G42: ='CO2-Schulbilanz'!H17 -> 44167.045 | H42: ='CO2-Schulbilanz'!I17 -> 43551.43 | I42: ='CO2-Schulbilanz'!J17 -> 47475.376 | J42: ='CO2-Schulbilanz'!K17 -> 44817.305 | K42: ='CO2-Schulbilanz'!L17 -> 45805.487 | ... AU42: ='CO2-Schulbilanz'!AV17 -> 0
A43: s | B43: Nutzungsstunden pro Woche | C43: Hausmeister | D43: 40 | E43: =D43 -> 40 | F43: =E43 -> 40 | G43: =F43 -> 40 | H43: 52 | I43: 52 | J43: 60 | K43: =J43 -> 60 | L43: =K43 -> 60 | M43: =L43 -> 60 | N43: =M43 -> 60 | O43: =N43 -> 60 | P43: =O43 -> 60 | Q43: =P43 -> 60 | R43: =Q43 -> 60 | ... AU43: =AT43 -> 60
B44: Nutzungstunden pro Jahr (40 Wochen) | D44: =D43*40 -> 1600 | E44: =E43*40 -> 1600 | F44: =F43*40 -> 1600 | G44: =G43*40 -> 1600 | H44: =H43*40 -> 2080 | I44: =I43*40 -> 2080 | J44: =J43*40 -> 2400 | K44: =K43*40 -> 2400 | ... AU44: =AU43*40 -> 2400
B46: CO2 [kg pro Stunde] | D46: =D42/D44 -> 22.103843 | E46: =E42/E44 -> 21.868657 | F46: =F42/F44 -> 23.894057 | G46: =G42/G44 -> 27.604403 | H46: =H42/H44 -> 20.938188 | I46: =I42/I44 -> 22.8247 | J46: =J42/J44 -> 18.673877 | K46: =K42/K44 -> 19.08562 | ... AU46: =AU42/AU44 -> 0
A48: s | B48: Gebäudeflächen in m² | C48: fifty/fifty-Prämienabrechnung | D48: 5000 | E48: =D48 -> 5000 | F48: =E48 -> 5000 | G48: =F48 -> 5000 | H48: =G48 -> 5000 | I48: =H48 -> 5000 | J48: =I48 -> 5000 | K48: 5000 | L48: 5000 | M48: =L48 -> 5000 | N48: =M48 -> 5000 | O48: =N48 -> 5000 | P48: =O48 -> 5000 | Q48: =P48 -> 5000 | R48: =Q48 -> 5000 | S48: =R48 -> 5000 | T48: =S48 -> 5000 | ... AU48: =AT48 -> 5000
B49: Strom: CO2 [g pro m² und Std.] | D49: =D46/D48*1000 -> 4.4207686 | E49: =E46/E48*1000 -> 4.3737314 | F49: =F46/F48*1000 -> 4.7788114 | G49: =G46/G48*1000 -> 5.5208806 | H49: =H46/H48*1000 -> 4.1876375 | I49: =I46/I48*1000 -> 4.56494 | J49: =J46/J48*1000 -> 3.7347754 | K49: =K46/K48*1000 -> 3.8171239 | ... AU49: =AU46/AU48*1000 -> 0
B51: Gesamtemissionen | D51: =D39+D49 -> 35.97467 | E51: =E39+E49 -> 29.772662 | F51: =F39+F49 -> 37.769368 | G51: =G39+G49 -> 35.627492 | H51: =H39+H49 -> 27.699037 | I51: =I39+I49 -> 27.822422 | J51: =J39+J49 -> 27.605432 | K51: =K39+K49 -> 23.275527 | ... AU51: =AU39+AU49 -> 0
C52: Witterungsfaktoren: Zeilen unten einblenden
C53: Jahr | D53: 2007 | E53: 2008 | F53: 2009 | G53: 2010 | H53: 2011 | I53: 2012 | J53: 2013 | K53: 2014 | L53: 2015 | M53: 2016 | N53: 2017 | O53: 2018 | P53: 2019 | Q53: 2020 | R53: 2021 | S53: 2022 | T53: 2023 | U53: 2024 | V53: 2025 | W53: 2026 | X53: 2027 | Y53: 2028 | Z53: 2029 | AA53: 2030 | AB53: 2031 | AC53: 2032 | AD53: 2033 | AE53: 2034 | AF53: 2035 | AG53: 2036 | AH53: 2037 | AI53: 2038 | AJ53: 2039 | AK53: 2040 | AL53: 2041 | AM53: 2042 | AN53: 2043 | AO53: 2044 | AP53: 2045 | AQ53: 2046 | AR53: 2047 | AS53: 2048 | AT53: 2049 | AU53: 2050
C54: Witterungsfaktor | D54: 84.9 | E54: 86.6 | F54: 90.8 | G54: 109.1 | H54: 87.5 | I54: 95.1 | J54: 97.7 | K54: 81.1 | L54: 87.2 | M54: 100 | N54: 100 | O54: 100 | P54: 100 | Q54: 100 | R54: 100 | S54: 100 | T54: 100 | U54: 100 | V54: 100 | W54: 100 | X54: 100 | Y54: 100 | Z54: 100 | AA54: 100 | AB54: 100 | AC54: 100 | AD54: 100 | AE54: 100 | AF54: 100 | AG54: 100 | AH54: 100 | AI54: 100 | AJ54: 100 | AK54: 100 | AL54: 100 | AM54: 100 | AN54: 100 | AO54: 100 | AP54: 100 | AQ54: 100 | AR54: 100 | AS54: 100 | AT54: 100 | AU54: 100

Sheet Anleitung
