Workbook
Name Z_A6AA0E88_0E45_4814_B902_F1105CB400F0_.wvu.Cols: Bilanz_pro_h_pro_m²!$S:$S
Name Z_A6AA0E88_0E45_4814_B902_F1105CB400F0_.wvu.Cols: Planungsübersicht!$A:$A
Name Z_A6AA0E88_0E45_4814_B902_F1105CB400F0_.wvu.FilterData: 'Chronologische Liste'!$B$5:$H$95
Name Z_A6AA0E88_0E45_4814_B902_F1105CB400F0_.wvu.PrintArea: 'CO2-Schulbilanz'!$B$2:$R$26
Name Z_A6AA0E88_0E45_4814_B902_F1105CB400F0_.wvu.PrintArea: Energieverbräuche!$B$2:$Q$22
Name Z_A6AA0E88_0E45_4814_B902_F1105CB400F0_.wvu.PrintArea: Planungsübersicht!$B$2:$K$277
Name Z_A6AA0E88_0E45_4814_B902_F1105CB400F0_.wvu.Rows: Bilanz_pro_h_pro_m²!$30:$31,Bilanz_pro_h_pro_m²!$33:$43,Bilanz_pro_h_pro_m²!$45:$47,Bilanz_pro_h_pro_m²!$49:$49
Name Z_A6AA0E88_0E45_4814_B902_F1105CB400F0_.wvu.Rows: 'CO2-Schulbilanz'!$15:$15

Sheet Planungsübersicht
H1: zukünftiger Termin | I1: umgesetzt | J1: wird laufend umgesetzt | K1: in Umsetzung (Anfang) | L1: in Umsetzung (Mitte) | M1: in Umsetzung (Ende) | N1: bisher nicht umgesetzt | O1: Umsetzung nicht möglich
D3: Planungsübersicht | E3: 2026
D4: Schule Müssenredder | F4: Stand: | G4: 46276
D6: Pädagogische Ziele:
D7: Unser pädagogisches Ziel ist der Erwerb von Handlungskompetenzen zum Thema Klimaschutz in der gesamten Schulgemeinschaft. | I7: =IF(I$8="kurzfristig",IF(H7="","Übersicht CO2-Reduktionen",""),"") | J7: =IF(J$8="kurzfristig",IF(I7="","Übersicht CO2-Reduktionen",""),"") | K7: =IF(K$8="kurzfristig",IF(J7="","Übersicht CO2-Reduktionen",""),"") | L7: =IF(L$8="kurzfristig",IF(K7="","Übersicht CO2-Reduktionen",""),"") | M7: =IF(M$8="kurzfristig",IF(L7="","Übersicht CO2-Reduktionen",""),"") | N7: =IF(N$8="kurzfristig",IF(M7="","Übersicht CO2-Reduktionen",""),"") | O7: =IF(O$8="kurzfristig",IF(N7="","Übersicht CO2-Reduktionen",""),"") -> Übersicht CO2-Reduktionen | P7: =IF(P$8="kurzfristig",IF(O7="","Übersicht CO2-Reduktionen",""),"") | ... Y7: =IF(Y$8="kurzfristig",IF(X7="","Übersicht CO2-Reduktionen",""),"") | Z7: =IF(Z8="kurzfristig","Übersicht CO2-Reduktionen","")
I8: =IF((I9-$E$3-2)<-1,"Vergangenheit",IF((I9-$E$3-2)<1,"kurzfristig",IF((I9-$E$3-2)<3,"mittelfristig","langfristig"))) -> Vergangenheit | J8: =IF((J9-$E$3-2)<-1,"Vergangenheit",IF((J9-$E$3-2)<1,"kurzfristig",IF((J9-$E$3-2)<3,"mittelfristig","langfristig"))) -> Vergangenheit | K8: =IF((K9-$E$3-2)<-1,"Vergangenheit",IF((K9-$E$3-2)<1,"kurzfristig",IF((K9-$E$3-2)<3,"mittelfristig","langfristig"))) -> Vergangenheit | L8: =IF((L9-$E$3-2)<-1,"Vergangenheit",IF((L9-$E$3-2)<1,"kurzfristig",IF((L9-$E$3-2)<3,"mittelfristig","langfristig"))) -> Vergangenheit | M8: =IF((M9-$E$3-2)<-1,"Vergangenheit",IF((M9-$E$3-2)<1,"kurzfristig",IF((M9-$E$3-2)<3,"mittelfristig","langfristig"))) -> Vergangenheit | N8: =IF((N9-$E$3-2)<-1,"Vergangenheit",IF((N9-$E$3-2)<1,"kurzfristig",IF((N9-$E$3-2)<3,"mittelfristig","langfristig"))) -> Vergangenheit | O8: =IF((O9-$E$3-2)<-1,"Vergangenheit",IF((O9-$E$3-2)<1,"kurzfristig",IF((O9-$E$3-2)<3,"mittelfristig","langfristig"))) -> kurzfristig | P8: =IF((P9-$E$3-2)<0,"Vergangenheit",IF((P9-$E$3-2)<1,"kurzfristig",IF((P9-$E$3-2)<3,"mittelfristig","langfristig"))) -> mittelfristig | Q8: =IF((Q9-$E$3-2)<0,"Vergangenheit",IF((Q9-$E$3-2)<1,"kurzfristig",IF((Q9-$E$3-2)<3,"mittelfristig","langfristig"))) -> langfristig | R8: =IF((R9-$E$3-2)<0,"Vergangenheit",IF((R9-$E$3-2)<1,"kurzfristig",IF((R9-$E$3-2)<3,"mittelfristig","langfristig"))) -> langfristig | S8: =IF((S9-$E$3-2)<0,"Vergangenheit",IF((S9-$E$3-2)<1,"kurzfristig",IF((S9-$E$3-2)<3,"mittelfristig","langfristig"))) -> langfristig | T8: =IF((T9-$E$3-2)<0,"Vergangenheit",IF((T9-$E$3-2)<1,"kurzfristig",IF((T9-$E$3-2)<3,"mittelfristig","langfristig"))) -> langfristig | U8: =IF((U9-$E$3-2)<0,"Vergangenheit",IF((U9-$E$3-2)<1,"kurzfristig",IF((U9-$E$3-2)<3,"mittelfristig","langfristig"))) -> langfristig | V8: =IF((V9-$E$3-2)<0,"Vergangenheit",IF((V9-$E$3-2)<1,"kurzfristig",IF((V9-$E$3-2)<3,"mittelfristig","langfristig"))) -> langfristig | W8: =IF((W9-$E$3-2)<0,"Vergangenheit",IF((W9-$E$3-2)<1,"kurzfristig",IF((W9-$E$3-2)<3,"mittelfristig","langfristig"))) -> langfristig | ... Z8: =IF((Z9-$E$3-2)<0,"Vergangenheit",IF((Z9-$E$3-2)<1,"kurzfristig",IF((Z9-$E$3-2)<3,"mittelfristig","langfristig"))) -> langfristig
H9: Handlungsfeld | I9: 2011 | J9: =I9+3 -> 2014 | K9: 2020 | L9: =ODD(K9)+1 -> 2022 | M9: =L9+2 -> 2024 | N9: =M9+2 -> 2026 | O9: =N9+2 -> 2028 | P9: =O9+2 -> 2030 | Q9: =P9+2 -> 2032 | R9: =Q9+2 -> 2034 | S9: =R9+2 -> 2036 | T9: =S9+2 -> 2038 | ... Z9: =Y9+2 -> 2050
D10: Planungsziele: | H10: übergreifend | I10: =IF(I27=0,"",I27) | J10: =IF(J27=0,"",J27) | K10: =IF(K27=0,"",K27) | L10: =IF(L27=0,"",L27) | M10: =IF(M27=0,"",M27) | N10: =IF(N27=0,"",N27) | O10: =IF(O27=0,"",O27) | P10: =IF(P27=0,"",P27) | ... Z10: =IF(Z27=0,"",Z27)
D11: Wir senken unsere CO2-Emissionen bis 2030 um | G11: 0.37894955 | H11: Wärme | I11: =IF(I69=0,"",I69) -> 29300 | J11: =IF(J69=0,"",J69) -> 36800 | K11: =IF(K69=0,"",K69) -> 38300 | L11: =IF(L69=0,"",L69) -> 38300 | M11: =IF(M69=0,"",M69) -> 38300 | N11: =IF(N69=0,"",N69) -> 38300 | O11: =IF(O69=0,"",O69) -> 38300 | P11: =IF(P69=0,"",P69) -> 27000 | ... Z11: =IF(Z69=0,"",Z69) -> 27000
D12: Wir senken unsere CO2-Emissionen bis 2050 um | G12: 0.58642281 | H12: Strom | I12: =IF(I119=0,"",I119) -> 8800 | J12: =IF(J119=0,"",J119) -> 9800 | K12: =IF(K119=0,"",K119) -> 9800 | L12: =IF(L119=0,"",L119) -> 9800 | M12: =IF(M119=0,"",M119) -> 9800 | N12: =IF(N119=0,"",N119) -> 9800 | O12: =IF(O119=0,"",O119) -> 9800 | P12: =IF(P119=0,"",P119) -> 9800 | ... Z12: =IF(Z119=0,"",Z119) -> 9800
D13: Das Ausgangsjahr für die Berechnung ist: | G13: 2007 | H13: Abfall | I13: =IF(I155=0,"",I155) | J13: =IF(J155=0,"",J155) -> 6200 | K13: =IF(K155=0,"",K155) -> 6200 | L13: =IF(L155=0,"",L155) -> 6200 | M13: =IF(M155=0,"",M155) -> 6200 | N13: =IF(N155=0,"",N155) -> 6200 | O13: =IF(O155=0,"",O155) -> 6200 | P13: =IF(P155=0,"",P155) -> 6200 | ... Z13: =IF(Z155=0,"",Z155) -> 6200
D14: Ausgangslage: | H14: Beschaffung | I14: =IF(I195=0,"",I195) -> 50 | J14: =IF(J195=0,"",J195) -> 50 | K14: =IF(K195=0,"",K195) -> 50 | L14: =IF(L195=0,"",L195) -> 50 | M14: =IF(M195=0,"",M195) -> 50 | N14: =IF(N195=0,"",N195) -> 50 | O14: =IF(O195=0,"",O195) -> 50 | P14: =IF(P195=0,"",P195) -> 50 | ... Z14: =IF(Z195=0,"",Z195) -> 50
D15: ='CO2-Schulbilanz'!A27 -> CO2-Emissionen für Strom, Heizenergie, | G15: ='CO2-Schulbilanz'!E8 -> 142523.2 | H15: Ernährung | I15: =IF(I231=0,"",I231) -> 1250 | J15: =IF(J231=0,"",J231) -> 1250 | K15: =IF(K231=0,"",K231) -> 6800 | L15: =IF(L231=0,"",L231) -> 6800 | M15: =IF(M231=0,"",M231) -> 6800 | N15: =IF(N231=0,"",N231) -> 6800 | O15: =IF(O231=0,"",O231) -> 6800 | P15: =IF(P231=0,"",P231) -> 6800 | ... Z15: =IF(Z231=0,"",Z231) -> 6800
D16: im Jahr: | G16: =G13 -> 2007 | H16: Mobilität | I16: =IF(I267=0,"",I267) | J16: =IF(J267=0,"",J267) | K16: =IF(K267=0,"",K267) | L16: =IF(L267=0,"",L267) | M16: =IF(M267=0,"",M267) | N16: =IF(N267=0,"",N267) | O16: =IF(O267=0,"",O267) | P16: =IF(P267=0,"",P267) | ... Z16: =IF(Z267=0,"",Z267)
D17: Planungsübersicht | H17: Prognose nach Planung | I17: =-SUM(I10:I16) -> -39400 | J17: =-SUM(J10:J16) -> -54100 | K17: =-SUM(K10:K16) -> -61150 | L17: =-SUM(L10:L16) -> -61150 | M17: =-SUM(M10:M16) -> -61150 | N17: =-SUM(N10:N16) -> -61150 | O17: =-SUM(O10:O16) -> -61150 | P17: =-SUM(P10:P16) -> -49850 | ... Z17: =-SUM(Z10:Z16) -> -49850
D18: In der nachfolgenden Übersicht werden für jedes Handlungsfeld die geplanten Maßnahmen mit den jeweiligen Zeitrahmen und Verantwortlichkeiten aufgeführt. | I18: =I17/$G$15 -> -0.27644622 | J18: =J17/$G$15 -> -0.37958733 | K18: =K17/$G$15 -> -0.42905296 | L18: =L17/$G$15 -> -0.42905296 | M18: =M17/$G$15 -> -0.42905296 | N18: =N17/$G$15 -> -0.42905296 | O18: =O17/$G$15 -> -0.42905296 | P18: =P17/$G$15 -> -0.34976762 | ... Z18: =Z17/$G$15 -> -0.34976762
H19: Soll nach Reduktionspfad | I19: =HLOOKUP(I9,'CO2-Schulbilanz'!$F$6:$AV$13,7,0) -> -11331.116 | J19: =HLOOKUP(J9,'CO2-Schulbilanz'!$F$6:$AV$13,7,0) -> -19234.242 | K19: =HLOOKUP(K9,'CO2-Schulbilanz'!$F$6:$AV$13,7,0) -> -33640.901 | L19: =HLOOKUP(L9,'CO2-Schulbilanz'!$F$6:$AV$13,7,0) -> -38058.8 | M19: =HLOOKUP(M9,'CO2-Schulbilanz'!$F$6:$AV$13,7,0) -> -42297.442 | N19: =HLOOKUP(N9,'CO2-Schulbilanz'!$F$6:$AV$13,7,0) -> -46364.102 | O19: =HLOOKUP(O9,'CO2-Schulbilanz'!$F$6:$AV$13,7,0) -> -50265.756 | P19: =HLOOKUP(P9,'CO2-Schulbilanz'!$F$6:$AV$13,7,0) -> -54009.102 | ... Z19: =HLOOKUP(Z9,'CO2-Schulbilanz'!$F$6:$AV$13,7,0) -> -83578.854
I20: =I19/$G$15 -> -0.079503659 | J20: =J19/$G$15 -> -0.13495517 | K20: =K19/$G$15 -> -0.23603807 | L20: =L19/$G$15 -> -0.26703582 | M20: =M19/$G$15 -> -0.29677584 | N20: =N19/$G$15 -> -0.32530916 | O20: =O19/$G$15 -> -0.35268473 | P20: =P19/$G$15 -> -0.37894955 | ... Z20: =Z19/$G$15 -> -0.58642281
D23: Handlungsfeldübergreifender Bereich
D24: Unsere Ziele in diesem Bereich sind …
C25: Nr. | D25: Maßnahme | E25: Termin (Beginn der Umsetzung) | F25: Status der Umsetzung | G25: verantwortlich | H25: Akteure für die Umsetzung | I25: =IF(I$8="kurzfristig","Ziele CO2 & Kompetenzen","") | J25: =IF(J$8="kurzfristig","Ziele CO2 & Kompetenzen","") | K25: =IF(K$8="kurzfristig","Ziele CO2 & Kompetenzen","") | L25: =IF(L$8="kurzfristig","Ziele CO2 & Kompetenzen","") | M25: =IF(M$8="kurzfristig","Ziele CO2 & Kompetenzen","") | N25: =IF(N$8="kurzfristig","Ziele CO2 & Kompetenzen","") | O25: =IF(O$8="kurzfristig","Ziele CO2 & Kompetenzen","") -> Ziele CO2 & Kompetenzen | P25: =IF(P$8="kurzfristig","Ziele CO2 & Kompetenzen","") | ... Z25: =IF(Z$8="kurzfristig","Ziele CO2 & Kompetenzen","")
I26: =$I$9 -> 2011 | J26: =J$9 -> 2014 | K26: =K$9 -> 2020 | L26: =L$9 -> 2022 | M26: =L26+2 -> 2024 | N26: =M26+2 -> 2026 | O26: =N26+2 -> 2028 | P26: =O26+2 -> 2030 | Q26: =P26+2 -> 2032 | R26: =Q26+2 -> 2034 | S26: =R26+2 -> 2036 | T26: =S26+2 -> 2038 | ... Z26: =Y26+2 -> 2050
H27: Summen: | I27: =SUM(I28:I57) -> 0 | J27: =SUM(J28:J57) -> 0 | K27: =SUM(K28:K57) -> 0 | L27: =SUM(L28:L57) -> 0 | M27: =SUM(M28:M57) -> 0 | N27: =SUM(N28:N57) -> 0 | O27: =SUM(O28:O57) -> 0 | P27: =SUM(P28:P57) -> 0 | ... Z27: =SUM(Z28:Z57) -> 0
C28: Ü1 | D28: jährlicher Klimaschutztag mit Themenschwerpunkten | E28: 2012 | F28: wird laufend umgesetzt | G28: Frau Schmalenbach | H28: Klimagruppe, Kollegium, Eltern, außerschulische Einrichtungen | J28: =I28 -> 0 | K28: =J28 -> 0 | L28: =K28 -> 0 | M28: =L28 -> 0 | N28: =M28 -> 0 | O28: =N28 -> 0 | P28: =O28 -> 0 | Q28: =P28 -> 0 | ... Z28: =Y28 -> 0
I29: 80% der Schulgemeinschaft ist sensibilisiert | J29: =I29 -> 80% der Schulgemeinschaft ist sensibilisiert | K29: =J29 -> 80% der Schulgemeinschaft ist sensibilisiert | L29: =K29 -> 80% der Schulgemeinschaft ist sensibilisiert | M29: =L29 -> 80% der Schulgemeinschaft ist sensibilisiert | N29: =M29 -> 80% der Schulgemeinschaft ist sensibilisiert | O29: =N29 -> 80% der Schulgemeinschaft ist sensibilisiert | P29: =O29 -> 80% der Schulgemeinschaft ist sensibilisiert | Q29: =P29 -> 80% der Schulgemeinschaft ist sensibilisiert | ... Z29: =Y29 -> 80% der Schulgemeinschaft ist sensibilisiert
C30: Ü2 | D30: Umgang mit der Klimakiste | E30: 2010 | F30: wird laufend umgesetzt | G30: Frau Twesten | H30: Klasse 3/4 | I30: 0 | J30: =I30 -> 0 | L30: =K30 -> 0 | M30: =L30 -> 0 | N30: =M30 -> 0 | O30: =N30 -> 0 | P30: =O30 -> 0 | Q30: =P30 -> 0 | R30: =Q30 -> 0 | S30: =R30 -> 0 | ... Z30: =Y30 -> 0
I31: die SU-Lehrerinnen haben erste Unterrichtserfahrungen mit der Kiste gesammelt | J31: einige Klassen und der WPK "Klimaforscher" haben mit der Klimakiste gearbeitet | K31: alle Klassen haben mit der Klimakiste gearbeitet | L31: =K31 -> alle Klassen haben mit der Klimakiste gearbeitet | M31: =L31 -> alle Klassen haben mit der Klimakiste gearbeitet | N31: =M31 -> alle Klassen haben mit der Klimakiste gearbeitet | O31: =N31 -> alle Klassen haben mit der Klimakiste gearbeitet | P31: =O31 -> alle Klassen haben mit der Klimakiste gearbeitet | Q31: =P31 -> alle Klassen haben mit der Klimakiste gearbeitet | R31: =Q31 -> alle Klassen haben mit der Klimakiste gearbeitet | S31: =R31 -> alle Klassen haben mit der Klimakiste gearbeitet | ... Z31: =Y31 -> alle Klassen haben mit der Klimakiste gearbeitet
C32: Ü3 | D32: Durchführung der Energie- und Klima- Unterrichtseinheit in Kl. 4, neu seit 2 Jahren durch Klimabotschafter des HHG, Lesekiste und andere Medien zum Thema in der Schülerbücherei, Klimakiste, Besuch von Experten in der Schule Kl. 3/4 | E32: 2010 | F32: wird laufend umgesetzt | G32: Frau Twesten | H32: Klasse 3/4 und am Klimatag/Umwelttag alle Stufen | I32: 0 | J32: =I32 -> 0 | K32: =J32 -> 0 | L32: =K32 -> 0 | M32: =L32 -> 0 | N32: =M32 -> 0 | O32: =N32 -> 0 | P32: =O32 -> 0 | Q32: =P32 -> 0 | ... Z32: =Y32 -> 0
J33: =I33 | K33: =J33 | L33: =K33 | M33: =L33 | N33: =M33 | O33: =N33 | P33: =O33 | Q33: =P33 | ... Z33: =Y33
C34: Ü4 | D34: Einweihung der Photovoltaikanlage | E34: 2010 | F34: umgesetzt | G34: Klimagruppe | H34: Klimabotschafter und Viertklässler aus WP | I34: 0 | J34: =I34 -> 0 | K34: =J34 -> 0 | L34: =K34 -> 0 | M34: =L34 -> 0 | N34: =M34 -> 0 | O34: =N34 -> 0 | P34: =O34 -> 0 | Q34: =P34 -> 0 | ... Z34: =Y34 -> 0
J35: =I35 | K35: =J35 | L35: =K35 | M35: =L35 | N35: =M35 | O35: =N35 | P35: =O35 | Q35: =P35 | ... Z35: =Y35
C36: Ü5 | D36: Installation und Nutzung einer kindgerechten Visualisierungstafel für die Photovoltaik-Anlage im Unterricht | E36: 2011 | F36: umgesetzt | G36: Frau Boltz | H36: Frau Boltz, Schülerexperten und Klimaforscher sowie Klassen- und Fachlehrerinnen als Multiplikatoren | I36: 0 | J36: =I36 -> 0 | K36: =J36 -> 0 | L36: =K36 -> 0 | M36: =L36 -> 0 | N36: =M36 -> 0 | O36: =N36 -> 0 | P36: =O36 -> 0 | Q36: =P36 -> 0 | ... Z36: =Y36 -> 0
J37: 80% der SchülerInnen kennen die Tafel | K37: =J37 -> 80% der SchülerInnen kennen die Tafel | L37: =K37 -> 80% der SchülerInnen kennen die Tafel | M37: =L37 -> 80% der SchülerInnen kennen die Tafel | N37: =M37 -> 80% der SchülerInnen kennen die Tafel | O37: =N37 -> 80% der SchülerInnen kennen die Tafel | P37: =O37 -> 80% der SchülerInnen kennen die Tafel | Q37: =P37 -> 80% der SchülerInnen kennen die Tafel | R37: =Q37 -> 80% der SchülerInnen kennen die Tafel | ... Z37: =Y37 -> 80% der SchülerInnen kennen die Tafel
C38: Ü6 | D38: Einbindung der TSG Bergedorf bei der Umsetzung des Klimaplans | E38: 2012 | F38: in Umsetzung (Mitte) | G38: Frau Bodo (GBS-Koordinatorin) | H38: SL?, Frau Bodo, GBS-Leitung | I38: 0 | J38: =I38 -> 0 | K38: =J38 -> 0 | L38: =K38 -> 0 | M38: =L38 -> 0 | N38: =M38 -> 0 | O38: =N38 -> 0 | P38: =O38 -> 0 | Q38: =P38 -> 0 | ... Z38: =Y38 -> 0
J39: =I39 | K39: =J39 | L39: =K39 | M39: =L39 | N39: =M39 | O39: =N39 | P39: =O39 | Q39: =P39 | ... Z39: =Y39
C40: Ü7 | D40: neu 2014: Gemeinsame Umsetzung (Hort und Schule) des Regelwerks zum Klimaschutz | E40: 2014 | F40: in Umsetzung (Mitte) | G40: Frau Bodo (GBS-Koordinatorin) | H40: Klassenlehrerinnen und Hortmitarbeiter, Schüler | I40: 0 | J40: =I40 -> 0 | K40: =J40 -> 0 | L40: =K40 -> 0 | M40: =L40 -> 0 | N40: =M40 -> 0 | O40: =N40 -> 0 | P40: =O40 -> 0 | Q40: =P40 -> 0 | ... Z40: =Y40 -> 0
J41: =I41 | K41: =J41 | L41: =K41 | M41: =L41 | N41: =M41 | O41: =N41 | P41: =O41 | Q41: =P41 | ... Z41: =Y41
C42: Ü8 | D42: neu 2014: Klimacoach unterstützt den Hm im Bereich Wärme | E42: 2014 | F42: in Umsetzung (Mitte) | G42: Schulleitung, Herr Jobst | H42: Herr Jobst, Herr Scherer (SBH) | I42: 0 | J42: =I42 -> 0 | K42: =J42 -> 0 | L42: =K42 -> 0 | M42: =L42 -> 0 | N42: =M42 -> 0 | O42: =N42 -> 0 | P42: =O42 -> 0 | Q42: =P42 -> 0 | ... Z42: =Y42 -> 0
I43: die Ventile sind anhand der Werte des hydr.Abgleichs eingestellt | J43: Nach Tabellenkorrektur sind alle Ventile überprüft und neu eingestellt | K43: =J43 -> Nach Tabellenkorrektur sind alle Ventile überprüft und neu eingestellt | L43: =K43 -> Nach Tabellenkorrektur sind alle Ventile überprüft und neu eingestellt | M43: =L43 -> Nach Tabellenkorrektur sind alle Ventile überprüft und neu eingestellt | N43: =M43 -> Nach Tabellenkorrektur sind alle Ventile überprüft und neu eingestellt | O43: =N43 -> Nach Tabellenkorrektur sind alle Ventile überprüft und neu eingestellt | P43: =O43 -> Nach Tabellenkorrektur sind alle Ventile überprüft und neu eingestellt | Q43: =P43 -> Nach Tabellenkorrektur sind alle Ventile überprüft und neu eingestellt | R43: =Q43 -> Nach Tabellenkorrektur sind alle Ventile überprüft und neu eingestellt | ... Z43: =Y43 -> Nach Tabellenkorrektur sind alle Ventile überprüft und neu eingestellt
C44: Ü9 | D44: Treffen mit CvO | E44: 2011 | F44: in Umsetzung (Ende) | G44: Frau Twesten | H44: Klimabeauftragte beider Schulen (CvO, MüRe) und Hausmeister Herr Herzog und Herr Jobst sowie 1 Person von 50/50 bzw. LI/ Herr von Kleist | I44: 0 | J44: =I44 -> 0 | K44: =J44 -> 0 | L44: =K44 -> 0 | M44: =L44 -> 0 | N44: =M44 -> 0 | O44: =N44 -> 0 | P44: =O44 -> 0 | Q44: =P44 -> 0 | ... Z44: =Y44 -> 0
...

Sheet Chronologische Liste
C2: Chronologische Maßnahmen-Liste | G2: Stand: | H2: =Planungsübersicht!G4 -> 46276
C3: Alle Handlungsfelder
C4: Hinweis: Nach Änderungen an der Planungsübersicht bitte die Tasten Strg+Alt+L drücken (Ansicht aktualisieren)
B5: =Planungsübersicht!C25 -> Nr. | C5: =Planungsübersicht!D25 -> Maßnahme | D5: =Planungsübersicht!E25 -> Termin (Beginn der Umsetzung) | E5: =Planungsübersicht!F25 -> Status der Umsetzung | F5: =Planungsübersicht!G25 -> verantwortlich | G5: =Planungsübersicht!H25 -> Akteure für die Umsetzung | H5: Ziele CO2
B6: =IF(AND(Planungsübersicht!$E84>1990,TYPE(Planungsübersicht!$E84)=1,NOT(Planungsübersicht!$F84="Umsetzung nicht möglich")), Planungsübersicht!C84," ") -> W8 | C6: =IF(AND(Planungsübersicht!$E84>1990,TYPE(Planungsübersicht!$E84)=1,NOT(Planungsübersicht!$F84="Umsetzung nicht möglich")), Planungsübersicht!D84," ") -> Fenstersanierung im H-Gebäude/ Austausch der Fenster | D6: =IF(AND(Planungsübersicht!$E84>1990,TYPE(Planungsübersicht!$E84)=1,NOT(Planungsübersicht!$F84="Umsetzung nicht möglich")), Planungsübersicht!E84," ") -> 2009 | E6: =IF(AND(Planungsübersicht!$E84>1990,TYPE(Planungsübersicht!$E84)=1,NOT(Planungsübersicht!$F84="Umsetzung nicht möglich")), Planungsübersicht!F84," ") -> umgesetzt | F6: =IF(AND(Planungsübersicht!$E84>1990,TYPE(Planungsübersicht!$E84)=1,NOT(Planungsübersicht!$F84="Umsetzung nicht möglich")), Planungsübersicht!G84," ") -> Herr Brüning, Herr Jobst | G6: =IF(AND(Planungsübersicht!$E84>1990,TYPE(Planungsübersicht!$E84)=1,NOT(Planungsübersicht!$F84="Umsetzung nicht möglich")), Planungsübersicht!H84," ") -> 0 | H6: =IF(AND(Planungsübersicht!$E84>1990,TYPE(Planungsübersicht!$E84)=1,NOT(Planungsübersicht!$F84="Umsetzung nicht möglich")), MAX(Planungsübersicht!I84:Z84)," ") -> 1500
B7: =IF(AND(Planungsübersicht!$E128>1990,TYPE(Planungsübersicht!$E128)=1,NOT(Planungsübersicht!$F128="Umsetzung nicht möglich")), Planungsübersicht!C128," ") -> S5 | C7: =IF(AND(Planungsübersicht!$E128>1990,TYPE(Planungsübersicht!$E128)=1,NOT(Planungsübersicht!$F128="Umsetzung nicht möglich")), Planungsübersicht!D128," ") -> Nutzung erneuerbarer Energien | D7: =IF(AND(Planungsübersicht!$E128>1990,TYPE(Planungsübersicht!$E128)=1,NOT(Planungsübersicht!$F128="Umsetzung nicht möglich")), Planungsübersicht!E128," ") -> 2009 | E7: =IF(AND(Planungsübersicht!$E128>1990,TYPE(Planungsübersicht!$E128)=1,NOT(Planungsübersicht!$F128="Umsetzung nicht möglich")), Planungsübersicht!F128," ") -> umgesetzt | F7: =IF(AND(Planungsübersicht!$E128>1990,TYPE(Planungsübersicht!$E128)=1,NOT(Planungsübersicht!$F128="Umsetzung nicht möglich")), Planungsübersicht!G128," ") -> SL/HSM | G7: =IF(AND(Planungsübersicht!$E128>1990,TYPE(Planungsübersicht!$E128)=1,NOT(Planungsübersicht!$F128="Umsetzung nicht möglich")), Planungsübersicht!H128," ") -> SL/HSM | H7: =IF(AND(Planungsübersicht!$E128>1990,TYPE(Planungsübersicht!$E128)=1,NOT(Planungsübersicht!$F128="Umsetzung nicht möglich")), MAX(Planungsübersicht!I128:Z128)," ") -> 1500
B8: =IF(AND(Planungsübersicht!$E130>1990,TYPE(Planungsübersicht!$E130)=1,NOT(Planungsübersicht!$F130="Umsetzung nicht möglich")), Planungsübersicht!C130," ") -> S6 | C8: =IF(AND(Planungsübersicht!$E130>1990,TYPE(Planungsübersicht!$E130)=1,NOT(Planungsübersicht!$F130="Umsetzung nicht möglich")), Planungsübersicht!D130," ") -> überflüssige Raumbeleuchtung vermeiden | D8: =IF(AND(Planungsübersicht!$E130>1990,TYPE(Planungsübersicht!$E130)=1,NOT(Planungsübersicht!$F130="Umsetzung nicht möglich")), Planungsübersicht!E130," ") -> 2009 | E8: =IF(AND(Planungsübersicht!$E130>1990,TYPE(Planungsübersicht!$E130)=1,NOT(Planungsübersicht!$F130="Umsetzung nicht möglich")), Planungsübersicht!F130," ") -> wird laufend umgesetzt | F8: =IF(AND(Planungsübersicht!$E130>1990,TYPE(Planungsübersicht!$E130)=1,NOT(Planungsübersicht!$F130="Umsetzung nicht möglich")), Planungsübersicht!G130," ") -> SL | G8: =IF(AND(Planungsübersicht!$E130>1990,TYPE(Planungsübersicht!$E130)=1,NOT(Planungsübersicht!$F130="Umsetzung nicht möglich")), Planungsübersicht!H130," ") -> HSM | H8: =IF(AND(Planungsübersicht!$E130>1990,TYPE(Planungsübersicht!$E130)=1,NOT(Planungsübersicht!$F130="Umsetzung nicht möglich")), MAX(Planungsübersicht!I130:Z130)," ") -> 0
B9: =IF(AND(Planungsübersicht!$E132>1990,TYPE(Planungsübersicht!$E132)=1,NOT(Planungsübersicht!$F132="Umsetzung nicht möglich")), Planungsübersicht!C132," ") -> S7 | C9: =IF(AND(Planungsübersicht!$E132>1990,TYPE(Planungsübersicht!$E132)=1,NOT(Planungsübersicht!$F132="Umsetzung nicht möglich")), Planungsübersicht!D132," ") -> Lichtsteuerung in Toilettenräumen | D9: =IF(AND(Planungsübersicht!$E132>1990,TYPE(Planungsübersicht!$E132)=1,NOT(Planungsübersicht!$F132="Umsetzung nicht möglich")), Planungsübersicht!E132," ") -> 2009 | E9: =IF(AND(Planungsübersicht!$E132>1990,TYPE(Planungsübersicht!$E132)=1,NOT(Planungsübersicht!$F132="Umsetzung nicht möglich")), Planungsübersicht!F132," ") -> umgesetzt | F9: =IF(AND(Planungsübersicht!$E132>1990,TYPE(Planungsübersicht!$E132)=1,NOT(Planungsübersicht!$F132="Umsetzung nicht möglich")), Planungsübersicht!G132," ") -> HSM | G9: =IF(AND(Planungsübersicht!$E132>1990,TYPE(Planungsübersicht!$E132)=1,NOT(Planungsübersicht!$F132="Umsetzung nicht möglich")), Planungsübersicht!H132," ") -> HSM | H9: =IF(AND(Planungsübersicht!$E132>1990,TYPE(Planungsübersicht!$E132)=1,NOT(Planungsübersicht!$F132="Umsetzung nicht möglich")), MAX(Planungsübersicht!I132:Z132)," ") -> 1000
B10: =IF(AND(Planungsübersicht!$E30>1990,TYPE(Planungsübersicht!$E30)=1,NOT(Planungsübersicht!$F30="Umsetzung nicht möglich")), Planungsübersicht!C30," ") -> Ü2 | C10: =IF(AND(Planungsübersicht!$E30>1990,TYPE(Planungsübersicht!$E30)=1,NOT(Planungsübersicht!$F30="Umsetzung nicht möglich")), Planungsübersicht!D30," ") -> Umgang mit der Klimakiste | D10: =IF(AND(Planungsübersicht!$E30>1990,TYPE(Planungsübersicht!$E30)=1,NOT(Planungsübersicht!$F30="Umsetzung nicht möglich")), Planungsübersicht!E30," ") -> 2010 | E10: =IF(AND(Planungsübersicht!$E30>1990,TYPE(Planungsübersicht!$E30)=1,NOT(Planungsübersicht!$F30="Umsetzung nicht möglich")), Planungsübersicht!F30," ") -> wird laufend umgesetzt | F10: =IF(AND(Planungsübersicht!$E30>1990,TYPE(Planungsübersicht!$E30)=1,NOT(Planungsübersicht!$F30="Umsetzung nicht möglich")), Planungsübersicht!G30," ") -> Frau Twesten | G10: =IF(AND(Planungsübersicht!$E30>1990,TYPE(Planungsübersicht!$E30)=1,NOT(Planungsübersicht!$F30="Umsetzung nicht möglich")), Planungsübersicht!H30," ") -> Klasse 3/4 | H10: =IF(AND(Planungsübersicht!$E30>1990,TYPE(Planungsübersicht!$E30)=1,NOT(Planungsübersicht!$F30="Umsetzung nicht möglich")), MAX(Planungsübersicht!I30:Z30)," ") -> 0
B11: =IF(AND(Planungsübersicht!$E32>1990,TYPE(Planungsübersicht!$E32)=1,NOT(Planungsübersicht!$F32="Umsetzung nicht möglich")), Planungsübersicht!C32," ") -> Ü3 | C11: =IF(AND(Planungsübersicht!$E32>1990,TYPE(Planungsübersicht!$E32)=1,NOT(Planungsübersicht!$F32="Umsetzung nicht möglich")), Planungsübersicht!D32," ") -> Durchführung der Energie- und Klima- Unterrichtseinheit in Kl. 4, neu seit 2 Jahren durch Klimabotschafter des HHG, Lesekiste und andere Medien zum Thema in der Schülerbücherei, Klimakiste, Besuch von Experten in der Schule Kl. 3/4 | D11: =IF(AND(Planungsübersicht!$E32>1990,TYPE(Planungsübersicht!$E32)=1,NOT(Planungsübersicht!$F32="Umsetzung nicht möglich")), Planungsübersicht!E32," ") -> 2010 | E11: =IF(AND(Planungsübersicht!$E32>1990,TYPE(Planungsübersicht!$E32)=1,NOT(Planungsübersicht!$F32="Umsetzung nicht möglich")), Planungsübersicht!F32," ") -> wird laufend umgesetzt | F11: =IF(AND(Planungsübersicht!$E32>1990,TYPE(Planungsübersicht!$E32)=1,NOT(Planungsübersicht!$F32="Umsetzung nicht möglich")), Planungsübersicht!G32," ") -> Frau Twesten | G11: =IF(AND(Planungsübersicht!$E32>1990,TYPE(Planungsübersicht!$E32)=1,NOT(Planungsübersicht!$F32="Umsetzung nicht möglich")), Planungsübersicht!H32," ") -> Klasse 3/4 und am Klimatag/Umwelttag alle Stufen | H11: =IF(AND(Planungsübersicht!$E32>1990,TYPE(Planungsübersicht!$E32)=1,NOT(Planungsübersicht!$F32="Umsetzung nicht möglich")), MAX(Planungsübersicht!I32:Z32)," ") -> 0
B12: =IF(AND(Planungsübersicht!$E34>1990,TYPE(Planungsübersicht!$E34)=1,NOT(Planungsübersicht!$F34="Umsetzung nicht möglich")), Planungsübersicht!C34," ") -> Ü4 | C12: =IF(AND(Planungsübersicht!$E34>1990,TYPE(Planungsübersicht!$E34)=1,NOT(Planungsübersicht!$F34="Umsetzung nicht möglich")), Planungsübersicht!D34," ") -> Einweihung der Photovoltaikanlage | D12: =IF(AND(Planungsübersicht!$E34>1990,TYPE(Planungsübersicht!$E34)=1,NOT(Planungsübersicht!$F34="Umsetzung nicht möglich")), Planungsübersicht!E34," ") -> 2010 | E12: =IF(AND(Planungsübersicht!$E34>1990,TYPE(Planungsübersicht!$E34)=1,NOT(Planungsübersicht!$F34="Umsetzung nicht möglich")), Planungsübersicht!F34," ") -> umgesetzt | F12: =IF(AND(Planungsübersicht!$E34>1990,TYPE(Planungsübersicht!$E34)=1,NOT(Planungsübersicht!$F34="Umsetzung nicht möglich")), Planungsübersicht!G34," ") -> Klimagruppe | G12: =IF(AND(Planungsübersicht!$E34>1990,TYPE(Planungsübersicht!$E34)=1,NOT(Planungsübersicht!$F34="Umsetzung nicht möglich")), Planungsübersicht!H34," ") -> Klimabotschafter und Viertklässler aus WP | H12: =IF(AND(Planungsübersicht!$E34>1990,TYPE(Planungsübersicht!$E34)=1,NOT(Planungsübersicht!$F34="Umsetzung nicht möglich")), MAX(Planungsübersicht!I34:Z34)," ") -> 0
B13: =IF(AND(Planungsübersicht!$E70>1990,TYPE(Planungsübersicht!$E70)=1,NOT(Planungsübersicht!$F70="Umsetzung nicht möglich")), Planungsübersicht!C70," ") -> W1 | C13: =IF(AND(Planungsübersicht!$E70>1990,TYPE(Planungsübersicht!$E70)=1,NOT(Planungsübersicht!$F70="Umsetzung nicht möglich")), Planungsübersicht!D70," ") -> effektive Aufheizung durch zentrale Gebäudeleittechnik | D13: =IF(AND(Planungsübersicht!$E70>1990,TYPE(Planungsübersicht!$E70)=1,NOT(Planungsübersicht!$F70="Umsetzung nicht möglich")), Planungsübersicht!E70," ") -> 2010 | E13: =IF(AND(Planungsübersicht!$E70>1990,TYPE(Planungsübersicht!$E70)=1,NOT(Planungsübersicht!$F70="Umsetzung nicht möglich")), Planungsübersicht!F70," ") -> umgesetzt | F13: =IF(AND(Planungsübersicht!$E70>1990,TYPE(Planungsübersicht!$E70)=1,NOT(Planungsübersicht!$F70="Umsetzung nicht möglich")), Planungsübersicht!G70," ") -> Herr Jobst | G13: =IF(AND(Planungsübersicht!$E70>1990,TYPE(Planungsübersicht!$E70)=1,NOT(Planungsübersicht!$F70="Umsetzung nicht möglich")), Planungsübersicht!H70," ") -> Herr Jobst | H13: =IF(AND(Planungsübersicht!$E70>1990,TYPE(Planungsübersicht!$E70)=1,NOT(Planungsübersicht!$F70="Umsetzung nicht möglich")), MAX(Planungsübersicht!I70:Z70)," ") -> 0
B14: =IF(AND(Planungsübersicht!$E72>1990,TYPE(Planungsübersicht!$E72)=1,NOT(Planungsübersicht!$F72="Umsetzung nicht möglich")), Planungsübersicht!C72," ") -> W2 | C14: =IF(AND(Planungsübersicht!$E72>1990,TYPE(Planungsübersicht!$E72)=1,NOT(Planungsübersicht!$F72="Umsetzung nicht möglich")), Planungsübersicht!D72," ") -> energiesparende Regelung der Heizung durch Installation einer neuen Regeleinheit mit Bedienfunktion , Prüfung und Optimierung von Nacht- und Wochenendabsenkung | D14: =IF(AND(Planungsübersicht!$E72>1990,TYPE(Planungsübersicht!$E72)=1,NOT(Planungsübersicht!$F72="Umsetzung nicht möglich")), Planungsübersicht!E72," ") -> 2010 | E14: =IF(AND(Planungsübersicht!$E72>1990,TYPE(Planungsübersicht!$E72)=1,NOT(Planungsübersicht!$F72="Umsetzung nicht möglich")), Planungsübersicht!F72," ") -> umgesetzt | F14: =IF(AND(Planungsübersicht!$E72>1990,TYPE(Planungsübersicht!$E72)=1,NOT(Planungsübersicht!$F72="Umsetzung nicht möglich")), Planungsübersicht!G72," ") -> Herr Jobst | G14: =IF(AND(Planungsübersicht!$E72>1990,TYPE(Planungsübersicht!$E72)=1,NOT(Planungsübersicht!$F72="Umsetzung nicht möglich")), Planungsübersicht!H72," ") -> Herr Jobst | H14: =IF(AND(Planungsübersicht!$E72>1990,TYPE(Planungsübersicht!$E72)=1,NOT(Planungsübersicht!$F72="Umsetzung nicht möglich")), MAX(Planungsübersicht!I72:Z72)," ") -> 10500
B15: =IF(AND(Planungsübersicht!$E80>1990,TYPE(Planungsübersicht!$E80)=1,NOT(Planungsübersicht!$F80="Umsetzung nicht möglich")), Planungsübersicht!C80," ") -> W6 | C15: =IF(AND(Planungsübersicht!$E80>1990,TYPE(Planungsübersicht!$E80)=1,NOT(Planungsübersicht!$F80="Umsetzung nicht möglich")), Planungsübersicht!D80," ") -> Einbau eines Wärmemengenzählers | D15: =IF(AND(Planungsübersicht!$E80>1990,TYPE(Planungsübersicht!$E80)=1,NOT(Planungsübersicht!$F80="Umsetzung nicht möglich")), Planungsübersicht!E80," ") -> 2010 | E15: =IF(AND(Planungsübersicht!$E80>1990,TYPE(Planungsübersicht!$E80)=1,NOT(Planungsübersicht!$F80="Umsetzung nicht möglich")), Planungsübersicht!F80," ") -> umgesetzt | F15: =IF(AND(Planungsübersicht!$E80>1990,TYPE(Planungsübersicht!$E80)=1,NOT(Planungsübersicht!$F80="Umsetzung nicht möglich")), Planungsübersicht!G80," ") -> Herr Jobst | G15: =IF(AND(Planungsübersicht!$E80>1990,TYPE(Planungsübersicht!$E80)=1,NOT(Planungsübersicht!$F80="Umsetzung nicht möglich")), Planungsübersicht!H80," ") -> Herr Jobst | H15: =IF(AND(Planungsübersicht!$E80>1990,TYPE(Planungsübersicht!$E80)=1,NOT(Planungsübersicht!$F80="Umsetzung nicht möglich")), MAX(Planungsübersicht!I80:Z80)," ") -> 0
B16: =IF(AND(Planungsübersicht!$E94>1990,TYPE(Planungsübersicht!$E94)=1,NOT(Planungsübersicht!$F94="Umsetzung nicht möglich")), Planungsübersicht!C94," ") -> W10d | C16: =IF(AND(Planungsübersicht!$E94>1990,TYPE(Planungsübersicht!$E94)=1,NOT(Planungsübersicht!$F94="Umsetzung nicht möglich")), Planungsübersicht!D94," ") -> Effektive Heizung (Eigene Heizkreise für Zonen unterschiedlichen Wärmebedarfs einprogrammieren) | D16: =IF(AND(Planungsübersicht!$E94>1990,TYPE(Planungsübersicht!$E94)=1,NOT(Planungsübersicht!$F94="Umsetzung nicht möglich")), Planungsübersicht!E94," ") -> 2010 | E16: =IF(AND(Planungsübersicht!$E94>1990,TYPE(Planungsübersicht!$E94)=1,NOT(Planungsübersicht!$F94="Umsetzung nicht möglich")), Planungsübersicht!F94," ") -> umgesetzt | F16: =IF(AND(Planungsübersicht!$E94>1990,TYPE(Planungsübersicht!$E94)=1,NOT(Planungsübersicht!$F94="Umsetzung nicht möglich")), Planungsübersicht!G94," ") -> Herr Jobst | G16: =IF(AND(Planungsübersicht!$E94>1990,TYPE(Planungsübersicht!$E94)=1,NOT(Planungsübersicht!$F94="Umsetzung nicht möglich")), Planungsübersicht!H94," ") -> Herr Jobst + Herr Wernstedt + Herr Sprick | H16: =IF(AND(Planungsübersicht!$E94>1990,TYPE(Planungsübersicht!$E94)=1,NOT(Planungsübersicht!$F94="Umsetzung nicht möglich")), MAX(Planungsübersicht!I94:Z94)," ") -> 3000
B17: =IF(AND(Planungsübersicht!$E102>1990,TYPE(Planungsübersicht!$E102)=1,NOT(Planungsübersicht!$F102="Umsetzung nicht möglich")), Planungsübersicht!C102," ") -> W11 | C17: =IF(AND(Planungsübersicht!$E102>1990,TYPE(Planungsübersicht!$E102)=1,NOT(Planungsübersicht!$F102="Umsetzung nicht möglich")), Planungsübersicht!D102," ") -> Kennenlernen des schulischen Heizungssystems | D17: =IF(AND(Planungsübersicht!$E102>1990,TYPE(Planungsübersicht!$E102)=1,NOT(Planungsübersicht!$F102="Umsetzung nicht möglich")), Planungsübersicht!E102," ") -> 2010 | E17: =IF(AND(Planungsübersicht!$E102>1990,TYPE(Planungsübersicht!$E102)=1,NOT(Planungsübersicht!$F102="Umsetzung nicht möglich")), Planungsübersicht!F102," ") -> in Umsetzung (Ende) | F17: =IF(AND(Planungsübersicht!$E102>1990,TYPE(Planungsübersicht!$E102)=1,NOT(Planungsübersicht!$F102="Umsetzung nicht möglich")), Planungsübersicht!G102," ") -> Frau Twesten | G17: =IF(AND(Planungsübersicht!$E102>1990,TYPE(Planungsübersicht!$E102)=1,NOT(Planungsübersicht!$F102="Umsetzung nicht möglich")), Planungsübersicht!H102," ") -> Klassen- und Fachlehrerinnen | H17: =IF(AND(Planungsübersicht!$E102>1990,TYPE(Planungsübersicht!$E102)=1,NOT(Planungsübersicht!$F102="Umsetzung nicht möglich")), MAX(Planungsübersicht!I102:Z102)," ") -> 0
B18: =IF(AND(Planungsübersicht!$E104>1990,TYPE(Planungsübersicht!$E104)=1,NOT(Planungsübersicht!$F104="Umsetzung nicht möglich")), Planungsübersicht!C104," ") -> W12 | C18: =IF(AND(Planungsübersicht!$E104>1990,TYPE(Planungsübersicht!$E104)=1,NOT(Planungsübersicht!$F104="Umsetzung nicht möglich")), Planungsübersicht!D104," ") -> jährliche Schulung von neuen Schülern | D18: =IF(AND(Planungsübersicht!$E104>1990,TYPE(Planungsübersicht!$E104)=1,NOT(Planungsübersicht!$F104="Umsetzung nicht möglich")), Planungsübersicht!E104," ") -> 2010 | E18: =IF(AND(Planungsübersicht!$E104>1990,TYPE(Planungsübersicht!$E104)=1,NOT(Planungsübersicht!$F104="Umsetzung nicht möglich")), Planungsübersicht!F104," ") -> umgesetzt | F18: =IF(AND(Planungsübersicht!$E104>1990,TYPE(Planungsübersicht!$E104)=1,NOT(Planungsübersicht!$F104="Umsetzung nicht möglich")), Planungsübersicht!G104," ") -> Frau Twesten | G18: =IF(AND(Planungsübersicht!$E104>1990,TYPE(Planungsübersicht!$E104)=1,NOT(Planungsübersicht!$F104="Umsetzung nicht möglich")), Planungsübersicht!H104," ") -> 0 | H18: =IF(AND(Planungsübersicht!$E104>1990,TYPE(Planungsübersicht!$E104)=1,NOT(Planungsübersicht!$F104="Umsetzung nicht möglich")), MAX(Planungsübersicht!I104:Z104)," ") -> 0
B19: =IF(AND(Planungsübersicht!$E124>1990,TYPE(Planungsübersicht!$E124)=1,NOT(Planungsübersicht!$F124="Umsetzung nicht möglich")), Planungsübersicht!C124," ") -> S3 | C19: =IF(AND(Planungsübersicht!$E124>1990,TYPE(Planungsübersicht!$E124)=1,NOT(Planungsübersicht!$F124="Umsetzung nicht möglich")), Planungsübersicht!D124," ") -> SchülerInnen sollen bewusst Strom sparen, in dem sie das Licht im Klassenraum und anderen Räumen ausschalten | D19: =IF(AND(Planungsübersicht!$E124>1990,TYPE(Planungsübersicht!$E124)=1,NOT(Planungsübersicht!$F124="Umsetzung nicht möglich")), Planungsübersicht!E124," ") -> 2010 | E19: =IF(AND(Planungsübersicht!$E124>1990,TYPE(Planungsübersicht!$E124)=1,NOT(Planungsübersicht!$F124="Umsetzung nicht möglich")), Planungsübersicht!F124," ") -> umgesetzt | F19: =IF(AND(Planungsübersicht!$E124>1990,TYPE(Planungsübersicht!$E124)=1,NOT(Planungsübersicht!$F124="Umsetzung nicht möglich")), Planungsübersicht!G124," ") -> 0 | G19: =IF(AND(Planungsübersicht!$E124>1990,TYPE(Planungsübersicht!$E124)=1,NOT(Planungsübersicht!$F124="Umsetzung nicht möglich")), Planungsübersicht!H124," ") -> Schülerparlament mit Klassensprecherm, KlassenlehrerInnen in Klasse 1 | H19: =IF(AND(Planungsübersicht!$E124>1990,TYPE(Planungsübersicht!$E124)=1,NOT(Planungsübersicht!$F124="Umsetzung nicht möglich")), MAX(Planungsübersicht!I124:Z124)," ") -> 0
B20: =IF(AND(Planungsübersicht!$E126>1990,TYPE(Planungsübersicht!$E126)=1,NOT(Planungsübersicht!$F126="Umsetzung nicht möglich")), Planungsübersicht!C126," ") -> S4 | C20: =IF(AND(Planungsübersicht!$E126>1990,TYPE(Planungsübersicht!$E126)=1,NOT(Planungsübersicht!$F126="Umsetzung nicht möglich")), Planungsübersicht!D126," ") -> gezielte Lichtsteuerung nach Bedarf über Computer, Reduzierung von Strom | D20: =IF(AND(Planungsübersicht!$E126>1990,TYPE(Planungsübersicht!$E126)=1,NOT(Planungsübersicht!$F126="Umsetzung nicht möglich")), Planungsübersicht!E126," ") -> 2010 | E20: =IF(AND(Planungsübersicht!$E126>1990,TYPE(Planungsübersicht!$E126)=1,NOT(Planungsübersicht!$F126="Umsetzung nicht möglich")), Planungsübersicht!F126," ") -> umgesetzt | F20: =IF(AND(Planungsübersicht!$E126>1990,TYPE(Planungsübersicht!$E126)=1,NOT(Planungsübersicht!$F126="Umsetzung nicht möglich")), Planungsübersicht!G126," ") -> SL, HSM | G20: =IF(AND(Planungsübersicht!$E126>1990,TYPE(Planungsübersicht!$E126)=1,NOT(Planungsübersicht!$F126="Umsetzung nicht möglich")), Planungsübersicht!H126," ") -> HSM | H20: =IF(AND(Planungsübersicht!$E126>1990,TYPE(Planungsübersicht!$E126)=1,NOT(Planungsübersicht!$F126="Umsetzung nicht möglich")), MAX(Planungsübersicht!I126:Z126)," ") -> 2500
B21: =IF(AND(Planungsübersicht!$E140>1990,TYPE(Planungsübersicht!$E140)=1,NOT(Planungsübersicht!$F140="Umsetzung nicht möglich")), Planungsübersicht!C140," ") -> S11 | C21: =IF(AND(Planungsübersicht!$E140>1990,TYPE(Planungsübersicht!$E140)=1,NOT(Planungsübersicht!$F140="Umsetzung nicht möglich")), Planungsübersicht!D140," ") -> Stromsparendes Verhalten kennen lernen durch Beobachten und Messen | D21: =IF(AND(Planungsübersicht!$E140>1990,TYPE(Planungsübersicht!$E140)=1,NOT(Planungsübersicht!$F140="Umsetzung nicht möglich")), Planungsübersicht!E140," ") -> 2010 | E21: =IF(AND(Planungsübersicht!$E140>1990,TYPE(Planungsübersicht!$E140)=1,NOT(Planungsübersicht!$F140="Umsetzung nicht möglich")), Planungsübersicht!F140," ") -> wird laufend umgesetzt | F21: =IF(AND(Planungsübersicht!$E140>1990,TYPE(Planungsübersicht!$E140)=1,NOT(Planungsübersicht!$F140="Umsetzung nicht möglich")), Planungsübersicht!G140," ") -> Klimaschutzbeauftragte | G21: =IF(AND(Planungsübersicht!$E140>1990,TYPE(Planungsübersicht!$E140)=1,NOT(Planungsübersicht!$F140="Umsetzung nicht möglich")), Planungsübersicht!H140," ") -> Schüler der Stufe 3/4 und Klimaforscher | H21: =IF(AND(Planungsübersicht!$E140>1990,TYPE(Planungsübersicht!$E140)=1,NOT(Planungsübersicht!$F140="Umsetzung nicht möglich")), MAX(Planungsübersicht!I140:Z140)," ") -> 0
B22: =IF(AND(Planungsübersicht!$E172>1990,TYPE(Planungsübersicht!$E172)=1,NOT(Planungsübersicht!$F172="Umsetzung nicht möglich")), Planungsübersicht!C172," ") -> A9 | C22: =IF(AND(Planungsübersicht!$E172>1990,TYPE(Planungsübersicht!$E172)=1,NOT(Planungsübersicht!$F172="Umsetzung nicht möglich")), Planungsübersicht!D172," ") -> Recycling von alten Möbeln | D22: =IF(AND(Planungsübersicht!$E172>1990,TYPE(Planungsübersicht!$E172)=1,NOT(Planungsübersicht!$F172="Umsetzung nicht möglich")), Planungsübersicht!E172," ") -> 2010 | E22: =IF(AND(Planungsübersicht!$E172>1990,TYPE(Planungsübersicht!$E172)=1,NOT(Planungsübersicht!$F172="Umsetzung nicht möglich")), Planungsübersicht!F172," ") -> wird laufend umgesetzt | F22: =IF(AND(Planungsübersicht!$E172>1990,TYPE(Planungsübersicht!$E172)=1,NOT(Planungsübersicht!$F172="Umsetzung nicht möglich")), Planungsübersicht!G172," ") -> HM Herr Jobst | G22: =IF(AND(Planungsübersicht!$E172>1990,TYPE(Planungsübersicht!$E172)=1,NOT(Planungsübersicht!$F172="Umsetzung nicht möglich")), Planungsübersicht!H172," ") -> Herr Jobst | H22: =IF(AND(Planungsübersicht!$E172>1990,TYPE(Planungsübersicht!$E172)=1,NOT(Planungsübersicht!$F172="Umsetzung nicht möglich")), MAX(Planungsübersicht!I172:Z172)," ") -> 0
B23: =IF(AND(Planungsübersicht!$E184>1990,TYPE(Planungsübersicht!$E184)=1,NOT(Planungsübersicht!$F184="Umsetzung nicht möglich")), Planungsübersicht!C184," ") -> A15 | C23: =IF(AND(Planungsübersicht!$E184>1990,TYPE(Planungsübersicht!$E184)=1,NOT(Planungsübersicht!$F184="Umsetzung nicht möglich")), Planungsübersicht!D184," ") -> Schulgelände sauber halten (Müll kann mit geeignetem Werkzeug gesammelt werden) | D23: =IF(AND(Planungsübersicht!$E184>1990,TYPE(Planungsübersicht!$E184)=1,NOT(Planungsübersicht!$F184="Umsetzung nicht möglich")), Planungsübersicht!E184," ") -> 2010 | E23: =IF(AND(Planungsübersicht!$E184>1990,TYPE(Planungsübersicht!$E184)=1,NOT(Planungsübersicht!$F184="Umsetzung nicht möglich")), Planungsübersicht!F184," ") -> wird laufend umgesetzt | F23: =IF(AND(Planungsübersicht!$E184>1990,TYPE(Planungsübersicht!$E184)=1,NOT(Planungsübersicht!$F184="Umsetzung nicht möglich")), Planungsübersicht!G184," ") -> Schulleitung | G23: =IF(AND(Planungsübersicht!$E184>1990,TYPE(Planungsübersicht!$E184)=1,NOT(Planungsübersicht!$F184="Umsetzung nicht möglich")), Planungsübersicht!H184," ") -> KlassenlehrerInnen, HSM | H23: =IF(AND(Planungsübersicht!$E184>1990,TYPE(Planungsübersicht!$E184)=1,NOT(Planungsübersicht!$F184="Umsetzung nicht möglich")), MAX(Planungsübersicht!I184:Z184)," ") -> 0
B24: =IF(AND(Planungsübersicht!$E196>1990,TYPE(Planungsübersicht!$E196)=1,NOT(Planungsübersicht!$F196="Umsetzung nicht möglich")), Planungsübersicht!C196," ") -> B1 | C24: =IF(AND(Planungsübersicht!$E196>1990,TYPE(Planungsübersicht!$E196)=1,NOT(Planungsübersicht!$F196="Umsetzung nicht möglich")), Planungsübersicht!D196," ") -> Nutzung von Papier mit dem "Blauen Engel" | D24: =IF(AND(Planungsübersicht!$E196>1990,TYPE(Planungsübersicht!$E196)=1,NOT(Planungsübersicht!$F196="Umsetzung nicht möglich")), Planungsübersicht!E196," ") -> 2010 | E24: =IF(AND(Planungsübersicht!$E196>1990,TYPE(Planungsübersicht!$E196)=1,NOT(Planungsübersicht!$F196="Umsetzung nicht möglich")), Planungsübersicht!F196," ") -> wird laufend umgesetzt | F24: =IF(AND(Planungsübersicht!$E196>1990,TYPE(Planungsübersicht!$E196)=1,NOT(Planungsübersicht!$F196="Umsetzung nicht möglich")), Planungsübersicht!G196," ") -> SL | G24: =IF(AND(Planungsübersicht!$E196>1990,TYPE(Planungsübersicht!$E196)=1,NOT(Planungsübersicht!$F196="Umsetzung nicht möglich")), Planungsübersicht!H196," ") -> Lehrer und Verwaltung | H24: =IF(AND(Planungsübersicht!$E196>1990,TYPE(Planungsübersicht!$E196)=1,NOT(Planungsübersicht!$F196="Umsetzung nicht möglich")), MAX(Planungsübersicht!I196:Z196)," ") -> 50
B25: =IF(AND(Planungsübersicht!$E36>1990,TYPE(Planungsübersicht!$E36)=1,NOT(Planungsübersicht!$F36="Umsetzung nicht möglich")), Planungsübersicht!C36," ") -> Ü5 | C25: =IF(AND(Planungsübersicht!$E36>1990,TYPE(Planungsübersicht!$E36)=1,NOT(Planungsübersicht!$F36="Umsetzung nicht möglich")), Planungsübersicht!D36," ") -> Installation und Nutzung einer kindgerechten Visualisierungstafel für die Photovoltaik-Anlage im Unterricht | D25: =IF(AND(Planungsübersicht!$E36>1990,TYPE(Planungsübersicht!$E36)=1,NOT(Planungsübersicht!$F36="Umsetzung nicht möglich")), Planungsübersicht!E36," ") -> 2011 | E25: =IF(AND(Planungsübersicht!$E36>1990,TYPE(Planungsübersicht!$E36)=1,NOT(Planungsübersicht!$F36="Umsetzung nicht möglich")), Planungsübersicht!F36," ") -> umgesetzt | F25: =IF(AND(Planungsübersicht!$E36>1990,TYPE(Planungsübersicht!$E36)=1,NOT(Planungsübersicht!$F36="Umsetzung nicht möglich")), Planungsübersicht!G36," ") -> Frau Boltz | G25: =IF(AND(Planungsübersicht!$E36>1990,TYPE(Planungsübersicht!$E36)=1,NOT(Planungsübersicht!$F36="Umsetzung nicht möglich")), Planungsübersicht!H36," ") -> Frau Boltz, Schülerexperten und Klimaforscher sowie Klassen- und Fachlehrerinnen als Multiplikatoren | H25: =IF(AND(Planungsübersicht!$E36>1990,TYPE(Planungsübersicht!$E36)=1,NOT(Planungsübersicht!$F36="Umsetzung nicht möglich")), MAX(Planungsübersicht!I36:Z36)," ") -> 0
B26: =IF(AND(Planungsübersicht!$E44>1990,TYPE(Planungsübersicht!$E44)=1,NOT(Planungsübersicht!$F44="Umsetzung nicht möglich")), Planungsübersicht!C44," ") -> Ü9 | C26: =IF(AND(Planungsübersicht!$E44>1990,TYPE(Planungsübersicht!$E44)=1,NOT(Planungsübersicht!$F44="Umsetzung nicht möglich")), Planungsübersicht!D44," ") -> Treffen mit CvO | D26: =IF(AND(Planungsübersicht!$E44>1990,TYPE(Planungsübersicht!$E44)=1,NOT(Planungsübersicht!$F44="Umsetzung nicht möglich")), Planungsübersicht!E44," ") -> 2011 | E26: =IF(AND(Planungsübersicht!$E44>1990,TYPE(Planungsübersicht!$E44)=1,NOT(Planungsübersicht!$F44="Umsetzung nicht möglich")), Planungsübersicht!F44," ") -> in Umsetzung (Ende) | F26: =IF(AND(Planungsübersicht!$E44>1990,TYPE(Planungsübersicht!$E44)=1,NOT(Planungsübersicht!$F44="Umsetzung nicht möglich")), Planungsübersicht!G44," ") -> Frau Twesten | G26: =IF(AND(Planungsübersicht!$E44>1990,TYPE(Planungsübersicht!$E44)=1,NOT(Planungsübersicht!$F44="Umsetzung nicht möglich")), Planungsübersicht!H44," ") -> Klimabeauftragte beider Schulen (CvO, MüRe) und Hausmeister Herr Herzog und Herr Jobst sowie 1 Person von 50/50 bzw. LI/ Herr von Kleist | H26: =IF(AND(Planungsübersicht!$E44>1990,TYPE(Planungsübersicht!$E44)=1,NOT(Planungsübersicht!$F44="Umsetzung nicht möglich")), MAX(Planungsübersicht!I44:Z44)," ") -> 0
B27: =IF(AND(Planungsübersicht!$E120>1990,TYPE(Planungsübersicht!$E120)=1,NOT(Planungsübersicht!$F120="Umsetzung nicht möglich")), Planungsübersicht!C120," ") -> S1 | C27: =IF(AND(Planungsübersicht!$E120>1990,TYPE(Planungsübersicht!$E120)=1,NOT(Planungsübersicht!$F120="Umsetzung nicht möglich")), Planungsübersicht!D120," ") -> Steckerleiste als Stromsparinstrument in der Schule und zu Hause einsetzen | D27: =IF(AND(Planungsübersicht!$E120>1990,TYPE(Planungsübersicht!$E120)=1,NOT(Planungsübersicht!$F120="Umsetzung nicht möglich")), Planungsübersicht!E120," ") -> 2011 | E27: =IF(AND(Planungsübersicht!$E120>1990,TYPE(Planungsübersicht!$E120)=1,NOT(Planungsübersicht!$F120="Umsetzung nicht möglich")), Planungsübersicht!F120," ") -> wird laufend umgesetzt | F27: =IF(AND(Planungsübersicht!$E120>1990,TYPE(Planungsübersicht!$E120)=1,NOT(Planungsübersicht!$F120="Umsetzung nicht möglich")), Planungsübersicht!G120," ") -> Frau Twesten | G27: =IF(AND(Planungsübersicht!$E120>1990,TYPE(Planungsübersicht!$E120)=1,NOT(Planungsübersicht!$F120="Umsetzung nicht möglich")), Planungsübersicht!H120," ") -> HSM/Lehrer | H27: =IF(AND(Planungsübersicht!$E120>1990,TYPE(Planungsübersicht!$E120)=1,NOT(Planungsübersicht!$F120="Umsetzung nicht möglich")), MAX(Planungsübersicht!I120:Z120)," ") -> 2100
B28: =IF(AND(Planungsübersicht!$E236>1990,TYPE(Planungsübersicht!$E236)=1,NOT(Planungsübersicht!$F236="Umsetzung nicht möglich")), Planungsübersicht!C236," ") -> E3 | C28: =IF(AND(Planungsübersicht!$E236>1990,TYPE(Planungsübersicht!$E236)=1,NOT(Planungsübersicht!$F236="Umsetzung nicht möglich")), Planungsübersicht!D236," ") -> "Besonderes“ Frühstück für Klasse 1: Neue leckere Snacks probieren | D28: =IF(AND(Planungsübersicht!$E236>1990,TYPE(Planungsübersicht!$E236)=1,NOT(Planungsübersicht!$F236="Umsetzung nicht möglich")), Planungsübersicht!E236," ") -> 2011 | E28: =IF(AND(Planungsübersicht!$E236>1990,TYPE(Planungsübersicht!$E236)=1,NOT(Planungsübersicht!$F236="Umsetzung nicht möglich")), Planungsübersicht!F236," ") -> umgesetzt | F28: =IF(AND(Planungsübersicht!$E236>1990,TYPE(Planungsübersicht!$E236)=1,NOT(Planungsübersicht!$F236="Umsetzung nicht möglich")), Planungsübersicht!G236," ") -> Frau Boltz | G28: =IF(AND(Planungsübersicht!$E236>1990,TYPE(Planungsübersicht!$E236)=1,NOT(Planungsübersicht!$F236="Umsetzung nicht möglich")), Planungsübersicht!H236," ") -> FrühstückshelferInnen aus der Elternschaft | H28: =IF(AND(Planungsübersicht!$E236>1990,TYPE(Planungsübersicht!$E236)=1,NOT(Planungsübersicht!$F236="Umsetzung nicht möglich")), MAX(Planungsübersicht!I236:Z236)," ") -> 0
B29: =IF(AND(Planungsübersicht!$E28>1990,TYPE(Planungsübersicht!$E28)=1,NOT(Planungsübersicht!$F28="Umsetzung nicht möglich")), Planungsübersicht!C28," ") -> Ü1 | C29: =IF(AND(Planungsübersicht!$E28>1990,TYPE(Planungsübersicht!$E28)=1,NOT(Planungsübersicht!$F28="Umsetzung nicht möglich")), Planungsübersicht!D28," ") -> jährlicher Klimaschutztag mit Themenschwerpunkten | D29: =IF(AND(Planungsübersicht!$E28>1990,TYPE(Planungsübersicht!$E28)=1,NOT(Planungsübersicht!$F28="Umsetzung nicht möglich")), Planungsübersicht!E28," ") -> 2012 | E29: =IF(AND(Planungsübersicht!$E28>1990,TYPE(Planungsübersicht!$E28)=1,NOT(Planungsübersicht!$F28="Umsetzung nicht möglich")), Planungsübersicht!F28," ") -> wird laufend umgesetzt | F29: =IF(AND(Planungsübersicht!$E28>1990,TYPE(Planungsübersicht!$E28)=1,NOT(Planungsübersicht!$F28="Umsetzung nicht möglich")), Planungsübersicht!G28," ") -> Frau Schmalenbach | G29: =IF(AND(Planungsübersicht!$E28>1990,TYPE(Planungsübersicht!$E28)=1,NOT(Planungsübersicht!$F28="Umsetzung nicht möglich")), Planungsübersicht!H28," ") -> Klimagruppe, Kollegium, Eltern, außerschulische Einrichtungen | H29: =IF(AND(Planungsübersicht!$E28>1990,TYPE(Planungsübersicht!$E28)=1,NOT(Planungsübersicht!$F28="Umsetzung nicht möglich")), MAX(Planungsübersicht!I28:Z28)," ") -> 0
B30: =IF(AND(Planungsübersicht!$E38>1990,TYPE(Planungsübersicht!$E38)=1,NOT(Planungsübersicht!$F38="Umsetzung nicht möglich")), Planungsübersicht!C38," ") -> Ü6 | C30: =IF(AND(Planungsübersicht!$E38>1990,TYPE(Planungsübersicht!$E38)=1,NOT(Planungsübersicht!$F38="Umsetzung nicht möglich")), Planungsübersicht!D38," ") -> Einbindung der TSG Bergedorf bei der Umsetzung des Klimaplans | D30: =IF(AND(Planungsübersicht!$E38>1990,TYPE(Planungsübersicht!$E38)=1,NOT(Planungsübersicht!$F38="Umsetzung nicht möglich")), Planungsübersicht!E38," ") -> 2012 | E30: =IF(AND(Planungsübersicht!$E38>1990,TYPE(Planungsübersicht!$E38)=1,NOT(Planungsübersicht!$F38="Umsetzung nicht möglich")), Planungsübersicht!F38," ") -> in Umsetzung (Mitte) | F30: =IF(AND(Planungsübersicht!$E38>1990,TYPE(Planungsübersicht!$E38)=1,NOT(Planungsübersicht!$F38="Umsetzung nicht möglich")), Planungsübersicht!G38," ") -> Frau Bodo (GBS-Koordinatorin) | G30: =IF(AND(Planungsübersicht!$E38>1990,TYPE(Planungsübersicht!$E38)=1,NOT(Planungsübersicht!$F38="Umsetzung nicht möglich")), Planungsübersicht!H38," ") -> SL?, Frau Bodo, GBS-Leitung | H30: =IF(AND(Planungsübersicht!$E38>1990,TYPE(Planungsübersicht!$E38)=1,NOT(Planungsübersicht!$F38="Umsetzung nicht möglich")), MAX(Planungsübersicht!I38:Z38)," ") -> 0
B31: =IF(AND(Planungsübersicht!$E238>1990,TYPE(Planungsübersicht!$E238)=1,NOT(Planungsübersicht!$F238="Umsetzung nicht möglich")), Planungsübersicht!C238," ") -> E4 | C31: =IF(AND(Planungsübersicht!$E238>1990,TYPE(Planungsübersicht!$E238)=1,NOT(Planungsübersicht!$F238="Umsetzung nicht möglich")), Planungsübersicht!D238," ") -> Verankerung des Themas „Regionales Obst und Gemüse“ im zu überarbeitenden Stoffverteilungsplan Sachunterricht | D31: =IF(AND(Planungsübersicht!$E238>1990,TYPE(Planungsübersicht!$E238)=1,NOT(Planungsübersicht!$F238="Umsetzung nicht möglich")), Planungsübersicht!E238," ") -> 2012 | E31: =IF(AND(Planungsübersicht!$E238>1990,TYPE(Planungsübersicht!$E238)=1,NOT(Planungsübersicht!$F238="Umsetzung nicht möglich")), Planungsübersicht!F238," ") -> umgesetzt | F31: =IF(AND(Planungsübersicht!$E238>1990,TYPE(Planungsübersicht!$E238)=1,NOT(Planungsübersicht!$F238="Umsetzung nicht möglich")), Planungsübersicht!G238," ") -> Fachkonferenz | G31: =IF(AND(Planungsübersicht!$E238>1990,TYPE(Planungsübersicht!$E238)=1,NOT(Planungsübersicht!$F238="Umsetzung nicht möglich")), Planungsübersicht!H238," ") -> Fachlehrer | H31: =IF(AND(Planungsübersicht!$E238>1990,TYPE(Planungsübersicht!$E238)=1,NOT(Planungsübersicht!$F238="Umsetzung nicht möglich")), MAX(Planungsübersicht!I238:Z238)," ") -> 0
B32: =IF(AND(Planungsübersicht!$E240>1990,TYPE(Planungsübersicht!$E240)=1,NOT(Planungsübersicht!$F240="Umsetzung nicht möglich")), Planungsübersicht!C240," ") -> E5 | C32: =IF(AND(Planungsübersicht!$E240>1990,TYPE(Planungsübersicht!$E240)=1,NOT(Planungsübersicht!$F240="Umsetzung nicht möglich")), Planungsübersicht!D240," ") -> einmal wöchentlich ein Rohkosttag | D32: =IF(AND(Planungsübersicht!$E240>1990,TYPE(Planungsübersicht!$E240)=1,NOT(Planungsübersicht!$F240="Umsetzung nicht möglich")), Planungsübersicht!E240," ") -> 2012 | E32: =IF(AND(Planungsübersicht!$E240>1990,TYPE(Planungsübersicht!$E240)=1,NOT(Planungsübersicht!$F240="Umsetzung nicht möglich")), Planungsübersicht!F240," ") -> wird laufend umgesetzt | F32: =IF(AND(Planungsübersicht!$E240>1990,TYPE(Planungsübersicht!$E240)=1,NOT(Planungsübersicht!$F240="Umsetzung nicht möglich")), Planungsübersicht!G240," ") -> SL | G32: =IF(AND(Planungsübersicht!$E240>1990,TYPE(Planungsübersicht!$E240)=1,NOT(Planungsübersicht!$F240="Umsetzung nicht möglich")), Planungsübersicht!H240," ") -> FrühstückshelferInnen aus der Elternschaft | H32: =IF(AND(Planungsübersicht!$E240>1990,TYPE(Planungsübersicht!$E240)=1,NOT(Planungsübersicht!$F240="Umsetzung nicht möglich")), MAX(Planungsübersicht!I240:Z240)," ") -> 0
B33: =IF(AND(Planungsübersicht!$E134>1990,TYPE(Planungsübersicht!$E134)=1,NOT(Planungsübersicht!$F134="Umsetzung nicht möglich")), Planungsübersicht!C134," ") -> S8 | C33: =IF(AND(Planungsübersicht!$E134>1990,TYPE(Planungsübersicht!$E134)=1,NOT(Planungsübersicht!$F134="Umsetzung nicht möglich")), Planungsübersicht!D134," ") -> gezielte Lichtsteuerung über Computer für die Mehrzweckhalle, Reduzierung von Strom | D33: =IF(AND(Planungsübersicht!$E134>1990,TYPE(Planungsübersicht!$E134)=1,NOT(Planungsübersicht!$F134="Umsetzung nicht möglich")), Planungsübersicht!E134," ") -> 2013 | E33: =IF(AND(Planungsübersicht!$E134>1990,TYPE(Planungsübersicht!$E134)=1,NOT(Planungsübersicht!$F134="Umsetzung nicht möglich")), Planungsübersicht!F134," ") -> umgesetzt | F33: =IF(AND(Planungsübersicht!$E134>1990,TYPE(Planungsübersicht!$E134)=1,NOT(Planungsübersicht!$F134="Umsetzung nicht möglich")), Planungsübersicht!G134," ") -> SL, HSM | G33: =IF(AND(Planungsübersicht!$E134>1990,TYPE(Planungsübersicht!$E134)=1,NOT(Planungsübersicht!$F134="Umsetzung nicht möglich")), Planungsübersicht!H134," ") -> HSM | H33: =IF(AND(Planungsübersicht!$E134>1990,TYPE(Planungsübersicht!$E134)=1,NOT(Planungsübersicht!$F134="Umsetzung nicht möglich")), MAX(Planungsübersicht!I134:Z134)," ") -> 1000
B34: =IF(AND(Planungsübersicht!$E160>1990,TYPE(Planungsübersicht!$E160)=1,NOT(Planungsübersicht!$F160="Umsetzung nicht möglich")), Planungsübersicht!C160," ") -> A3 | C34: =IF(AND(Planungsübersicht!$E160>1990,TYPE(Planungsübersicht!$E160)=1,NOT(Planungsübersicht!$F160="Umsetzung nicht möglich")), Planungsübersicht!D160," ") -> Papier wird getrennt gesammelt (Richtige Trennung von Papier und Restmüll) | D34: =IF(AND(Planungsübersicht!$E160>1990,TYPE(Planungsübersicht!$E160)=1,NOT(Planungsübersicht!$F160="Umsetzung nicht möglich")), Planungsübersicht!E160," ") -> 2013 | E34: =IF(AND(Planungsübersicht!$E160>1990,TYPE(Planungsübersicht!$E160)=1,NOT(Planungsübersicht!$F160="Umsetzung nicht möglich")), Planungsübersicht!F160," ") -> wird laufend umgesetzt | F34: =IF(AND(Planungsübersicht!$E160>1990,TYPE(Planungsübersicht!$E160)=1,NOT(Planungsübersicht!$F160="Umsetzung nicht möglich")), Planungsübersicht!G160," ") -> Herr Jobst und Müllamt | G34: =IF(AND(Planungsübersicht!$E160>1990,TYPE(Planungsübersicht!$E160)=1,NOT(Planungsübersicht!$F160="Umsetzung nicht möglich")), Planungsübersicht!H160," ") -> alle | H34: =IF(AND(Planungsübersicht!$E160>1990,TYPE(Planungsübersicht!$E160)=1,NOT(Planungsübersicht!$F160="Umsetzung nicht möglich")), MAX(Planungsübersicht!I160:Z160)," ") -> 0
B35: =IF(AND(Planungsübersicht!$E170>1990,TYPE(Planungsübersicht!$E170)=1,NOT(Planungsübersicht!$F170="Umsetzung nicht möglich")), Planungsübersicht!C170," ") -> A8 | C35: =IF(AND(Planungsübersicht!$E170>1990,TYPE(Planungsübersicht!$E170)=1,NOT(Planungsübersicht!$F170="Umsetzung nicht möglich")), Planungsübersicht!D170," ") -> Gebrauchsgegenstände und Spielzeug aus Abfall | D35: =IF(AND(Planungsübersicht!$E170>1990,TYPE(Planungsübersicht!$E170)=1,NOT(Planungsübersicht!$F170="Umsetzung nicht möglich")), Planungsübersicht!E170," ") -> 2013 | E35: =IF(AND(Planungsübersicht!$E170>1990,TYPE(Planungsübersicht!$E170)=1,NOT(Planungsübersicht!$F170="Umsetzung nicht möglich")), Planungsübersicht!F170," ") -> umgesetzt | F35: =IF(AND(Planungsübersicht!$E170>1990,TYPE(Planungsübersicht!$E170)=1,NOT(Planungsübersicht!$F170="Umsetzung nicht möglich")), Planungsübersicht!G170," ") -> Frau Boltz, Frau Twesten, Fachlehrer | G35: =IF(AND(Planungsübersicht!$E170>1990,TYPE(Planungsübersicht!$E170)=1,NOT(Planungsübersicht!$F170="Umsetzung nicht möglich")), Planungsübersicht!H170," ") -> Stufe 3/4 | H35: =IF(AND(Planungsübersicht!$E170>1990,TYPE(Planungsübersicht!$E170)=1,NOT(Planungsübersicht!$F170="Umsetzung nicht möglich")), MAX(Planungsübersicht!I170:Z170)," ") -> 0
B36: =IF(AND(Planungsübersicht!$E174>1990,TYPE(Planungsübersicht!$E174)=1,NOT(Planungsübersicht!$F174="Umsetzung nicht möglich")), Planungsübersicht!C174," ") -> A10 | C36: =IF(AND(Planungsübersicht!$E174>1990,TYPE(Planungsübersicht!$E174)=1,NOT(Planungsübersicht!$F174="Umsetzung nicht möglich")), Planungsübersicht!D174," ") -> Einrichten einer Korkensammelstelle | D36: =IF(AND(Planungsübersicht!$E174>1990,TYPE(Planungsübersicht!$E174)=1,NOT(Planungsübersicht!$F174="Umsetzung nicht möglich")), Planungsübersicht!E174," ") -> 2013 | E36: =IF(AND(Planungsübersicht!$E174>1990,TYPE(Planungsübersicht!$E174)=1,NOT(Planungsübersicht!$F174="Umsetzung nicht möglich")), Planungsübersicht!F174," ") -> umgesetzt | F36: =IF(AND(Planungsübersicht!$E174>1990,TYPE(Planungsübersicht!$E174)=1,NOT(Planungsübersicht!$F174="Umsetzung nicht möglich")), Planungsübersicht!G174," ") -> Frau Wahjudi | G36: =IF(AND(Planungsübersicht!$E174>1990,TYPE(Planungsübersicht!$E174)=1,NOT(Planungsübersicht!$F174="Umsetzung nicht möglich")), Planungsübersicht!H174," ") -> Schulgemeinschaft | H36: =IF(AND(Planungsübersicht!$E174>1990,TYPE(Planungsübersicht!$E174)=1,NOT(Planungsübersicht!$F174="Umsetzung nicht möglich")), MAX(Planungsübersicht!I174:Z174)," ") -> 0
B37: =IF(AND(Planungsübersicht!$E176>1990,TYPE(Planungsübersicht!$E176)=1,NOT(Planungsübersicht!$F176="Umsetzung nicht möglich")), Planungsübersicht!C176," ") -> A11 | C37: =IF(AND(Planungsübersicht!$E176>1990,TYPE(Planungsübersicht!$E176)=1,NOT(Planungsübersicht!$F176="Umsetzung nicht möglich")), Planungsübersicht!D176," ") -> Einrichten einer Druckpatronen-Sammelstelle | D37: =IF(AND(Planungsübersicht!$E176>1990,TYPE(Planungsübersicht!$E176)=1,NOT(Planungsübersicht!$F176="Umsetzung nicht möglich")), Planungsübersicht!E176," ") -> 2013 | E37: =IF(AND(Planungsübersicht!$E176>1990,TYPE(Planungsübersicht!$E176)=1,NOT(Planungsübersicht!$F176="Umsetzung nicht möglich")), Planungsübersicht!F176," ") -> umgesetzt | F37: =IF(AND(Planungsübersicht!$E176>1990,TYPE(Planungsübersicht!$E176)=1,NOT(Planungsübersicht!$F176="Umsetzung nicht möglich")), Planungsübersicht!G176," ") -> Frau Twesten | G37: =IF(AND(Planungsübersicht!$E176>1990,TYPE(Planungsübersicht!$E176)=1,NOT(Planungsübersicht!$F176="Umsetzung nicht möglich")), Planungsübersicht!H176," ") -> Schulgemeinschaft | H37: =IF(AND(Planungsübersicht!$E176>1990,TYPE(Planungsübersicht!$E176)=1,NOT(Planungsübersicht!$F176="Umsetzung nicht möglich")), MAX(Planungsübersicht!I176:Z176)," ") -> 0
B38: =IF(AND(Planungsübersicht!$E180>1990,TYPE(Planungsübersicht!$E180)=1,NOT(Planungsübersicht!$F180="Umsetzung nicht möglich")), Planungsübersicht!C180," ") -> A13 | C38: =IF(AND(Planungsübersicht!$E180>1990,TYPE(Planungsübersicht!$E180)=1,NOT(Planungsübersicht!$F180="Umsetzung nicht möglich")), Planungsübersicht!D180," ") -> Neu 2013: Stufenprojekt "Müll" | D38: =IF(AND(Planungsübersicht!$E180>1990,TYPE(Planungsübersicht!$E180)=1,NOT(Planungsübersicht!$F180="Umsetzung nicht möglich")), Planungsübersicht!E180," ") -> 2013 | E38: =IF(AND(Planungsübersicht!$E180>1990,TYPE(Planungsübersicht!$E180)=1,NOT(Planungsübersicht!$F180="Umsetzung nicht möglich")), Planungsübersicht!F180," ") -> umgesetzt | F38: =IF(AND(Planungsübersicht!$E180>1990,TYPE(Planungsübersicht!$E180)=1,NOT(Planungsübersicht!$F180="Umsetzung nicht möglich")), Planungsübersicht!G180," ") -> Fach- und Klassenlehrerinnen der Stufe 2 | G38: =IF(AND(Planungsübersicht!$E180>1990,TYPE(Planungsübersicht!$E180)=1,NOT(Planungsübersicht!$F180="Umsetzung nicht möglich")), Planungsübersicht!H180," ") -> Schüler der Klassenstufe 2 | H38: =IF(AND(Planungsübersicht!$E180>1990,TYPE(Planungsübersicht!$E180)=1,NOT(Planungsübersicht!$F180="Umsetzung nicht möglich")), MAX(Planungsübersicht!I180:Z180)," ") -> 0
